BEGIN:VCALENDAR
VERSION:2.0
PRODID:-//AFK Games - ECPv6.15.20//NONSGML v1.0//EN
CALSCALE:GREGORIAN
METHOD:PUBLISH
X-ORIGINAL-URL:https://afk.games
X-WR-CALDESC:Events for AFK Games
REFRESH-INTERVAL;VALUE=DURATION:PT1H
X-Robots-Tag:noindex
X-PUBLISHED-TTL:PT1H
BEGIN:VTIMEZONE
TZID:America/Detroit
BEGIN:DAYLIGHT
TZOFFSETFROM:-0500
TZOFFSETTO:-0400
TZNAME:EDT
DTSTART:20230312T070000
END:DAYLIGHT
BEGIN:STANDARD
TZOFFSETFROM:-0400
TZOFFSETTO:-0500
TZNAME:EST
DTSTART:20231105T060000
END:STANDARD
BEGIN:DAYLIGHT
TZOFFSETFROM:-0500
TZOFFSETTO:-0400
TZNAME:EDT
DTSTART:20240310T070000
END:DAYLIGHT
BEGIN:STANDARD
TZOFFSETFROM:-0400
TZOFFSETTO:-0500
TZNAME:EST
DTSTART:20241103T060000
END:STANDARD
BEGIN:DAYLIGHT
TZOFFSETFROM:-0500
TZOFFSETTO:-0400
TZNAME:EDT
DTSTART:20250309T070000
END:DAYLIGHT
BEGIN:STANDARD
TZOFFSETFROM:-0400
TZOFFSETTO:-0500
TZNAME:EST
DTSTART:20251102T060000
END:STANDARD
END:VTIMEZONE
BEGIN:VEVENT
DTSTART;TZID=America/Detroit:20240303T130000
DTEND;TZID=America/Detroit:20240303T170000
DTSTAMP:20260422T225059
CREATED:20230906T214824Z
LAST-MODIFIED:20241212T203942Z
UID:10001835-1709470800-1709485200@afk.games
SUMMARY:Lorcana League
DESCRIPTION:Join us for our Lorcana League every Sunday at 1:00 pm!
URL:https://afk.games/event/lorcana-open-play/2024-03-03/
LOCATION:AFK Games\, 2495 Cedar Street STE 14-B\, Holt\, MI\, 48842\, United States
CATEGORIES:Events,Lorcana,Ravensburger
ORGANIZER;CN="AFK Games":MAILTO:support@afk-games.com
END:VEVENT
BEGIN:VEVENT
DTSTART;TZID=America/Detroit:20240303T130000
DTEND;TZID=America/Detroit:20240303T170000
DTSTAMP:20260422T225059
CREATED:20260101T205413Z
LAST-MODIFIED:20260101T205413Z
UID:10005370-1709470800-1709485200@afk.games
SUMMARY:Lorcana League
DESCRIPTION:Join us for our Lorcana League every Sunday at 1:00 pm!
URL:https://afk.games/event/lorcana-league/2024-03-03/
LOCATION:AFK Games\, 2495 Cedar Street STE 14-B\, Holt\, MI\, 48842\, United States
CATEGORIES:Events,Lorcana,Ravensburger
ORGANIZER;CN="AFK Games":MAILTO:support@afk-games.com
END:VEVENT
BEGIN:VEVENT
DTSTART;TZID=America/Detroit:20240304T170000
DTEND;TZID=America/Detroit:20240304T220000
DTSTAMP:20260422T225059
CREATED:20260101T204539Z
LAST-MODIFIED:20260101T204539Z
UID:10004977-1709571600-1709589600@afk.games
SUMMARY:Monday Night Commander
DESCRIPTION:Every Monday night AFK Games hosts open MTG Commander play!\nNo entry to play\, and each week you enter into your Eventlink event you get entered into a monthly raffle for cool prizes! Such as collector packs\, deck boxes\, sleeves\, old marketing material\, etc..
URL:https://afk.games/event/monday-night-commander-13/2024-03-04/
LOCATION:AFK Games\, 2495 Cedar Street STE 14-B\, Holt\, MI\, 48842\, United States
CATEGORIES:Commander,Events,Magic: The Gathering
ORGANIZER;CN="AFK Games":MAILTO:support@afk-games.com
END:VEVENT
BEGIN:VEVENT
DTSTART;TZID=America/Detroit:20240304T183000
DTEND;TZID=America/Detroit:20240304T213000
DTSTAMP:20260422T225059
CREATED:20221220T022137Z
LAST-MODIFIED:20240321T193839Z
UID:10002313-1709577000-1709587800@afk.games
SUMMARY:Blood Bowl
DESCRIPTION:Join us for our ongoing Blood Bowl League! or even get yourself a demo game.
URL:https://afk.games/event/blood-bowl/2024-03-04/
LOCATION:AFK Games\, 2495 Cedar Street STE 14-B\, Holt\, MI\, 48842\, United States
CATEGORIES:Blood Bowl,Games Workshop
ORGANIZER;CN="AFK Games":MAILTO:support@afk-games.com
END:VEVENT
BEGIN:VEVENT
DTSTART;TZID=America/Detroit:20240305T183000
DTEND;TZID=America/Detroit:20240305T213000
DTSTAMP:20260422T225059
CREATED:20231217T210536Z
LAST-MODIFIED:20231217T210536Z
UID:10002135-1709663400-1709674200@afk.games
SUMMARY:One Piece TCG - Store Tournament vol.5
DESCRIPTION:Bo1 Swiss 35 min rounds + 5 minutes of extra time \nEntry: $5 \nPrizing:\n1st – Winner pack\nTop 8 – one tournament pack
URL:https://afk.games/event/one-piece-tcg-store-tournament-vol-5-2/2024-03-05/
LOCATION:AFK Games\, 2495 Cedar Street STE 14-B\, Holt\, MI\, 48842\, United States
CATEGORIES:Bandai,Events,One Piece TCG
ORGANIZER;CN="AFK Games":MAILTO:support@afk-games.com
END:VEVENT
BEGIN:VEVENT
DTSTART;TZID=America/Detroit:20240306T180000
DTEND;TZID=America/Detroit:20240306T210000
DTSTAMP:20260422T225059
CREATED:20221119T010216Z
LAST-MODIFIED:20260122T224620Z
UID:10005667-1709748000-1709758800@afk.games
SUMMARY:Open Skirmish Games
DESCRIPTION:Have an itch to play some skirmish games like Warhammer 40K: Kill Team\, Necromunda\, Warcry\, etc? Well on Tuesday nights we got you covered! Come on down and play some of your favorite small scale miniature games\, or even try out a new one!
URL:https://afk.games/event/open-skirmish-games/2024-03-06/
LOCATION:AFK Games\, 2495 Cedar Street STE 14-B\, Holt\, MI\, 48842\, United States
CATEGORIES:Events,Games Workshop,Kill Team,Killwager,Warhammer 40K
ORGANIZER;CN="AFK Games":MAILTO:support@afk-games.com
END:VEVENT
BEGIN:VEVENT
DTSTART;TZID=America/Detroit:20240307T180000
DTEND;TZID=America/Detroit:20240307T210000
DTSTAMP:20260422T225059
CREATED:20240530T182508Z
LAST-MODIFIED:20241219T201920Z
UID:10002886-1709834400-1709845200@afk.games
SUMMARY:Lansing Chess Club meeting
DESCRIPTION:Join us for the Lansing Chess Club’s weekly gathering every Thursday at 6:00 pm at AFK Games in Holt\, MI. Whether you’re a seasoned player or new to the game\, this is the perfect opportunity to challenge yourself\, meet fellow chess enthusiasts\, and improve your skills in a friendly and welcoming environment. All ages and skill levels are welcome!
URL:https://afk.games/event/lansing-chess-club-meeting-11/2024-03-07/
LOCATION:AFK Games\, 2495 Cedar Street STE 14-B\, Holt\, MI\, 48842\, United States
CATEGORIES:Events
ORGANIZER;CN="AFK Games":MAILTO:support@afk-games.com
END:VEVENT
BEGIN:VEVENT
DTSTART;TZID=America/Detroit:20240308T183000
DTEND;TZID=America/Detroit:20240308T220000
DTSTAMP:20260422T225059
CREATED:20220728T215755Z
LAST-MODIFIED:20250918T023011Z
UID:10002207-1709922600-1709935200@afk.games
SUMMARY:MTG Modern FNM
DESCRIPTION:AFK Games hosts weekly Modern Friday Night Magic (FNM) tournaments starting at 6:30 pm!\nEntry is $10 \nPrize out is based on record. Capped at 4 rounds. \n4-0-0 = $60\n3-0-1 = $40\n3-1-0 = $20\n2-1-1 = $10 \nEach player will each be able to pick from a pool of promo pack promos in reverse standings order.
URL:https://afk.games/event/mtg-modern-fnm-10/2024-03-08/
LOCATION:AFK Games\, 2495 Cedar Street STE 14-B\, Holt\, MI\, 48842\, United States
CATEGORIES:Events,Magic: The Gathering,Modern
ORGANIZER;CN="AFK Games":MAILTO:support@afk-games.com
END:VEVENT
BEGIN:VEVENT
DTSTART;TZID=America/Detroit:20240308T183000
DTEND;TZID=America/Detroit:20240308T220000
DTSTAMP:20260422T225059
CREATED:20260101T204727Z
LAST-MODIFIED:20260101T204727Z
UID:10005199-1709922600-1709935200@afk.games
SUMMARY:MTG Modern FNM
DESCRIPTION:AFK Games hosts weekly Modern Friday Night Magic (FNM) tournaments starting at 6:30 pm!\nEntry is $10 \nPrize out is based on record. Capped at 4 rounds. \n4-0-0 = $60\n3-0-1 = $40\n3-1-0 = $20\n2-1-1 = $10 \nEach player will each be able to pick from a pool of promo pack promos in reverse standings order.
URL:https://afk.games/event/mtg-modern-fnm-11/2024-03-08/
LOCATION:AFK Games\, 2495 Cedar Street STE 14-B\, Holt\, MI\, 48842\, United States
CATEGORIES:Events,Magic: The Gathering,Modern
ORGANIZER;CN="AFK Games":MAILTO:support@afk-games.com
END:VEVENT
BEGIN:VEVENT
DTSTART;TZID=America/Detroit:20240309T100000
DTEND;TZID=America/Detroit:20240309T190000
DTSTAMP:20260422T225059
CREATED:20240215T234936Z
LAST-MODIFIED:20240217T222228Z
UID:10002386-1709978400-1710010800@afk.games
SUMMARY:Dreamhack RCQ - Standard - 2-Slot
DESCRIPTION:We will be playing Swiss rounds followed by a cut to the top 8 based on attendance. The final round count will be announced during the player meeting.  \nTickets can be purchased on our website or in person    \nor on MTGMelee: https://melee.gg/Tournament/View/61624 \nWe prefer that you use our site and then we can add you to MTGMelee to submit decklists if you provide your MTGMelee email when purchasing your ticket on shop.afk.games. \nRegistration: $30 \nDoors will open at 9:30 am\, with registration ending at 9:55 am. The player meeting will commence at 10:00 am with our judge\, followed by the start of round 1. \nPrinted/written/online submitted decklists will be required to be given to the head judge during the player meeting at 10:00 am. Decklists can be submitted online on MTGMelee. (Melee Link). \n  \nTournament Schedule\nDoors will open at 9:30 am\nRegistration ends at 9:55 am. \nThe player meeting will commence at 10:00 am with our head judge Nick Babcock\, followed by the start of round 1. \nPrizes:\n1st – 30% of Store Credit pool + Exclusive Promo + Top 8 promo + RCQ Invite\n2nd – 20% of Store Credit pool + Exclusive Promo + Top 8 promo + RCQ Invite\n3/4th – 10% of Store Credit pool + Top 8 promo\n5-8th – 7.5% of Store Credit pool + Top 8 promo \nThe first 64 players will receive an RCQ promo. \nStore credit prizes will be scaled with attendance. But are the 32 and 64-player milestones will be: \n32 players: $780\n64 players: $2100
URL:https://afk.games/event/dreamhack-rcq-standard-2-slot/
LOCATION:AFK Games\, 2495 Cedar Street STE 14-B\, Holt\, MI\, 48842\, United States
CATEGORIES:Events,Magic: The Gathering,RCQ,Standard
ORGANIZER;CN="AFK Games":MAILTO:support@afk-games.com
END:VEVENT
BEGIN:VEVENT
DTSTART;TZID=America/Detroit:20240309T123000
DTEND;TZID=America/Detroit:20240309T150000
DTSTAMP:20260422T225059
CREATED:20231217T205952Z
LAST-MODIFIED:20231217T210118Z
UID:10002016-1709987400-1709996400@afk.games
SUMMARY:One Piece TCG - Store Tournament vol.5
DESCRIPTION:Bo1 Swiss 35 min rounds + 5 minutes of extra time \nEntry:\n1x OP-05 Pack \nPrizing:\n1st – Winner pack\nTop 8 – one tournament pack \n$7 Per head will be used to build the league pot – This pot will be distributed to the top 25% per ranking  \nleaderboard at the end of the league season (OP06 + TP + Winner Packs Will Be In The POT) \nCurrent standing can be found at: https://afkgames.challonge.com/OP05?round=0 \nHow to earn league points for league ranking: \nWin a match – 3 Points\nLose a match – 1 Point\nDraw – 1 Point\nParticipate in the league – 1 Point\nBring someone new to the league – 3 Points \n*ALL PRIZING SUBJECT TO CHANGE*
URL:https://afk.games/event/one-piece-tcg-store-tournament-vol-5/2024-03-09/
LOCATION:AFK Games\, 2495 Cedar Street STE 14-B\, Holt\, MI\, 48842\, United States
CATEGORIES:Bandai,Events,One Piece TCG
ORGANIZER;CN="AFK Games":MAILTO:support@afk-games.com
END:VEVENT
BEGIN:VEVENT
DTSTART;TZID=America/Detroit:20240309T130000
DTEND;TZID=America/Detroit:20240309T180000
DTSTAMP:20260422T225059
CREATED:20240208T221013Z
LAST-MODIFIED:20240208T221013Z
UID:10002381-1709989200-1710007200@afk.games
SUMMARY:Commander Launch Party: Fallout
DESCRIPTION:Taking place on release weekend\, Commander Launch Party is all about celebrating Magic: The Gathering – Fallout with Commander play. Players can pick up a pre-constructed Magic: The Gathering – Fallout deck in-store and play in at least one casual game to receive a participation promo card. Players may purchase and play with multiple decks to receive multiple promos.\nCommander Launch Party is a great opportunity for players who look forward to the excitement of checking out the cards and playing Commander with friends. \n\nFormat: Commander\nRules Enforcement Level: Casual\nPairing Method: Player-List Only\nPromo Support:\n– Participation promo
URL:https://afk.games/event/commander-launch-party-fallout/
LOCATION:AFK Games\, 2495 Cedar Street STE 14-B\, Holt\, MI\, 48842\, United States
CATEGORIES:Commander,Events,Magic: The Gathering
ORGANIZER;CN="AFK Games":MAILTO:support@afk-games.com
END:VEVENT
END:VCALENDAR