BEGIN:VCALENDAR
VERSION:2.0
PRODID:-//AFK Games - ECPv6.15.20//NONSGML v1.0//EN
CALSCALE:GREGORIAN
METHOD:PUBLISH
X-ORIGINAL-URL:https://afk.games
X-WR-CALDESC:Events for AFK Games
REFRESH-INTERVAL;VALUE=DURATION:PT1H
X-Robots-Tag:noindex
X-PUBLISHED-TTL:PT1H
BEGIN:VTIMEZONE
TZID:America/Detroit
BEGIN:DAYLIGHT
TZOFFSETFROM:-0500
TZOFFSETTO:-0400
TZNAME:EDT
DTSTART:20230312T070000
END:DAYLIGHT
BEGIN:STANDARD
TZOFFSETFROM:-0400
TZOFFSETTO:-0500
TZNAME:EST
DTSTART:20231105T060000
END:STANDARD
BEGIN:DAYLIGHT
TZOFFSETFROM:-0500
TZOFFSETTO:-0400
TZNAME:EDT
DTSTART:20240310T070000
END:DAYLIGHT
BEGIN:STANDARD
TZOFFSETFROM:-0400
TZOFFSETTO:-0500
TZNAME:EST
DTSTART:20241103T060000
END:STANDARD
BEGIN:DAYLIGHT
TZOFFSETFROM:-0500
TZOFFSETTO:-0400
TZNAME:EDT
DTSTART:20250309T070000
END:DAYLIGHT
BEGIN:STANDARD
TZOFFSETFROM:-0400
TZOFFSETTO:-0500
TZNAME:EST
DTSTART:20251102T060000
END:STANDARD
END:VTIMEZONE
BEGIN:VEVENT
DTSTART;TZID=America/Detroit:20240211T130000
DTEND;TZID=America/Detroit:20240211T170000
DTSTAMP:20260422T180734
CREATED:20230906T214824Z
LAST-MODIFIED:20241212T203942Z
UID:10001832-1707656400-1707670800@afk.games
SUMMARY:Lorcana League
DESCRIPTION:Join us for our Lorcana League every Sunday at 1:00 pm!
URL:https://afk.games/event/lorcana-open-play/2024-02-11/
LOCATION:AFK Games\, 2495 Cedar Street STE 14-B\, Holt\, MI\, 48842\, United States
CATEGORIES:Events,Lorcana,Ravensburger
ORGANIZER;CN="AFK Games":MAILTO:support@afk-games.com
END:VEVENT
BEGIN:VEVENT
DTSTART;TZID=America/Detroit:20240211T130000
DTEND;TZID=America/Detroit:20240211T170000
DTSTAMP:20260422T180734
CREATED:20260101T205413Z
LAST-MODIFIED:20260101T205413Z
UID:10005367-1707656400-1707670800@afk.games
SUMMARY:Lorcana League
DESCRIPTION:Join us for our Lorcana League every Sunday at 1:00 pm!
URL:https://afk.games/event/lorcana-league/2024-02-11/
LOCATION:AFK Games\, 2495 Cedar Street STE 14-B\, Holt\, MI\, 48842\, United States
CATEGORIES:Events,Lorcana,Ravensburger
ORGANIZER;CN="AFK Games":MAILTO:support@afk-games.com
END:VEVENT
BEGIN:VEVENT
DTSTART;TZID=America/Detroit:20240212T170000
DTEND;TZID=America/Detroit:20240212T220000
DTSTAMP:20260422T180734
CREATED:20260101T204539Z
LAST-MODIFIED:20260101T204539Z
UID:10004974-1707757200-1707775200@afk.games
SUMMARY:Monday Night Commander
DESCRIPTION:Every Monday night AFK Games hosts open MTG Commander play!\nNo entry to play\, and each week you enter into your Eventlink event you get entered into a monthly raffle for cool prizes! Such as collector packs\, deck boxes\, sleeves\, old marketing material\, etc..
URL:https://afk.games/event/monday-night-commander-13/2024-02-12/
LOCATION:AFK Games\, 2495 Cedar Street STE 14-B\, Holt\, MI\, 48842\, United States
CATEGORIES:Commander,Events,Magic: The Gathering
ORGANIZER;CN="AFK Games":MAILTO:support@afk-games.com
END:VEVENT
BEGIN:VEVENT
DTSTART;TZID=America/Detroit:20240212T183000
DTEND;TZID=America/Detroit:20240212T213000
DTSTAMP:20260422T180734
CREATED:20221220T022137Z
LAST-MODIFIED:20240321T193839Z
UID:10002310-1707762600-1707773400@afk.games
SUMMARY:Blood Bowl
DESCRIPTION:Join us for our ongoing Blood Bowl League! or even get yourself a demo game.
URL:https://afk.games/event/blood-bowl/2024-02-12/
LOCATION:AFK Games\, 2495 Cedar Street STE 14-B\, Holt\, MI\, 48842\, United States
CATEGORIES:Blood Bowl,Games Workshop
ORGANIZER;CN="AFK Games":MAILTO:support@afk-games.com
END:VEVENT
BEGIN:VEVENT
DTSTART;TZID=America/Detroit:20240213T183000
DTEND;TZID=America/Detroit:20240213T213000
DTSTAMP:20260422T180734
CREATED:20231217T210536Z
LAST-MODIFIED:20231217T210536Z
UID:10002132-1707849000-1707859800@afk.games
SUMMARY:One Piece TCG - Store Tournament vol.5
DESCRIPTION:Bo1 Swiss 35 min rounds + 5 minutes of extra time \nEntry: $5 \nPrizing:\n1st – Winner pack\nTop 8 – one tournament pack
URL:https://afk.games/event/one-piece-tcg-store-tournament-vol-5-2/2024-02-13/
LOCATION:AFK Games\, 2495 Cedar Street STE 14-B\, Holt\, MI\, 48842\, United States
CATEGORIES:Bandai,Events,One Piece TCG
ORGANIZER;CN="AFK Games":MAILTO:support@afk-games.com
END:VEVENT
BEGIN:VEVENT
DTSTART;TZID=America/Detroit:20240214T180000
DTEND;TZID=America/Detroit:20240214T210000
DTSTAMP:20260422T180734
CREATED:20221119T010216Z
LAST-MODIFIED:20260122T224620Z
UID:10005664-1707933600-1707944400@afk.games
SUMMARY:Open Skirmish Games
DESCRIPTION:Have an itch to play some skirmish games like Warhammer 40K: Kill Team\, Necromunda\, Warcry\, etc? Well on Tuesday nights we got you covered! Come on down and play some of your favorite small scale miniature games\, or even try out a new one!
URL:https://afk.games/event/open-skirmish-games/2024-02-14/
LOCATION:AFK Games\, 2495 Cedar Street STE 14-B\, Holt\, MI\, 48842\, United States
CATEGORIES:Events,Games Workshop,Kill Team,Killwager,Warhammer 40K
ORGANIZER;CN="AFK Games":MAILTO:support@afk-games.com
END:VEVENT
BEGIN:VEVENT
DTSTART;TZID=America/Detroit:20240215T180000
DTEND;TZID=America/Detroit:20240215T210000
DTSTAMP:20260422T180734
CREATED:20240530T182508Z
LAST-MODIFIED:20241219T201920Z
UID:10002883-1708020000-1708030800@afk.games
SUMMARY:Lansing Chess Club meeting
DESCRIPTION:Join us for the Lansing Chess Club’s weekly gathering every Thursday at 6:00 pm at AFK Games in Holt\, MI. Whether you’re a seasoned player or new to the game\, this is the perfect opportunity to challenge yourself\, meet fellow chess enthusiasts\, and improve your skills in a friendly and welcoming environment. All ages and skill levels are welcome!
URL:https://afk.games/event/lansing-chess-club-meeting-11/2024-02-15/
LOCATION:AFK Games\, 2495 Cedar Street STE 14-B\, Holt\, MI\, 48842\, United States
CATEGORIES:Events
ORGANIZER;CN="AFK Games":MAILTO:support@afk-games.com
END:VEVENT
BEGIN:VEVENT
DTSTART;TZID=America/Detroit:20240216T183000
DTEND;TZID=America/Detroit:20240216T220000
DTSTAMP:20260422T180734
CREATED:20220728T215755Z
LAST-MODIFIED:20250918T023011Z
UID:10002204-1708108200-1708120800@afk.games
SUMMARY:MTG Modern FNM
DESCRIPTION:AFK Games hosts weekly Modern Friday Night Magic (FNM) tournaments starting at 6:30 pm!\nEntry is $10 \nPrize out is based on record. Capped at 4 rounds. \n4-0-0 = $60\n3-0-1 = $40\n3-1-0 = $20\n2-1-1 = $10 \nEach player will each be able to pick from a pool of promo pack promos in reverse standings order.
URL:https://afk.games/event/mtg-modern-fnm-10/2024-02-16/
LOCATION:AFK Games\, 2495 Cedar Street STE 14-B\, Holt\, MI\, 48842\, United States
CATEGORIES:Events,Magic: The Gathering,Modern
ORGANIZER;CN="AFK Games":MAILTO:support@afk-games.com
END:VEVENT
BEGIN:VEVENT
DTSTART;TZID=America/Detroit:20240216T183000
DTEND;TZID=America/Detroit:20240216T220000
DTSTAMP:20260422T180734
CREATED:20260101T204727Z
LAST-MODIFIED:20260101T204727Z
UID:10005196-1708108200-1708120800@afk.games
SUMMARY:MTG Modern FNM
DESCRIPTION:AFK Games hosts weekly Modern Friday Night Magic (FNM) tournaments starting at 6:30 pm!\nEntry is $10 \nPrize out is based on record. Capped at 4 rounds. \n4-0-0 = $60\n3-0-1 = $40\n3-1-0 = $20\n2-1-1 = $10 \nEach player will each be able to pick from a pool of promo pack promos in reverse standings order.
URL:https://afk.games/event/mtg-modern-fnm-11/2024-02-16/
LOCATION:AFK Games\, 2495 Cedar Street STE 14-B\, Holt\, MI\, 48842\, United States
CATEGORIES:Events,Magic: The Gathering,Modern
ORGANIZER;CN="AFK Games":MAILTO:support@afk-games.com
END:VEVENT
BEGIN:VEVENT
DTSTART;TZID=America/Detroit:20240217T090000
DTEND;TZID=America/Detroit:20240217T190000
DTSTAMP:20260422T180734
CREATED:20231222T203122Z
LAST-MODIFIED:20231222T211219Z
UID:10002191-1708160400-1708196400@afk.games
SUMMARY:February 40K RTT
DESCRIPTION:https://docs.google.com/document/d/1toMkzl5EjWJvoQwYkRyxfPes69guGcDKQAhYn07ETnU \nEvent Info:\nEntry: $25\nRounds: 3\nRound time: 3 Hours\nPairing Method: Random pairings based on W/L record\nPlacings are determined by Win/Loss record\, then total battle points\nTickets: https://www.bestcoastpairings.com/event/WWCKFEL7QE \nThis event will be run through BCP\, if you need help please ask for assistance prior to the list submission date. If you do not have BCP\, please download the app before the start of the event.\nThe event will be registered with ITC and GLC (Great Lakes Circuit). \nEvent Schedule:\nCheck In: 8:15 AM – 8:45AM\nPlayer Meeting: 8:45 AM\nRound 1: 9:00 AM – 12:00 PM\nLunch: 12:00 PM – 12:30 PM\nRound 2: 12:35 PM – 3:05 PM\nRound 3: 3:10 PM – 6:10 PM \nEvent Deadlines:\nLists are due at 11:59 pm on the Friday before the event (February\, 16th)\nNo new codices\, Indexes\, or points updates released after Saturday\, February 3rd will be used.\nThe latest FAQs\, as of the tournament day\, will be in effect. \nPrizes:\n100% of the entry fees go into the prize pool.\nThe total amount of each prize will depend on the number of participants and will be awarded in-store credit.\nPrizes will be given for first\, second\, third place\, and best appearance (as voted by the players)\nPlayers can not win more than one prize. \nPainting and Models:\nThere is no painting requirement. All players will receive the 10 points for “paint” included in their score for each round.\nConverted and 3D printed models must receive approval from the TO before the list submission deadline posted above. Contact the TO at Hilla.anthony@gmail.com \nFormat:\nTables will be 44”x60”.\nITC rules and regulations.\nLists must be a maximum 2000-point strike force\, and be submitted before the list submission deadline posted above. Missions chosen from the Leviathan Tournament Mission Pool.\nA ringer may be used if an odd number of players exist in any tournament round. The tournament participant will receive an automatic win for the round and however many battle points scored (minimum of 70) during that round\, will be added to their overall score.
URL:https://afk.games/event/february-40k-rtt/
LOCATION:AFK Games\, 2495 Cedar Street STE 14-B\, Holt\, MI\, 48842\, United States
CATEGORIES:Events,Games Workshop,Warhammer 40K
ORGANIZER;CN="AFK Games":MAILTO:support@afk-games.com
END:VEVENT
BEGIN:VEVENT
DTSTART;TZID=America/Detroit:20240217T123000
DTEND;TZID=America/Detroit:20240217T150000
DTSTAMP:20260422T180734
CREATED:20231217T205952Z
LAST-MODIFIED:20231217T210118Z
UID:10002013-1708173000-1708182000@afk.games
SUMMARY:One Piece TCG - Store Tournament vol.5
DESCRIPTION:Bo1 Swiss 35 min rounds + 5 minutes of extra time \nEntry:\n1x OP-05 Pack \nPrizing:\n1st – Winner pack\nTop 8 – one tournament pack \n$7 Per head will be used to build the league pot – This pot will be distributed to the top 25% per ranking  \nleaderboard at the end of the league season (OP06 + TP + Winner Packs Will Be In The POT) \nCurrent standing can be found at: https://afkgames.challonge.com/OP05?round=0 \nHow to earn league points for league ranking: \nWin a match – 3 Points\nLose a match – 1 Point\nDraw – 1 Point\nParticipate in the league – 1 Point\nBring someone new to the league – 3 Points \n*ALL PRIZING SUBJECT TO CHANGE*
URL:https://afk.games/event/one-piece-tcg-store-tournament-vol-5/2024-02-17/
LOCATION:AFK Games\, 2495 Cedar Street STE 14-B\, Holt\, MI\, 48842\, United States
CATEGORIES:Bandai,Events,One Piece TCG
ORGANIZER;CN="AFK Games":MAILTO:support@afk-games.com
END:VEVENT
END:VCALENDAR