BEGIN:VCALENDAR
VERSION:2.0
PRODID:-//AFK Games - ECPv6.15.20//NONSGML v1.0//EN
CALSCALE:GREGORIAN
METHOD:PUBLISH
X-ORIGINAL-URL:https://afk.games
X-WR-CALDESC:Events for AFK Games
REFRESH-INTERVAL;VALUE=DURATION:PT1H
X-Robots-Tag:noindex
X-PUBLISHED-TTL:PT1H
BEGIN:VTIMEZONE
TZID:America/Detroit
BEGIN:DAYLIGHT
TZOFFSETFROM:-0500
TZOFFSETTO:-0400
TZNAME:EDT
DTSTART:20210314T070000
END:DAYLIGHT
BEGIN:STANDARD
TZOFFSETFROM:-0400
TZOFFSETTO:-0500
TZNAME:EST
DTSTART:20211107T060000
END:STANDARD
BEGIN:DAYLIGHT
TZOFFSETFROM:-0500
TZOFFSETTO:-0400
TZNAME:EDT
DTSTART:20220313T070000
END:DAYLIGHT
BEGIN:STANDARD
TZOFFSETFROM:-0400
TZOFFSETTO:-0500
TZNAME:EST
DTSTART:20221106T060000
END:STANDARD
BEGIN:DAYLIGHT
TZOFFSETFROM:-0500
TZOFFSETTO:-0400
TZNAME:EDT
DTSTART:20230312T070000
END:DAYLIGHT
BEGIN:STANDARD
TZOFFSETFROM:-0400
TZOFFSETTO:-0500
TZNAME:EST
DTSTART:20231105T060000
END:STANDARD
END:VTIMEZONE
BEGIN:VEVENT
DTSTART;TZID=America/Detroit:20221121T170000
DTEND;TZID=America/Detroit:20221121T220000
DTSTAMP:20260419T143331
CREATED:20260101T204539Z
LAST-MODIFIED:20260101T204539Z
UID:10004910-1669050000-1669068000@afk.games
SUMMARY:Monday Night Commander
DESCRIPTION:Every Monday night AFK Games hosts open MTG Commander play!\nNo entry to play\, and each week you enter into your Eventlink event you get entered into a monthly raffle for cool prizes! Such as collector packs\, deck boxes\, sleeves\, old marketing material\, etc..
URL:https://afk.games/event/monday-night-commander-13/2022-11-21/
LOCATION:AFK Games\, 2495 Cedar Street STE 14-B\, Holt\, MI\, 48842\, United States
CATEGORIES:Commander,Events,Magic: The Gathering
ORGANIZER;CN="AFK Games":MAILTO:support@afk-games.com
END:VEVENT
BEGIN:VEVENT
DTSTART;TZID=America/Detroit:20221123T180000
DTEND;TZID=America/Detroit:20221123T210000
DTSTAMP:20260419T143331
CREATED:20220728T224915Z
LAST-MODIFIED:20221119T010743Z
UID:10000220-1669226400-1669237200@afk.games
SUMMARY:Star Wars: X-Wing open play
DESCRIPTION:Join us every Wednesday starting at 6:00 pm for open Star Wars: X-Wing gaming!\nEntry is free\, so come on in and play some X-Wing!
URL:https://afk.games/event/star-wars-x-wing-open-play-10/2022-11-23/
LOCATION:AFK Games\, 2495 Cedar Street STE 14-B\, Holt\, MI\, 48842\, United States
CATEGORIES:Atomic Mass Games,Events,Star Wars: X-Wing
ORGANIZER;CN="AFK Games":MAILTO:support@afk-games.com
END:VEVENT
BEGIN:VEVENT
DTSTART;TZID=America/Detroit:20221123T180000
DTEND;TZID=America/Detroit:20221123T210000
DTSTAMP:20260419T143331
CREATED:20220728T225015Z
LAST-MODIFIED:20221119T010743Z
UID:10000232-1669226400-1669237200@afk.games
SUMMARY:Open D&D 5e
DESCRIPTION:Every Wednesday we have open D&D 5e\, starting at 6:00 pm
URL:https://afk.games/event/open-dd-5e-10/2022-11-23/
LOCATION:AFK Games\, 2495 Cedar Street STE 14-B\, Holt\, MI\, 48842\, United States
CATEGORIES:Dungeons and Dragons,Events,Role Playing Games
ORGANIZER;CN="AFK Games":MAILTO:support@afk-games.com
END:VEVENT
BEGIN:VEVENT
DTSTART;TZID=America/Detroit:20221123T180000
DTEND;TZID=America/Detroit:20221123T210000
DTSTAMP:20260419T143331
CREATED:20221119T010216Z
LAST-MODIFIED:20260122T224620Z
UID:10005600-1669226400-1669237200@afk.games
SUMMARY:Open Skirmish Games
DESCRIPTION:Have an itch to play some skirmish games like Warhammer 40K: Kill Team\, Necromunda\, Warcry\, etc? Well on Tuesday nights we got you covered! Come on down and play some of your favorite small scale miniature games\, or even try out a new one!
URL:https://afk.games/event/open-skirmish-games/2022-11-23/
LOCATION:AFK Games\, 2495 Cedar Street STE 14-B\, Holt\, MI\, 48842\, United States
CATEGORIES:Events,Games Workshop,Kill Team,Killwager,Warhammer 40K
ORGANIZER;CN="AFK Games":MAILTO:support@afk-games.com
END:VEVENT
BEGIN:VEVENT
DTSTART;TZID=America/Detroit:20221123T183000
DTEND;TZID=America/Detroit:20221123T210000
DTSTAMP:20260419T143331
CREATED:20220728T224845Z
LAST-MODIFIED:20230525T193857Z
UID:10000244-1669228200-1669237200@afk.games
SUMMARY:Flesh and Blood Armory
DESCRIPTION:Join us every Wednesday starting at 6:30 pm for Flesh and Blood Blitz armory event!\nEntry is free\, and prizes are promos from the current armory kit!
URL:https://afk.games/event/flesh-and-blood-armory-10/2022-11-23/
LOCATION:AFK Games\, 2495 Cedar Street STE 14-B\, Holt\, MI\, 48842\, United States
CATEGORIES:Blitz,Events,Flesh and Blood
ORGANIZER;CN="AFK Games":MAILTO:support@afk-games.com
END:VEVENT
BEGIN:VEVENT
DTSTART;TZID=America/Detroit:20221124T173000
DTEND;TZID=America/Detroit:20221124T210000
DTSTAMP:20260419T143331
CREATED:20220728T221726Z
LAST-MODIFIED:20221119T010840Z
UID:10000269-1669311000-1669323600@afk.games
SUMMARY:Board Game Night
DESCRIPTION:Join us every Thursday starting at 5:30 pm for Board Game Night!\nCome try out some new games\, or even bring your own favorites!
URL:https://afk.games/event/board-game-night-10/2022-11-24/
LOCATION:AFK Games\, 2495 Cedar Street STE 14-B\, Holt\, MI\, 48842\, United States
CATEGORIES:Events
ORGANIZER;CN="AFK Games":MAILTO:support@afk-games.com
END:VEVENT
BEGIN:VEVENT
DTSTART;TZID=America/Detroit:20221124T180000
DTEND;TZID=America/Detroit:20221124T210000
DTSTAMP:20260419T143331
CREATED:20220728T224945Z
LAST-MODIFIED:20221119T010839Z
UID:10000256-1669312800-1669323600@afk.games
SUMMARY:Lansing Chess Club meeting
DESCRIPTION:Every Thursday the Lansing Chess club meets at 6:00 pm
URL:https://afk.games/event/lansing-chess-club-meeting-10/2022-11-24/
LOCATION:AFK Games\, 2495 Cedar Street STE 14-B\, Holt\, MI\, 48842\, United States
CATEGORIES:Events
ORGANIZER;CN="AFK Games":MAILTO:support@afk-games.com
END:VEVENT
BEGIN:VEVENT
DTSTART;TZID=America/Detroit:20221124T180000
DTEND;TZID=America/Detroit:20221124T210000
DTSTAMP:20260419T143331
CREATED:20240530T182508Z
LAST-MODIFIED:20241219T201920Z
UID:10002819-1669312800-1669323600@afk.games
SUMMARY:Lansing Chess Club meeting
DESCRIPTION:Join us for the Lansing Chess Club’s weekly gathering every Thursday at 6:00 pm at AFK Games in Holt\, MI. Whether you’re a seasoned player or new to the game\, this is the perfect opportunity to challenge yourself\, meet fellow chess enthusiasts\, and improve your skills in a friendly and welcoming environment. All ages and skill levels are welcome!
URL:https://afk.games/event/lansing-chess-club-meeting-11/2022-11-24/
LOCATION:AFK Games\, 2495 Cedar Street STE 14-B\, Holt\, MI\, 48842\, United States
CATEGORIES:Events
ORGANIZER;CN="AFK Games":MAILTO:support@afk-games.com
END:VEVENT
BEGIN:VEVENT
DTSTART;TZID=America/Detroit:20221124T183000
DTEND;TZID=America/Detroit:20221124T213000
DTSTAMP:20260419T143331
CREATED:20220728T215050Z
LAST-MODIFIED:20221119T010837Z
UID:10000282-1669314600-1669325400@afk.games
SUMMARY:MTG Weekly Pioneer
DESCRIPTION:AFK Games hosts weekly Pioneer tournaments on Thursdays starting at 6:30 pm!\nEntry is $10 \nPrize out is based on record. Capped at 3 rounds. \n3-0-0 = $30\n2-1-0 = $15 \nEach player will each be able to pick from a pool of promo pack promos in reverse standings order.
URL:https://afk.games/event/mtg-weekly-pioneer-10/2022-11-24/
LOCATION:AFK Games\, 2495 Cedar Street STE 14-B\, Holt\, MI\, 48842\, United States
CATEGORIES:Events,Magic: The Gathering,Pioneer
ORGANIZER;CN="AFK Games":MAILTO:support@afk-games.com
END:VEVENT
BEGIN:VEVENT
DTSTART;TZID=America/Detroit:20221125T183000
DTEND;TZID=America/Detroit:20221125T220000
DTSTAMP:20260419T143331
CREATED:20220728T215755Z
LAST-MODIFIED:20250918T023011Z
UID:10000295-1669401000-1669413600@afk.games
SUMMARY:MTG Modern FNM
DESCRIPTION:AFK Games hosts weekly Modern Friday Night Magic (FNM) tournaments starting at 6:30 pm!\nEntry is $10 \nPrize out is based on record. Capped at 4 rounds. \n4-0-0 = $60\n3-0-1 = $40\n3-1-0 = $20\n2-1-1 = $10 \nEach player will each be able to pick from a pool of promo pack promos in reverse standings order.
URL:https://afk.games/event/mtg-modern-fnm-10/2022-11-25/
LOCATION:AFK Games\, 2495 Cedar Street STE 14-B\, Holt\, MI\, 48842\, United States
CATEGORIES:Events,Magic: The Gathering,Modern
ORGANIZER;CN="AFK Games":MAILTO:support@afk-games.com
END:VEVENT
BEGIN:VEVENT
DTSTART;TZID=America/Detroit:20221125T183000
DTEND;TZID=America/Detroit:20221125T220000
DTSTAMP:20260419T143331
CREATED:20260101T204727Z
LAST-MODIFIED:20260101T204727Z
UID:10005132-1669401000-1669413600@afk.games
SUMMARY:MTG Modern FNM
DESCRIPTION:AFK Games hosts weekly Modern Friday Night Magic (FNM) tournaments starting at 6:30 pm!\nEntry is $10 \nPrize out is based on record. Capped at 4 rounds. \n4-0-0 = $60\n3-0-1 = $40\n3-1-0 = $20\n2-1-1 = $10 \nEach player will each be able to pick from a pool of promo pack promos in reverse standings order.
URL:https://afk.games/event/mtg-modern-fnm-11/2022-11-25/
LOCATION:AFK Games\, 2495 Cedar Street STE 14-B\, Holt\, MI\, 48842\, United States
CATEGORIES:Events,Magic: The Gathering,Modern
ORGANIZER;CN="AFK Games":MAILTO:support@afk-games.com
END:VEVENT
BEGIN:VEVENT
DTSTART;TZID=America/Detroit:20221126T123000
DTEND;TZID=America/Detroit:20221126T203000
DTSTAMP:20260419T143331
CREATED:20221023T192330Z
LAST-MODIFIED:20221023T192330Z
UID:10000315-1669465800-1669494600@afk.games
SUMMARY:Star Wars: Legion random team tournament
DESCRIPTION:Entry fee: $10/player\nTournament mechanics: Swiss\nTournament tier: Casual\nTournament structure: Basic\nRound time: 150 minutes\nRounds: 2 \nPlayers are responsible to find their own partners for this event. It is possible we will have a ringer for an odd number of players. \nWhen your team chooses who activates next\, your team picks the player who will draw a token from their own bag. \nArmy List required\n600 Points\n– https://legionhq.thefifthtrooper.com/\n– https://tabletopadmiral.com/ \nPlayers are responsible for bringing all of the game components they need to play a game of STAR WARS: LEGION. This includes their army\, order tokens for each unit\, command hand\, sufficient dice for attack/defense rolls\, movement tools\, and a range ruler. In addition\, each team must bring 12 unique objective\, deployment\, and condition battle cards\, four of each type. \nWe will follow the standard Game Setup found in the Star Wars: Legion tournament regulations packet. \nPrizes will be a raffle\, tickets can be earned in the following ways \n1 ticket – Fully Painted (per player)\n1 ticket – Ready 15 minutes before the start (per player)\n1 ticket – per game played (per player)\n1 ticket – per game win (per player)
URL:https://afk.games/event/star-wars-legion-random-team-tournament/
LOCATION:AFK Games\, 2495 Cedar Street STE 14-B\, Holt\, MI\, 48842\, United States
CATEGORIES:Atomic Mass Games,Events,Star Wars: Legion
ORGANIZER;CN="AFK Games":MAILTO:support@afk-games.com
END:VEVENT
END:VCALENDAR