BEGIN:VCALENDAR
VERSION:2.0
PRODID:-//AFK Games - ECPv6.15.20//NONSGML v1.0//EN
CALSCALE:GREGORIAN
METHOD:PUBLISH
X-WR-CALNAME:AFK Games
X-ORIGINAL-URL:https://afk.games
X-WR-CALDESC:Events for AFK Games
REFRESH-INTERVAL;VALUE=DURATION:PT1H
X-Robots-Tag:noindex
X-PUBLISHED-TTL:PT1H
BEGIN:VTIMEZONE
TZID:America/Detroit
BEGIN:DAYLIGHT
TZOFFSETFROM:-0500
TZOFFSETTO:-0400
TZNAME:EDT
DTSTART:20220313T070000
END:DAYLIGHT
BEGIN:STANDARD
TZOFFSETFROM:-0400
TZOFFSETTO:-0500
TZNAME:EST
DTSTART:20221106T060000
END:STANDARD
BEGIN:DAYLIGHT
TZOFFSETFROM:-0500
TZOFFSETTO:-0400
TZNAME:EDT
DTSTART:20230312T070000
END:DAYLIGHT
BEGIN:STANDARD
TZOFFSETFROM:-0400
TZOFFSETTO:-0500
TZNAME:EST
DTSTART:20231105T060000
END:STANDARD
BEGIN:DAYLIGHT
TZOFFSETFROM:-0500
TZOFFSETTO:-0400
TZNAME:EDT
DTSTART:20240310T070000
END:DAYLIGHT
BEGIN:STANDARD
TZOFFSETFROM:-0400
TZOFFSETTO:-0500
TZNAME:EST
DTSTART:20241103T060000
END:STANDARD
END:VTIMEZONE
BEGIN:VEVENT
DTSTART;TZID=America/Detroit:20230728T183000
DTEND;TZID=America/Detroit:20230728T220000
DTSTAMP:20260425T202636
CREATED:20230617T204503Z
LAST-MODIFIED:20230617T204503Z
UID:10001355-1690569000-1690581600@afk.games
SUMMARY:Commander Masters Preview event
DESCRIPTION:Format: Draft\nEntry: $60 \n1.5 booster packs per player into the prize pool.\nPrize packs will be given out at release. \nExclusive to WPN Premium stores\, the WPN Premium Preview event takes place the week before release. The Preview Event is all about celebrating Commander Masters with Commander Draft play. \nGet Draft Boosters to draft and play in epic\, multiplayer battles; just grab 3 Draft Boosters each\, pass them and pick 2 cards at a time\, add some lands to build a 60-card deck\, and let the fun begin
URL:https://afk.games/event/commander-masters-preview-event/
LOCATION:AFK Games\, 2495 Cedar Street STE 14-B\, Holt\, MI\, 48842\, United States
CATEGORIES:Commander,Draft,Events,Magic: The Gathering
ORGANIZER;CN="AFK Games":MAILTO:support@afk-games.com
END:VEVENT
BEGIN:VEVENT
DTSTART;TZID=America/Detroit:20230729T140000
DTEND;TZID=America/Detroit:20230729T190000
DTSTAMP:20260425T202636
CREATED:20230617T204642Z
LAST-MODIFIED:20230617T204642Z
UID:10001356-1690639200-1690657200@afk.games
SUMMARY:Commander Masters Preview event
DESCRIPTION:Format: Draft\nEntry: $60 \n1.5 booster packs per player into the prize pool.\nPrize packs will be given out at release. \nExclusive to WPN Premium stores\, the WPN Premium Preview event takes place the week before release. The Preview Event is all about celebrating Commander Masters with Commander Draft play. \nGet Draft Boosters to draft and play in epic\, multiplayer battles; just grab 3 Draft Boosters each\, pass them and pick 2 cards at a time\, add some lands to build a 60-card deck\, and let the fun begin
URL:https://afk.games/event/commander-masters-preview-event-2/
LOCATION:AFK Games\, 2495 Cedar Street STE 14-B\, Holt\, MI\, 48842\, United States
CATEGORIES:Commander,Draft,Events,Magic: The Gathering
ORGANIZER;CN="AFK Games":MAILTO:support@afk-games.com
END:VEVENT
END:VCALENDAR