BEGIN:VCALENDAR
VERSION:2.0
PRODID:-//AFK Games - ECPv6.15.20//NONSGML v1.0//EN
CALSCALE:GREGORIAN
METHOD:PUBLISH
X-ORIGINAL-URL:https://afk.games
X-WR-CALDESC:Events for AFK Games
REFRESH-INTERVAL;VALUE=DURATION:PT1H
X-Robots-Tag:noindex
X-PUBLISHED-TTL:PT1H
BEGIN:VTIMEZONE
TZID:America/Detroit
BEGIN:DAYLIGHT
TZOFFSETFROM:-0500
TZOFFSETTO:-0400
TZNAME:EDT
DTSTART:20240310T070000
END:DAYLIGHT
BEGIN:STANDARD
TZOFFSETFROM:-0400
TZOFFSETTO:-0500
TZNAME:EST
DTSTART:20241103T060000
END:STANDARD
BEGIN:DAYLIGHT
TZOFFSETFROM:-0500
TZOFFSETTO:-0400
TZNAME:EDT
DTSTART:20250309T070000
END:DAYLIGHT
BEGIN:STANDARD
TZOFFSETFROM:-0400
TZOFFSETTO:-0500
TZNAME:EST
DTSTART:20251102T060000
END:STANDARD
BEGIN:DAYLIGHT
TZOFFSETFROM:-0500
TZOFFSETTO:-0400
TZNAME:EDT
DTSTART:20260308T070000
END:DAYLIGHT
BEGIN:STANDARD
TZOFFSETFROM:-0400
TZOFFSETTO:-0500
TZNAME:EST
DTSTART:20261101T060000
END:STANDARD
END:VTIMEZONE
BEGIN:VEVENT
DTSTART;TZID=America/Detroit:20250406T120000
DTEND;TZID=America/Detroit:20250406T170000
DTSTAMP:20260421T215022
CREATED:20241228T235931Z
LAST-MODIFIED:20250506T165951Z
UID:10003956-1743940800-1743958800@afk.games
SUMMARY:Sunday Commander League
DESCRIPTION:Join us for our second Commander day of the week! As this new day settles in we get out what we are doing for incentives for this new day! In the beginning we will do a Raffle on the day of the event for promo packs. And eventually it will switch over to a monthly raffle like our Monday commander night.
URL:https://afk.games/event/sunday-commander/2025-04-06/
LOCATION:AFK Games\, 2495 Cedar Street STE 14-B\, Holt\, MI\, 48842\, United States
CATEGORIES:Commander,Events,Magic: The Gathering
ORGANIZER;CN="AFK Games":MAILTO:support@afk-games.com
END:VEVENT
BEGIN:VEVENT
DTSTART;TZID=America/Detroit:20250406T123000
DTEND;TZID=America/Detroit:20250406T170000
DTSTAMP:20260421T215022
CREATED:20250307T002039Z
LAST-MODIFIED:20250307T002039Z
UID:10003771-1743942600-1743958800@afk.games
SUMMARY:Tarkir: Dragonstorm Prerelease
DESCRIPTION:Tarkir: Dragonstorm Prerelease 🐉🔥\nDare to Awaken the Dragons! \nReturn to the iconic plane of Tarkir for an epic battle between dragons and clans. As powerful dragonstorms spiral Tarkir into chaos and wild dragons darken the skies\, the five clans fight alongside their new Spirit Dragons for supremacy over the land. Discover which clan fits your playstyle with Tarkir’s distinct three-color gameplay. \nEvent Details\nDates & Times: \n\nFriday\, 6:45 PM\nSaturday\, 1:00 PM (Two-Headed Giant)\nSaturday\, 6:00 PM\nSunday\, 1:00 PM (Two-Headed Giant)\n\nYour Prerelease Kit Includes:\n\n6 Tarkir: Dragonstorm Play Boosters (14 cards each)\n1 foil\, year-stamped Rare or Mythic Rare\n1 MTG Arena code card (available in select regions)\n1 Spindown die\n1 deck box\n\nWith this kit\, you’ll construct a minimum 40-card deck and battle in a Swiss tournament format for glory and prizes! \nPrizing (Per Event):\n\n0-1 Wins – 1 Tarkir: Dragonstorm Booster Pack\n2 Wins – 2 Tarkir: Dragonstorm Booster Packs\n3 Wins – 3 Tarkir: Dragonstorm Booster Packs\n\nChoose Your Clan!\nParticipants can pick their prerelease kit from the available pool in the order they prepaid! But be quick—you must check into the event on EventLink before we begin calling out clan selections. \nPrepay & Save!\nPrepay by March 31st to save $5 on your prerelease entry! Secure your spot and get first pick of the kits. \nThe storm is coming. The dragons are awakening. Will you rise with them? 🐉⚡
URL:https://afk.games/event/tarkir-dragonstorm-prerelease/2025-04-06/
LOCATION:AFK Games\, 2495 Cedar Street STE 14-B\, Holt\, MI\, 48842\, United States
CATEGORIES:Events,Magic: The Gathering,Prerelease
ORGANIZER;CN="AFK Games":MAILTO:support@afk-games.com
END:VEVENT
END:VCALENDAR