BEGIN:VCALENDAR
VERSION:2.0
PRODID:-//AFK Games - ECPv6.15.20//NONSGML v1.0//EN
CALSCALE:GREGORIAN
METHOD:PUBLISH
X-WR-CALNAME:AFK Games
X-ORIGINAL-URL:https://afk.games
X-WR-CALDESC:Events for AFK Games
REFRESH-INTERVAL;VALUE=DURATION:PT1H
X-Robots-Tag:noindex
X-PUBLISHED-TTL:PT1H
BEGIN:VTIMEZONE
TZID:America/Detroit
BEGIN:DAYLIGHT
TZOFFSETFROM:-0500
TZOFFSETTO:-0400
TZNAME:EDT
DTSTART:20230312T070000
END:DAYLIGHT
BEGIN:STANDARD
TZOFFSETFROM:-0400
TZOFFSETTO:-0500
TZNAME:EST
DTSTART:20231105T060000
END:STANDARD
BEGIN:DAYLIGHT
TZOFFSETFROM:-0500
TZOFFSETTO:-0400
TZNAME:EDT
DTSTART:20240310T070000
END:DAYLIGHT
BEGIN:STANDARD
TZOFFSETFROM:-0400
TZOFFSETTO:-0500
TZNAME:EST
DTSTART:20241103T060000
END:STANDARD
BEGIN:DAYLIGHT
TZOFFSETFROM:-0500
TZOFFSETTO:-0400
TZNAME:EDT
DTSTART:20250309T070000
END:DAYLIGHT
BEGIN:STANDARD
TZOFFSETFROM:-0400
TZOFFSETTO:-0500
TZNAME:EST
DTSTART:20251102T060000
END:STANDARD
END:VTIMEZONE
BEGIN:VEVENT
DTSTART;TZID=America/Detroit:20240412T184500
DTEND;TZID=America/Detroit:20240412T220000
DTSTAMP:20260424T052601
CREATED:20240321T193700Z
LAST-MODIFIED:20240321T193700Z
UID:10002399-1712947500-1712959200@afk.games
SUMMARY:Outlaws of Thunder Junction prerelease
DESCRIPTION:Grab a Stetson and your best pair of boots—it’s time to venture into Thunder Junction\, where your players will battle to score big on a wild new frontier! Outlaws of Thunder Junction takes place on a brand-new plane where characters from across the Multiverse are coming to discover what fortune may await them—if they can beat the other outlaws to the Vault. \nEntry: $40\nSave $5 if you pre-pay before 4/9/24 \nEach player will receive a prerelease kit which contains the following:\n• 6 Outlaws of Thunder Junction Play Boosters; each Play Booster contains 14 Magic cards\n• 1 foil\, year-stamped Rare or Mythic Rare\n• 1 Magic: The Gathering Arena code card (only available in select regions)\n• 1 deck box\n• 1 Spindown die \nYou will construct your deck and battle it out in a swiss tournament! \nEach round win will get you one booster pack! \nSunday event is 2HG\, we will be using the 2HG rules for this event.
URL:https://afk.games/event/outlaws-of-thunder-junction-prerelease/2024-04-12/
LOCATION:AFK Games\, 2495 Cedar Street STE 14-B\, Holt\, MI\, 48842\, United States
CATEGORIES:Events,Magic: The Gathering,Prerelease
ORGANIZER;CN="AFK Games":MAILTO:support@afk-games.com
END:VEVENT
BEGIN:VEVENT
DTSTART;TZID=America/Detroit:20240413T130000
DTEND;TZID=America/Detroit:20240413T180000
DTSTAMP:20260424T052601
CREATED:20240321T193700Z
LAST-MODIFIED:20240321T193700Z
UID:10002400-1713013200-1713031200@afk.games
SUMMARY:Outlaws of Thunder Junction prerelease
DESCRIPTION:Grab a Stetson and your best pair of boots—it’s time to venture into Thunder Junction\, where your players will battle to score big on a wild new frontier! Outlaws of Thunder Junction takes place on a brand-new plane where characters from across the Multiverse are coming to discover what fortune may await them—if they can beat the other outlaws to the Vault. \nEntry: $40\nSave $5 if you pre-pay before 4/9/24 \nEach player will receive a prerelease kit which contains the following:\n• 6 Outlaws of Thunder Junction Play Boosters; each Play Booster contains 14 Magic cards\n• 1 foil\, year-stamped Rare or Mythic Rare\n• 1 Magic: The Gathering Arena code card (only available in select regions)\n• 1 deck box\n• 1 Spindown die \nYou will construct your deck and battle it out in a swiss tournament! \nEach round win will get you one booster pack! \nSunday event is 2HG\, we will be using the 2HG rules for this event.
URL:https://afk.games/event/outlaws-of-thunder-junction-prerelease/2024-04-13/1/
LOCATION:AFK Games\, 2495 Cedar Street STE 14-B\, Holt\, MI\, 48842\, United States
CATEGORIES:Events,Magic: The Gathering,Prerelease
ORGANIZER;CN="AFK Games":MAILTO:support@afk-games.com
END:VEVENT
BEGIN:VEVENT
DTSTART;TZID=America/Detroit:20240413T180000
DTEND;TZID=America/Detroit:20240413T220000
DTSTAMP:20260424T052601
CREATED:20240321T193700Z
LAST-MODIFIED:20240321T193700Z
UID:10002401-1713031200-1713045600@afk.games
SUMMARY:Outlaws of Thunder Junction prerelease
DESCRIPTION:Grab a Stetson and your best pair of boots—it’s time to venture into Thunder Junction\, where your players will battle to score big on a wild new frontier! Outlaws of Thunder Junction takes place on a brand-new plane where characters from across the Multiverse are coming to discover what fortune may await them—if they can beat the other outlaws to the Vault. \nEntry: $40\nSave $5 if you pre-pay before 4/9/24 \nEach player will receive a prerelease kit which contains the following:\n• 6 Outlaws of Thunder Junction Play Boosters; each Play Booster contains 14 Magic cards\n• 1 foil\, year-stamped Rare or Mythic Rare\n• 1 Magic: The Gathering Arena code card (only available in select regions)\n• 1 deck box\n• 1 Spindown die \nYou will construct your deck and battle it out in a swiss tournament! \nEach round win will get you one booster pack! \nSunday event is 2HG\, we will be using the 2HG rules for this event.
URL:https://afk.games/event/outlaws-of-thunder-junction-prerelease/2024-04-13/2/
LOCATION:AFK Games\, 2495 Cedar Street STE 14-B\, Holt\, MI\, 48842\, United States
CATEGORIES:Events,Magic: The Gathering,Prerelease
ORGANIZER;CN="AFK Games":MAILTO:support@afk-games.com
END:VEVENT
BEGIN:VEVENT
DTSTART;TZID=America/Detroit:20240414T130000
DTEND;TZID=America/Detroit:20240414T170000
DTSTAMP:20260424T052601
CREATED:20240321T193700Z
LAST-MODIFIED:20240321T193700Z
UID:10002402-1713099600-1713114000@afk.games
SUMMARY:Outlaws of Thunder Junction prerelease
DESCRIPTION:Grab a Stetson and your best pair of boots—it’s time to venture into Thunder Junction\, where your players will battle to score big on a wild new frontier! Outlaws of Thunder Junction takes place on a brand-new plane where characters from across the Multiverse are coming to discover what fortune may await them—if they can beat the other outlaws to the Vault. \nEntry: $40\nSave $5 if you pre-pay before 4/9/24 \nEach player will receive a prerelease kit which contains the following:\n• 6 Outlaws of Thunder Junction Play Boosters; each Play Booster contains 14 Magic cards\n• 1 foil\, year-stamped Rare or Mythic Rare\n• 1 Magic: The Gathering Arena code card (only available in select regions)\n• 1 deck box\n• 1 Spindown die \nYou will construct your deck and battle it out in a swiss tournament! \nEach round win will get you one booster pack! \nSunday event is 2HG\, we will be using the 2HG rules for this event.
URL:https://afk.games/event/outlaws-of-thunder-junction-prerelease/2024-04-14/
LOCATION:AFK Games\, 2495 Cedar Street STE 14-B\, Holt\, MI\, 48842\, United States
CATEGORIES:Events,Magic: The Gathering,Prerelease
ORGANIZER;CN="AFK Games":MAILTO:support@afk-games.com
END:VEVENT
BEGIN:VEVENT
DTSTART;TZID=America/Detroit:20240419T184500
DTEND;TZID=America/Detroit:20240419T223000
DTSTAMP:20260424T052601
CREATED:20240328T191846Z
LAST-MODIFIED:20240328T191846Z
UID:10002732-1713552300-1713565800@afk.games
SUMMARY:Outlaws of Thunder Junction - Open House - Booster Draft
DESCRIPTION:Entry: $20\n8 Player pods\nSwiss – 3 Rounds\n1st – Foil Promo Pack & 6 Booster Packs\n2nd – Promo Pack & 4 Booster Packs\n3rd & 4th – Promo Pack & 1 Booster Pack\n5th-8th – Promo Pack
URL:https://afk.games/event/outlaws-of-thunder-junction-open-house-booster-draft/
LOCATION:AFK Games\, 2495 Cedar Street STE 14-B\, Holt\, MI\, 48842\, United States
CATEGORIES:Draft,Events,Magic: The Gathering
ORGANIZER;CN="AFK Games":MAILTO:support@afk-games.com
END:VEVENT
BEGIN:VEVENT
DTSTART;TZID=America/Detroit:20240421T130000
DTEND;TZID=America/Detroit:20240421T170000
DTSTAMP:20260424T052601
CREATED:20240323T183952Z
LAST-MODIFIED:20240323T185420Z
UID:10002675-1713704400-1713718800@afk.games
SUMMARY:Outlaws of Thunder Junction Booster Draft
DESCRIPTION:Join us for Outlaws of Thunder Junction Booster drafts on Sundays starting at 1:00 pm! \n8 Player pods\nSwiss – 3 Rounds\n1st – Foil Promo Pack & 6 Booster Packs\n2nd – Promo Pack & 4 Booster Packs\n3rd & 4th – Promo Pack & 1 Booster Pack\n5th-8th – Promo Pack
URL:https://afk.games/event/outlaws-of-thunder-junction-booster-draft/2024-04-21/
LOCATION:AFK Games\, 2495 Cedar Street STE 14-B\, Holt\, MI\, 48842\, United States
CATEGORIES:Draft,Events,Magic: The Gathering
ORGANIZER;CN="AFK Games":MAILTO:support@afk-games.com
END:VEVENT
BEGIN:VEVENT
DTSTART;TZID=America/Detroit:20240427T100000
DTEND;TZID=America/Detroit:20240427T190000
DTSTAMP:20260424T052601
CREATED:20240328T231123Z
LAST-MODIFIED:20240328T231123Z
UID:10002733-1714212000-1714244400@afk.games
SUMMARY:Season 3 - Round 1 - Sealed RCQ (2-Slot)
DESCRIPTION:Tournament Format\nThis event will be a 2-slot RCQ for SCG CON Washington D.C\, which means 1st and 2nd will receive an RCQ invite.  \nWe will be playing Outlaws of Thunder Junction Sealed Swiss rounds\, and then a cut to top-8 draft that will be timed. \nWe will be playing rounds of Swiss as recommended by the tournament rules. Following the Swiss rounds\, the top 8 players overall will draft in single-elimination rounds. \nParticipants must register their sealed pools as written in the Magic: the Gathering tournament rules section 7.5.  \nParticipants will have 20 minutes for deck registration and 30 minutes for deck construction. \nTournament Schedule\nDoors will open at 9:30 am \nRegistration ends at 9:55 am.  \nThe player meeting will commence at 10:00 am with our head judge Nick Babcock\, followed by the start of deck registration. \nPrizes\n1st – 30% of Store Credit pool + Exclusive Winner Promo + Top 8 promo + RCQ Invite\n2nd – 20% of Store Credit pool + Exclusive Winner Promo + Top 8 promo + RCQ Invite\n3/4th – 10% of Store Credit pool + Top 8 promo\n5-8th – 7.5% of Store Credit pool + Top 8 promo \nThe first 64 players will receive an RCQ promo.  \nStore credit prizes will be scaled with attendance. But the major milestones will be: \n20 players: $440 pool\n30 players: $850 pool\n40 players: $1257 pool
URL:https://afk.games/event/season-3-round-1-sealed-rcq-2-slot/
LOCATION:AFK Games\, 2495 Cedar Street STE 14-B\, Holt\, MI\, 48842\, United States
CATEGORIES:Draft,Events,Magic: The Gathering,RCQ,Sealed
ORGANIZER;CN="AFK Games":MAILTO:support@afk-games.com
END:VEVENT
BEGIN:VEVENT
DTSTART;TZID=America/Detroit:20240428T130000
DTEND;TZID=America/Detroit:20240428T170000
DTSTAMP:20260424T052601
CREATED:20240323T183952Z
LAST-MODIFIED:20240323T185420Z
UID:10002676-1714309200-1714323600@afk.games
SUMMARY:Outlaws of Thunder Junction Booster Draft
DESCRIPTION:Join us for Outlaws of Thunder Junction Booster drafts on Sundays starting at 1:00 pm! \n8 Player pods\nSwiss – 3 Rounds\n1st – Foil Promo Pack & 6 Booster Packs\n2nd – Promo Pack & 4 Booster Packs\n3rd & 4th – Promo Pack & 1 Booster Pack\n5th-8th – Promo Pack
URL:https://afk.games/event/outlaws-of-thunder-junction-booster-draft/2024-04-28/
LOCATION:AFK Games\, 2495 Cedar Street STE 14-B\, Holt\, MI\, 48842\, United States
CATEGORIES:Draft,Events,Magic: The Gathering
ORGANIZER;CN="AFK Games":MAILTO:support@afk-games.com
END:VEVENT
END:VCALENDAR