BEGIN:VCALENDAR
VERSION:2.0
PRODID:-//AFK Games - ECPv6.15.20//NONSGML v1.0//EN
CALSCALE:GREGORIAN
METHOD:PUBLISH
X-ORIGINAL-URL:https://afk.games
X-WR-CALDESC:Events for AFK Games
REFRESH-INTERVAL;VALUE=DURATION:PT1H
X-Robots-Tag:noindex
X-PUBLISHED-TTL:PT1H
BEGIN:VTIMEZONE
TZID:America/Detroit
BEGIN:DAYLIGHT
TZOFFSETFROM:-0500
TZOFFSETTO:-0400
TZNAME:EDT
DTSTART:20220313T070000
END:DAYLIGHT
BEGIN:STANDARD
TZOFFSETFROM:-0400
TZOFFSETTO:-0500
TZNAME:EST
DTSTART:20221106T060000
END:STANDARD
BEGIN:DAYLIGHT
TZOFFSETFROM:-0500
TZOFFSETTO:-0400
TZNAME:EDT
DTSTART:20230312T070000
END:DAYLIGHT
BEGIN:STANDARD
TZOFFSETFROM:-0400
TZOFFSETTO:-0500
TZNAME:EST
DTSTART:20231105T060000
END:STANDARD
BEGIN:DAYLIGHT
TZOFFSETFROM:-0500
TZOFFSETTO:-0400
TZNAME:EDT
DTSTART:20240310T070000
END:DAYLIGHT
BEGIN:STANDARD
TZOFFSETFROM:-0400
TZOFFSETTO:-0500
TZNAME:EST
DTSTART:20241103T060000
END:STANDARD
END:VTIMEZONE
BEGIN:VEVENT
DTSTART;TZID=America/Detroit:20230603T100000
DTEND;TZID=America/Detroit:20230603T183000
DTSTAMP:20260425T231716
CREATED:20230421T171107Z
LAST-MODIFIED:20230505T215122Z
UID:10001321-1685786400-1685817000@afk.games
SUMMARY:Dreamhack RCQ - Sealed - (2-Slot)
DESCRIPTION:Rules packet: https://docs.google.com/document/d/1q8dWQaG9n0DSxH9OSXzntB4ZLtvjNcfZMhlCJhkCkNw \nThis event will be a 2-slot Dreamhack RCQ\, which means 1st and 2nd will receive an RCQ invite.  \nWe will be playing Sealed March of the Machine Swiss rounds\, and then a cut to top-8 draft that will be timed. \nWe will be playing rounds of Swiss as recommended by the tournament rules. Following the Swiss rounds\, the top 8 players overall will draft in single-elimination rounds. \nParticipants must register their sealed pools as written in the Magic: the Gathering tournament rules section 7.5.  \nParticipants will have 20 minutes for deck registration and 30 minutes for deck construction. \nTournament Schedule\nDoors will open at 9:00 am \nRegistration ends at 9:55 am.  \nThe player meeting will commence at 10:00 am with our head judge Nick Babcock\, followed by the start of deck registration. \nPrizes:\n1st – Store Credit + Exclusive Promo + Top 8 promo + RCQ Invite\n2nd – Store Credit + Exclusive Promo + Top 8 promo + RCQ Invite\n3/4th – Store Credit + Top 8 promo\n5-8th – Store Credit + Top 8 promo \nStore credit prizes will be scaled with attendance. But the major milestones will be: \n32 players: $750 store credit pool\n40 players: $1000 store credit pool\n64 players: $1600 store credit pool \nThe first 64 players to register will receive an RCQ participation promo.
URL:https://afk.games/event/dreamhack-rcq-draft-2-slot/
LOCATION:AFK Games\, 2495 Cedar Street STE 14-B\, Holt\, MI\, 48842\, United States
CATEGORIES:Draft,Events,Magic: The Gathering,RCQ
ORGANIZER;CN="AFK Games":MAILTO:support@afk-games.com
END:VEVENT
BEGIN:VEVENT
DTSTART;TZID=America/Detroit:20230616T183000
DTEND;TZID=America/Detroit:20230616T223000
DTSTAMP:20260425T231716
CREATED:20230422T162225Z
LAST-MODIFIED:20230422T162454Z
UID:10001322-1686940200-1686954600@afk.games
SUMMARY:Lord of the Rings - Friday 6:30 pm prerelease
DESCRIPTION:Crack open your packs\, assemble a 40-card minimum deck\, and battle for additional prize support! Each participant can earn up to 4 additional booster packs\, 1 booster pack per match win! \nContents— \n\n6 The Lord of the Rings: Tales of Middle-earth Draft Boosters\n1 foil\, year-stamped Main Set Rare or Mythic Rare\n1 foil\, year-stamped Promo card\n1 Helper card\n1 MTG Arena code card (only available in select regions)\n1 deck box\n1 Spindown die\n\nThis product does not contain Serialized Ring cards including the Serialized Elven\, Dwarven\, or Human Sol Ring cards\, and The 1 of 1 Ring (Serialized 001 of 001). Serialized Elven\, Dwarven\, and Human Sol Ring cards can only be found in some of The Lord of the Rings: Tales of Middle-earth Collector Boosters. Only one card has been printed of The One Ring (Serialized 001 of 001)\, and this card can only be found in one English-Language Collector Booster. Non-serialized Ring cards are mechanically identical to their Serialized versions.
URL:https://afk.games/event/lord-of-the-rings-friday-630-pm-prerelease/
LOCATION:AFK Games\, 2495 Cedar Street STE 14-B\, Holt\, MI\, 48842\, United States
CATEGORIES:Events,Magic: The Gathering,Prerelease,Sealed
ORGANIZER;CN="AFK Games":MAILTO:support@afk-games.com
END:VEVENT
BEGIN:VEVENT
DTSTART;TZID=America/Detroit:20230617T130000
DTEND;TZID=America/Detroit:20230617T180000
DTSTAMP:20260425T231716
CREATED:20230422T162643Z
LAST-MODIFIED:20230422T162643Z
UID:10001323-1687006800-1687024800@afk.games
SUMMARY:Lord of the Rings - Saturday 1:00 pm prerelease
DESCRIPTION:Crack open your packs\, assemble a 40-card minimum deck\, and battle for additional prize support! Each participant can earn up to 4 additional booster packs\, 1 booster pack per match win! \nContents— \n\n6 The Lord of the Rings: Tales of Middle-earth Draft Boosters\n1 foil\, year-stamped Main Set Rare or Mythic Rare\n1 foil\, year-stamped Promo card\n1 Helper card\n1 MTG Arena code card (only available in select regions)\n1 deck box\n1 Spindown die\n\nThis product does not contain Serialized Ring cards including the Serialized Elven\, Dwarven\, or Human Sol Ring cards\, and The 1 of 1 Ring (Serialized 001 of 001). Serialized Elven\, Dwarven\, and Human Sol Ring cards can only be found in some of The Lord of the Rings: Tales of Middle-earth Collector Boosters. Only one card has been printed of The One Ring (Serialized 001 of 001)\, and this card can only be found in one English-Language Collector Booster. Non-serialized Ring cards are mechanically identical to their Serialized versions.
URL:https://afk.games/event/lord-of-the-rings-saturday-100-pm-prerelease/
LOCATION:AFK Games\, 2495 Cedar Street STE 14-B\, Holt\, MI\, 48842\, United States
CATEGORIES:Events,Magic: The Gathering,Prerelease,Sealed
ORGANIZER;CN="AFK Games":MAILTO:support@afk-games.com
END:VEVENT
BEGIN:VEVENT
DTSTART;TZID=America/Detroit:20230617T180000
DTEND;TZID=America/Detroit:20230617T223000
DTSTAMP:20260425T231716
CREATED:20230422T162919Z
LAST-MODIFIED:20230422T162919Z
UID:10001324-1687024800-1687041000@afk.games
SUMMARY:Lord of the Rings - Saturday 6:00 pm prerelease
DESCRIPTION:Crack open your packs\, assemble a 40-card minimum deck\, and battle for additional prize support! Each participant can earn up to 4 additional booster packs\, 1 booster pack per match win! \nContents— \n\n6 The Lord of the Rings: Tales of Middle-earth Draft Boosters\n1 foil\, year-stamped Main Set Rare or Mythic Rare\n1 foil\, year-stamped Promo card\n1 Helper card\n1 MTG Arena code card (only available in select regions)\n1 deck box\n1 Spindown die\n\nThis product does not contain Serialized Ring cards including the Serialized Elven\, Dwarven\, or Human Sol Ring cards\, and The 1 of 1 Ring (Serialized 001 of 001). Serialized Elven\, Dwarven\, and Human Sol Ring cards can only be found in some of The Lord of the Rings: Tales of Middle-earth Collector Boosters. Only one card has been printed of The One Ring (Serialized 001 of 001)\, and this card can only be found in one English-Language Collector Booster. Non-serialized Ring cards are mechanically identical to their Serialized versions.
URL:https://afk.games/event/lord-of-the-rings-saturday-600-pm-prerelease/
LOCATION:AFK Games\, 2495 Cedar Street STE 14-B\, Holt\, MI\, 48842\, United States
CATEGORIES:Events,Magic: The Gathering,Prerelease,Sealed
ORGANIZER;CN="AFK Games":MAILTO:support@afk-games.com
END:VEVENT
BEGIN:VEVENT
DTSTART;TZID=America/Detroit:20230618T130000
DTEND;TZID=America/Detroit:20230618T173000
DTSTAMP:20260425T231716
CREATED:20230422T163246Z
LAST-MODIFIED:20230422T163246Z
UID:10001325-1687093200-1687109400@afk.games
SUMMARY:Lord of the Rings - Sunday 1:00 pm 2HG prerelease
DESCRIPTION:Crack open your packs\, assemble a 40-card minimum deck\, and battle for additional prize support! Each participant can earn up to 4 additional booster packs\, 1 booster pack per match win! \nContents— \n\n6 The Lord of the Rings: Tales of Middle-earth Draft Boosters\n1 foil\, year-stamped Main Set Rare or Mythic Rare\n1 foil\, year-stamped Promo card\n1 Helper card\n1 MTG Arena code card (only available in select regions)\n1 deck box\n1 Spindown die\n\nThis product does not contain Serialized Ring cards including the Serialized Elven\, Dwarven\, or Human Sol Ring cards\, and The 1 of 1 Ring (Serialized 001 of 001). Serialized Elven\, Dwarven\, and Human Sol Ring cards can only be found in some of The Lord of the Rings: Tales of Middle-earth Collector Boosters. Only one card has been printed of The One Ring (Serialized 001 of 001)\, and this card can only be found in one English-Language Collector Booster. Non-serialized Ring cards are mechanically identical to their Serialized versions.
URL:https://afk.games/event/lord-of-the-rings-sunday-100-pm-2hg-prerelease/
LOCATION:AFK Games\, 2495 Cedar Street STE 14-B\, Holt\, MI\, 48842\, United States
CATEGORIES:Events,Magic: The Gathering,Prerelease,Sealed
ORGANIZER;CN="AFK Games":MAILTO:support@afk-games.com
END:VEVENT
END:VCALENDAR