BEGIN:VCALENDAR
VERSION:2.0
PRODID:-//AFK Games - ECPv6.15.20//NONSGML v1.0//EN
CALSCALE:GREGORIAN
METHOD:PUBLISH
X-ORIGINAL-URL:https://afk.games
X-WR-CALDESC:Events for AFK Games
REFRESH-INTERVAL;VALUE=DURATION:PT1H
X-Robots-Tag:noindex
X-PUBLISHED-TTL:PT1H
BEGIN:VTIMEZONE
TZID:America/Detroit
BEGIN:DAYLIGHT
TZOFFSETFROM:-0500
TZOFFSETTO:-0400
TZNAME:EDT
DTSTART:20270314T070000
END:DAYLIGHT
BEGIN:STANDARD
TZOFFSETFROM:-0400
TZOFFSETTO:-0500
TZNAME:EST
DTSTART:20271107T060000
END:STANDARD
BEGIN:DAYLIGHT
TZOFFSETFROM:-0500
TZOFFSETTO:-0400
TZNAME:EDT
DTSTART:20280312T070000
END:DAYLIGHT
BEGIN:STANDARD
TZOFFSETFROM:-0400
TZOFFSETTO:-0500
TZNAME:EST
DTSTART:20281105T060000
END:STANDARD
BEGIN:DAYLIGHT
TZOFFSETFROM:-0500
TZOFFSETTO:-0400
TZNAME:EDT
DTSTART:20290311T070000
END:DAYLIGHT
BEGIN:STANDARD
TZOFFSETFROM:-0400
TZOFFSETTO:-0500
TZNAME:EST
DTSTART:20291104T060000
END:STANDARD
BEGIN:DAYLIGHT
TZOFFSETFROM:-0500
TZOFFSETTO:-0400
TZNAME:EDT
DTSTART:20300310T070000
END:DAYLIGHT
BEGIN:STANDARD
TZOFFSETFROM:-0400
TZOFFSETTO:-0500
TZNAME:EST
DTSTART:20301103T060000
END:STANDARD
END:VTIMEZONE
BEGIN:VEVENT
DTSTART;TZID=America/Detroit:20281228T173000
DTEND;TZID=America/Detroit:20281228T210000
DTSTAMP:20260420T001014
CREATED:20240321T195556Z
LAST-MODIFIED:20240321T195556Z
UID:10002661-1861637400-1861650000@afk.games
SUMMARY:Weekly Board Game Night
DESCRIPTION:Hey everyone! Are you ready for a fun night of board games? Join us for an open board game night at AFK Games! \nThe event starts at 5:30 pm and goes until 9:00 pm. \nBring your favorite board games and challenge your friends! We have plenty of tables set up! \nDon’t have a board game to bring? No worries\, there will be plenty of games to choose from. Come out\, meet some new people\, and have a great time playing your favorite games. We can’t wait to see you there!
URL:https://afk.games/event/weekly-board-game-night/2028-12-28/
LOCATION:AFK Games\, 2495 Cedar Street STE 14-B\, Holt\, MI\, 48842\, United States
CATEGORIES:Events
ORGANIZER;CN="AFK Games":MAILTO:support@afk-games.com
END:VEVENT
BEGIN:VEVENT
DTSTART;TZID=America/Detroit:20290104T173000
DTEND;TZID=America/Detroit:20290104T210000
DTSTAMP:20260420T001014
CREATED:20240321T195556Z
LAST-MODIFIED:20240321T195556Z
UID:10002662-1862242200-1862254800@afk.games
SUMMARY:Weekly Board Game Night
DESCRIPTION:Hey everyone! Are you ready for a fun night of board games? Join us for an open board game night at AFK Games! \nThe event starts at 5:30 pm and goes until 9:00 pm. \nBring your favorite board games and challenge your friends! We have plenty of tables set up! \nDon’t have a board game to bring? No worries\, there will be plenty of games to choose from. Come out\, meet some new people\, and have a great time playing your favorite games. We can’t wait to see you there!
URL:https://afk.games/event/weekly-board-game-night/2029-01-04/
LOCATION:AFK Games\, 2495 Cedar Street STE 14-B\, Holt\, MI\, 48842\, United States
CATEGORIES:Events
ORGANIZER;CN="AFK Games":MAILTO:support@afk-games.com
END:VEVENT
BEGIN:VEVENT
DTSTART;TZID=America/Detroit:20290111T173000
DTEND;TZID=America/Detroit:20290111T210000
DTSTAMP:20260420T001014
CREATED:20240321T195556Z
LAST-MODIFIED:20240321T195556Z
UID:10002663-1862847000-1862859600@afk.games
SUMMARY:Weekly Board Game Night
DESCRIPTION:Hey everyone! Are you ready for a fun night of board games? Join us for an open board game night at AFK Games! \nThe event starts at 5:30 pm and goes until 9:00 pm. \nBring your favorite board games and challenge your friends! We have plenty of tables set up! \nDon’t have a board game to bring? No worries\, there will be plenty of games to choose from. Come out\, meet some new people\, and have a great time playing your favorite games. We can’t wait to see you there!
URL:https://afk.games/event/weekly-board-game-night/2029-01-11/
LOCATION:AFK Games\, 2495 Cedar Street STE 14-B\, Holt\, MI\, 48842\, United States
CATEGORIES:Events
ORGANIZER;CN="AFK Games":MAILTO:support@afk-games.com
END:VEVENT
BEGIN:VEVENT
DTSTART;TZID=America/Detroit:20290118T173000
DTEND;TZID=America/Detroit:20290118T210000
DTSTAMP:20260420T001014
CREATED:20240321T195556Z
LAST-MODIFIED:20240321T195556Z
UID:10002664-1863451800-1863464400@afk.games
SUMMARY:Weekly Board Game Night
DESCRIPTION:Hey everyone! Are you ready for a fun night of board games? Join us for an open board game night at AFK Games! \nThe event starts at 5:30 pm and goes until 9:00 pm. \nBring your favorite board games and challenge your friends! We have plenty of tables set up! \nDon’t have a board game to bring? No worries\, there will be plenty of games to choose from. Come out\, meet some new people\, and have a great time playing your favorite games. We can’t wait to see you there!
URL:https://afk.games/event/weekly-board-game-night/2029-01-18/
LOCATION:AFK Games\, 2495 Cedar Street STE 14-B\, Holt\, MI\, 48842\, United States
CATEGORIES:Events
ORGANIZER;CN="AFK Games":MAILTO:support@afk-games.com
END:VEVENT
BEGIN:VEVENT
DTSTART;TZID=America/Detroit:20290125T173000
DTEND;TZID=America/Detroit:20290125T210000
DTSTAMP:20260420T001014
CREATED:20240321T195556Z
LAST-MODIFIED:20240321T195556Z
UID:10002665-1864056600-1864069200@afk.games
SUMMARY:Weekly Board Game Night
DESCRIPTION:Hey everyone! Are you ready for a fun night of board games? Join us for an open board game night at AFK Games! \nThe event starts at 5:30 pm and goes until 9:00 pm. \nBring your favorite board games and challenge your friends! We have plenty of tables set up! \nDon’t have a board game to bring? No worries\, there will be plenty of games to choose from. Come out\, meet some new people\, and have a great time playing your favorite games. We can’t wait to see you there!
URL:https://afk.games/event/weekly-board-game-night/2029-01-25/
LOCATION:AFK Games\, 2495 Cedar Street STE 14-B\, Holt\, MI\, 48842\, United States
CATEGORIES:Events
ORGANIZER;CN="AFK Games":MAILTO:support@afk-games.com
END:VEVENT
BEGIN:VEVENT
DTSTART;TZID=America/Detroit:20290201T173000
DTEND;TZID=America/Detroit:20290201T210000
DTSTAMP:20260420T001014
CREATED:20240321T195556Z
LAST-MODIFIED:20240321T195556Z
UID:10002666-1864661400-1864674000@afk.games
SUMMARY:Weekly Board Game Night
DESCRIPTION:Hey everyone! Are you ready for a fun night of board games? Join us for an open board game night at AFK Games! \nThe event starts at 5:30 pm and goes until 9:00 pm. \nBring your favorite board games and challenge your friends! We have plenty of tables set up! \nDon’t have a board game to bring? No worries\, there will be plenty of games to choose from. Come out\, meet some new people\, and have a great time playing your favorite games. We can’t wait to see you there!
URL:https://afk.games/event/weekly-board-game-night/2029-02-01/
LOCATION:AFK Games\, 2495 Cedar Street STE 14-B\, Holt\, MI\, 48842\, United States
CATEGORIES:Events
ORGANIZER;CN="AFK Games":MAILTO:support@afk-games.com
END:VEVENT
BEGIN:VEVENT
DTSTART;TZID=America/Detroit:20290208T173000
DTEND;TZID=America/Detroit:20290208T210000
DTSTAMP:20260420T001014
CREATED:20240321T195556Z
LAST-MODIFIED:20240321T195556Z
UID:10002667-1865266200-1865278800@afk.games
SUMMARY:Weekly Board Game Night
DESCRIPTION:Hey everyone! Are you ready for a fun night of board games? Join us for an open board game night at AFK Games! \nThe event starts at 5:30 pm and goes until 9:00 pm. \nBring your favorite board games and challenge your friends! We have plenty of tables set up! \nDon’t have a board game to bring? No worries\, there will be plenty of games to choose from. Come out\, meet some new people\, and have a great time playing your favorite games. We can’t wait to see you there!
URL:https://afk.games/event/weekly-board-game-night/2029-02-08/
LOCATION:AFK Games\, 2495 Cedar Street STE 14-B\, Holt\, MI\, 48842\, United States
CATEGORIES:Events
ORGANIZER;CN="AFK Games":MAILTO:support@afk-games.com
END:VEVENT
BEGIN:VEVENT
DTSTART;TZID=America/Detroit:20290215T173000
DTEND;TZID=America/Detroit:20290215T210000
DTSTAMP:20260420T001014
CREATED:20240321T195556Z
LAST-MODIFIED:20240321T195556Z
UID:10002668-1865871000-1865883600@afk.games
SUMMARY:Weekly Board Game Night
DESCRIPTION:Hey everyone! Are you ready for a fun night of board games? Join us for an open board game night at AFK Games! \nThe event starts at 5:30 pm and goes until 9:00 pm. \nBring your favorite board games and challenge your friends! We have plenty of tables set up! \nDon’t have a board game to bring? No worries\, there will be plenty of games to choose from. Come out\, meet some new people\, and have a great time playing your favorite games. We can’t wait to see you there!
URL:https://afk.games/event/weekly-board-game-night/2029-02-15/
LOCATION:AFK Games\, 2495 Cedar Street STE 14-B\, Holt\, MI\, 48842\, United States
CATEGORIES:Events
ORGANIZER;CN="AFK Games":MAILTO:support@afk-games.com
END:VEVENT
BEGIN:VEVENT
DTSTART;TZID=America/Detroit:20290222T173000
DTEND;TZID=America/Detroit:20290222T210000
DTSTAMP:20260420T001014
CREATED:20240321T195556Z
LAST-MODIFIED:20240321T195556Z
UID:10002669-1866475800-1866488400@afk.games
SUMMARY:Weekly Board Game Night
DESCRIPTION:Hey everyone! Are you ready for a fun night of board games? Join us for an open board game night at AFK Games! \nThe event starts at 5:30 pm and goes until 9:00 pm. \nBring your favorite board games and challenge your friends! We have plenty of tables set up! \nDon’t have a board game to bring? No worries\, there will be plenty of games to choose from. Come out\, meet some new people\, and have a great time playing your favorite games. We can’t wait to see you there!
URL:https://afk.games/event/weekly-board-game-night/2029-02-22/
LOCATION:AFK Games\, 2495 Cedar Street STE 14-B\, Holt\, MI\, 48842\, United States
CATEGORIES:Events
ORGANIZER;CN="AFK Games":MAILTO:support@afk-games.com
END:VEVENT
BEGIN:VEVENT
DTSTART;TZID=America/Detroit:20290301T173000
DTEND;TZID=America/Detroit:20290301T210000
DTSTAMP:20260420T001014
CREATED:20240321T195556Z
LAST-MODIFIED:20240321T195556Z
UID:10002670-1867080600-1867093200@afk.games
SUMMARY:Weekly Board Game Night
DESCRIPTION:Hey everyone! Are you ready for a fun night of board games? Join us for an open board game night at AFK Games! \nThe event starts at 5:30 pm and goes until 9:00 pm. \nBring your favorite board games and challenge your friends! We have plenty of tables set up! \nDon’t have a board game to bring? No worries\, there will be plenty of games to choose from. Come out\, meet some new people\, and have a great time playing your favorite games. We can’t wait to see you there!
URL:https://afk.games/event/weekly-board-game-night/2029-03-01/
LOCATION:AFK Games\, 2495 Cedar Street STE 14-B\, Holt\, MI\, 48842\, United States
CATEGORIES:Events
ORGANIZER;CN="AFK Games":MAILTO:support@afk-games.com
END:VEVENT
BEGIN:VEVENT
DTSTART;TZID=America/Detroit:20290308T173000
DTEND;TZID=America/Detroit:20290308T210000
DTSTAMP:20260420T001014
CREATED:20240321T195556Z
LAST-MODIFIED:20240321T195556Z
UID:10002671-1867685400-1867698000@afk.games
SUMMARY:Weekly Board Game Night
DESCRIPTION:Hey everyone! Are you ready for a fun night of board games? Join us for an open board game night at AFK Games! \nThe event starts at 5:30 pm and goes until 9:00 pm. \nBring your favorite board games and challenge your friends! We have plenty of tables set up! \nDon’t have a board game to bring? No worries\, there will be plenty of games to choose from. Come out\, meet some new people\, and have a great time playing your favorite games. We can’t wait to see you there!
URL:https://afk.games/event/weekly-board-game-night/2029-03-08/
LOCATION:AFK Games\, 2495 Cedar Street STE 14-B\, Holt\, MI\, 48842\, United States
CATEGORIES:Events
ORGANIZER;CN="AFK Games":MAILTO:support@afk-games.com
END:VEVENT
BEGIN:VEVENT
DTSTART;TZID=America/Detroit:20290315T173000
DTEND;TZID=America/Detroit:20290315T210000
DTSTAMP:20260420T001014
CREATED:20240321T195556Z
LAST-MODIFIED:20240321T195556Z
UID:10002672-1868290200-1868302800@afk.games
SUMMARY:Weekly Board Game Night
DESCRIPTION:Hey everyone! Are you ready for a fun night of board games? Join us for an open board game night at AFK Games! \nThe event starts at 5:30 pm and goes until 9:00 pm. \nBring your favorite board games and challenge your friends! We have plenty of tables set up! \nDon’t have a board game to bring? No worries\, there will be plenty of games to choose from. Come out\, meet some new people\, and have a great time playing your favorite games. We can’t wait to see you there!
URL:https://afk.games/event/weekly-board-game-night/2029-03-15/
LOCATION:AFK Games\, 2495 Cedar Street STE 14-B\, Holt\, MI\, 48842\, United States
CATEGORIES:Events
ORGANIZER;CN="AFK Games":MAILTO:support@afk-games.com
END:VEVENT
END:VCALENDAR