BEGIN:VCALENDAR
VERSION:2.0
PRODID:-//AFK Games - ECPv6.15.20//NONSGML v1.0//EN
CALSCALE:GREGORIAN
METHOD:PUBLISH
X-WR-CALNAME:AFK Games
X-ORIGINAL-URL:https://afk.games
X-WR-CALDESC:Events for AFK Games
REFRESH-INTERVAL;VALUE=DURATION:PT1H
X-Robots-Tag:noindex
X-PUBLISHED-TTL:PT1H
BEGIN:VTIMEZONE
TZID:America/Detroit
BEGIN:DAYLIGHT
TZOFFSETFROM:-0500
TZOFFSETTO:-0400
TZNAME:EDT
DTSTART:20230312T070000
END:DAYLIGHT
BEGIN:STANDARD
TZOFFSETFROM:-0400
TZOFFSETTO:-0500
TZNAME:EST
DTSTART:20231105T060000
END:STANDARD
BEGIN:DAYLIGHT
TZOFFSETFROM:-0500
TZOFFSETTO:-0400
TZNAME:EDT
DTSTART:20240310T070000
END:DAYLIGHT
BEGIN:STANDARD
TZOFFSETFROM:-0400
TZOFFSETTO:-0500
TZNAME:EST
DTSTART:20241103T060000
END:STANDARD
BEGIN:DAYLIGHT
TZOFFSETFROM:-0500
TZOFFSETTO:-0400
TZNAME:EDT
DTSTART:20250309T070000
END:DAYLIGHT
BEGIN:STANDARD
TZOFFSETFROM:-0400
TZOFFSETTO:-0500
TZNAME:EST
DTSTART:20251102T060000
END:STANDARD
END:VTIMEZONE
BEGIN:VEVENT
DTSTART;TZID=America/Detroit:20241102T123000
DTEND;TZID=America/Detroit:20241102T183000
DTSTAMP:20260423T052646
CREATED:20240928T230433Z
LAST-MODIFIED:20240928T230433Z
UID:10003056-1730550600-1730572200@afk.games
SUMMARY:Warhammer 40K Combat Patrol Event
DESCRIPTION:Thank you for joining us for a day of Warhammer action! This event is designed to be laid-back and new player-friendly\, with an open structure that lets you play at your own pace. Feel free to jump into as many or as few games as you like\, and come and go as you please. Whether you’re a new player exploring strategies or a veteran looking for some fun matchups\, this event is all about enjoying the game \nEvent Details\n\nDate: November 2nd\nTime:\n\n12:00 PM: Doors Open & Registration\n12:30 PM: Game 1 start\n2:00 PM: Game 2 start\n3:30 PM: Game 3 start\n5:00 PM: Game 4 start\n\n\nLocation: \nAFK Games \n2495 Cedar Street STE 14-B\nHolt\, MI 48842\n\nEntry Information\n\nEntry Fee:\n\n$4/game per player\n\n\nWhat to bring:\n\nYour combat patrol\nYour combat patrol rules\n\nIf you are using a White Dwarf combat patrol you must bring the White Dwarf\n\n\nTape measure & Dice\n\n\n\nPrizes \n\nThere will be a raffle drawing after every game. All entry fees will be put towards raffle prizes. \n\nEveryone who played in a round will be entered into the raffle(s) for that round.
URL:https://afk.games/event/warhammer-40k-combat-patrol-event/
LOCATION:AFK Games\, 2495 Cedar Street STE 14-B\, Holt\, MI\, 48842\, United States
CATEGORIES:Events,Games Workshop,Warhammer 40K
ORGANIZER;CN="AFK Games":MAILTO:support@afk-games.com
END:VEVENT
END:VCALENDAR