BEGIN:VCALENDAR
VERSION:2.0
PRODID:-//AFK Games - ECPv6.15.20//NONSGML v1.0//EN
CALSCALE:GREGORIAN
METHOD:PUBLISH
X-ORIGINAL-URL:https://afk.games
X-WR-CALDESC:Events for AFK Games
REFRESH-INTERVAL;VALUE=DURATION:PT1H
X-Robots-Tag:noindex
X-PUBLISHED-TTL:PT1H
BEGIN:VTIMEZONE
TZID:America/Detroit
BEGIN:DAYLIGHT
TZOFFSETFROM:-0500
TZOFFSETTO:-0400
TZNAME:EDT
DTSTART:20220313T070000
END:DAYLIGHT
BEGIN:STANDARD
TZOFFSETFROM:-0400
TZOFFSETTO:-0500
TZNAME:EST
DTSTART:20221106T060000
END:STANDARD
BEGIN:DAYLIGHT
TZOFFSETFROM:-0500
TZOFFSETTO:-0400
TZNAME:EDT
DTSTART:20230312T070000
END:DAYLIGHT
BEGIN:STANDARD
TZOFFSETFROM:-0400
TZOFFSETTO:-0500
TZNAME:EST
DTSTART:20231105T060000
END:STANDARD
BEGIN:DAYLIGHT
TZOFFSETFROM:-0500
TZOFFSETTO:-0400
TZNAME:EDT
DTSTART:20240310T070000
END:DAYLIGHT
BEGIN:STANDARD
TZOFFSETFROM:-0400
TZOFFSETTO:-0500
TZNAME:EST
DTSTART:20241103T060000
END:STANDARD
END:VTIMEZONE
BEGIN:VEVENT
DTSTART;TZID=America/Detroit:20231208T170000
DTEND;TZID=America/Detroit:20231208T220000
DTSTAMP:20260425T072746
CREATED:20230804T184048Z
LAST-MODIFIED:20230804T184113Z
UID:10001558-1702054800-1702072800@afk.games
SUMMARY:Open Wargaming
DESCRIPTION:Open Wargaming is happening every Friday evening starting at 5:00 pm. They’ve got a great lineup of games to choose from\, including Age of Sigmar\, Para Bellum Conquest\, Warhammer 40K\, Marvel: Crisis Protocol\, Star Wars: Shatterpoint\, Star Wars: Legion and many more. If you’re a fan of strategy and action-packed games\, you won’t want to miss out on this one! See you there!
URL:https://afk.games/event/open-wargaming/2023-12-08/
LOCATION:AFK Games\, 2495 Cedar Street STE 14-B\, Holt\, MI\, 48842\, United States
CATEGORIES:Age of Sigmar,Atomic Mass Games,Games Workshop,Marvel: Crisis Protocol,Star Wars: Legion,Star Wars: Shatterpoint,Warhammer 40K
ORGANIZER;CN="AFK Games":MAILTO:support@afk-games.com
END:VEVENT
BEGIN:VEVENT
DTSTART;TZID=America/Detroit:20231209T123000
DTEND;TZID=America/Detroit:20231209T190000
DTSTAMP:20260425T072746
CREATED:20231103T005815Z
LAST-MODIFIED:20231103T005815Z
UID:10001997-1702125000-1702148400@afk.games
SUMMARY:December Combat Patrol Tournament
DESCRIPTION:AFK Games will host a Combat Patrol Warhammer 40K tournament on December 9th\, 2023.  \nTournament Format\n\nRounds – 3\nRound time – 90 Minutes\nTable Size – 30×44\nFormat – Swiss\nSoftware – BCP\nDoors – 12:00 PM\nStart – 12:30 PM\nEntry – $10\n\n\nOnce time is called\, dice go down and score for the end of the current round only. \nThe Missions will be: \nMission 1: Clash of Patrols\nMission 5: Sweeping Raid\nMission 4: Scorched Earth \n\nAll Combat Patrol rules\, missions\, and Datasheets are available for download on the Warhammer Community website: https://www.warhammer-community.com/warhammer-40000-downloads/#combat-patrol-datasheets\n \nArmy Selection\n\nEach player will bring their Combat Patrol army that aligns with the current rules\, errata\, and FAQ.\n\nPainting and Basing\n\nAll models must be based on their current base size.\nPainting is not required.\nWYSIWYG is not required\n\nUnit construction should align to the combat patrol datasheets\nPlease ensure your opponent is on the same page about which models are which.\n\n\n\nPlayer Responsibilities\n\nBring your army\nAll materials needed to play a game/report the results – including:\n\nDice\nMeasuring devices\n\n\n\nPlayers are also responsible for conducting themselves in an appropriate\, sportsmanlike manner. \nPrizes \nRaffle prizes\n\nHobby supplies\nModel kits\nETC\n\nRaffle ticket requisition:\nPlay a game – 1 ticket\nWin a game – 1 ticket\nFully painted – 1 ticket\nBe 15 minutes early – 1 ticket 
URL:https://afk.games/event/december-combat-patrol-tournament/
LOCATION:AFK Games\, 2495 Cedar Street STE 14-B\, Holt\, MI\, 48842\, United States
CATEGORIES:Events,Games Workshop,Warhammer 40K
ORGANIZER;CN="AFK Games":MAILTO:support@afk-games.com
END:VEVENT
END:VCALENDAR