BEGIN:VCALENDAR
VERSION:2.0
PRODID:-//AFK Games - ECPv6.15.20//NONSGML v1.0//EN
CALSCALE:GREGORIAN
METHOD:PUBLISH
X-ORIGINAL-URL:https://afk.games
X-WR-CALDESC:Events for AFK Games
REFRESH-INTERVAL;VALUE=DURATION:PT1H
X-Robots-Tag:noindex
X-PUBLISHED-TTL:PT1H
BEGIN:VTIMEZONE
TZID:America/Detroit
BEGIN:DAYLIGHT
TZOFFSETFROM:-0500
TZOFFSETTO:-0400
TZNAME:EDT
DTSTART:20240310T070000
END:DAYLIGHT
BEGIN:STANDARD
TZOFFSETFROM:-0400
TZOFFSETTO:-0500
TZNAME:EST
DTSTART:20241103T060000
END:STANDARD
BEGIN:DAYLIGHT
TZOFFSETFROM:-0500
TZOFFSETTO:-0400
TZNAME:EDT
DTSTART:20250309T070000
END:DAYLIGHT
BEGIN:STANDARD
TZOFFSETFROM:-0400
TZOFFSETTO:-0500
TZNAME:EST
DTSTART:20251102T060000
END:STANDARD
BEGIN:DAYLIGHT
TZOFFSETFROM:-0500
TZOFFSETTO:-0400
TZNAME:EDT
DTSTART:20260308T070000
END:DAYLIGHT
BEGIN:STANDARD
TZOFFSETFROM:-0400
TZOFFSETTO:-0500
TZNAME:EST
DTSTART:20261101T060000
END:STANDARD
END:VTIMEZONE
BEGIN:VEVENT
DTSTART;TZID=America/Detroit:20250104T130000
DTEND;TZID=America/Detroit:20250104T173000
DTSTAMP:20260423T020722
CREATED:20241222T192329Z
LAST-MODIFIED:20241222T192329Z
UID:10003296-1735995600-1736011800@afk.games
SUMMARY:Warhammer 40K - 1000 Point Tournament
DESCRIPTION:AFK Games is hosting a 1000-point tournament to kick off the new year. \nTournament Format\n\nRounds – 2\nRound time – 2 hours\nFormat – Swiss\nEntry – $10\nStart – 1:00 pm\n\nStrike force on 30”x44” (Half the size\, double the action!) \nMissions and deployments will be announced at the start of each round.  \nTicket: https://www.bestcoastpairings.com/event/EWdTCviAzp6r \nArmy Selection\n\n1000-point armies\, 10th Edition\, Parian Nexus Mission Pack\n\nList must be BattleForged\nRule of 2 is applied to this event. (Duplicate Battle Line unit is 6\, all other limit of 2\, transport rules remain the same.)\n\n\nOnly armies from current Codices or officially approved White Dwarf articles may be taken\nPlayers must use the same army and list for the entire event.\n\nWYSIWYG Models\nAll models must accurately represent the appropriate army selection in a manner that your opponent can clearly tell what the unit is and how it is equipped without being told. Models must be correctly modeled.  \n\nForge World models are allowed.\nLords of War are not allowed unless specified by the event.\nNo legends\n\nPainting and Basing\n\nAll models must be based on their current base size.\nPainting is not required.\n\nPlayer Responsibilities\n\nA current Warhammer 40\,000 rulebook\nCurrent Codex for your army.\nThe most currently published rules for all units represented in their army.\nAll materials needed to play a game/report the results – including:\n\nDice\nMeasuring device\n\n\n\nPlayers are also responsible for conducting themselves in an appropriate\, sportsmanlike manner at all times. \nPrizes\nPrizes will be a raffle! Players can get tickets for the following: \n\n Fully painted army\n Playing a game\n Winning a game\n Being prepared to play 15 minutes before the start\, without assistance.
URL:https://afk.games/event/warhammer-40k-1000-point-tournament-2/
LOCATION:AFK Games\, 2495 Cedar Street STE 14-B\, Holt\, MI\, 48842\, United States
CATEGORIES:Events,Games Workshop,Warhammer 40K
ORGANIZER;CN="AFK Games":MAILTO:support@afk-games.com
END:VEVENT
END:VCALENDAR