BEGIN:VCALENDAR
VERSION:2.0
PRODID:-//AFK Games - ECPv6.15.20//NONSGML v1.0//EN
CALSCALE:GREGORIAN
METHOD:PUBLISH
X-WR-CALNAME:AFK Games
X-ORIGINAL-URL:https://afk.games
X-WR-CALDESC:Events for AFK Games
REFRESH-INTERVAL;VALUE=DURATION:PT1H
X-Robots-Tag:noindex
X-PUBLISHED-TTL:PT1H
BEGIN:VTIMEZONE
TZID:America/Detroit
BEGIN:DAYLIGHT
TZOFFSETFROM:-0500
TZOFFSETTO:-0400
TZNAME:EDT
DTSTART:20230312T070000
END:DAYLIGHT
BEGIN:STANDARD
TZOFFSETFROM:-0400
TZOFFSETTO:-0500
TZNAME:EST
DTSTART:20231105T060000
END:STANDARD
BEGIN:DAYLIGHT
TZOFFSETFROM:-0500
TZOFFSETTO:-0400
TZNAME:EDT
DTSTART:20240310T070000
END:DAYLIGHT
BEGIN:STANDARD
TZOFFSETFROM:-0400
TZOFFSETTO:-0500
TZNAME:EST
DTSTART:20241103T060000
END:STANDARD
BEGIN:DAYLIGHT
TZOFFSETFROM:-0500
TZOFFSETTO:-0400
TZNAME:EDT
DTSTART:20250309T070000
END:DAYLIGHT
BEGIN:STANDARD
TZOFFSETFROM:-0400
TZOFFSETTO:-0500
TZNAME:EST
DTSTART:20251102T060000
END:STANDARD
BEGIN:DAYLIGHT
TZOFFSETFROM:-0500
TZOFFSETTO:-0400
TZNAME:EDT
DTSTART:20260308T070000
END:DAYLIGHT
BEGIN:STANDARD
TZOFFSETFROM:-0400
TZOFFSETTO:-0500
TZNAME:EST
DTSTART:20261101T060000
END:STANDARD
END:VTIMEZONE
BEGIN:VEVENT
DTSTART;TZID=America/Detroit:20241231T183000
DTEND;TZID=America/Detroit:20241231T213000
DTSTAMP:20260419T211354
CREATED:20240701T214925Z
LAST-MODIFIED:20241220T015212Z
UID:10002178-1735669800-1735680600@afk.games
SUMMARY:One Piece TCG - Store Tournament vol.7
DESCRIPTION:One Piece OP07 League – The league lasts until the release of set 8 (September 2024) the final events for this League are the two OP08 Prereleases on 9/7/24 and 9/10/24. \n-$10 Entry Fee- \nIf we are out of OP06\, entry will be $5\nBo1 Swiss 35 min rounds + 5 minutes of extra time \nEntry:\n1 OP07 Pack \nPrizing:\n**1st** – Winner pack\n**Top 16** – one tournament pack \n$6 Per head will be used to build the league pot – This pot will be distributed to the top 25%+ of the league \nCurrent leaderboard status:\nhttps://gear5.gg \nHow to earn league points for league ranking:\n• **Win a match** – 3 Points\n• **Undefeated (no round losses in the event)** – 2 Points\n• **Defeat last event’s winner – 1 Point per event**\n• **Lose a match** – 1 Point\n• **Draw** – 1 Point\n• **Participate in the weekly event** – 2 Point\n• **Bring someone new to the league** – 3 Points\n‣ Once per new player to the league\n‣ Once per event \nLeague Info:\nhttps://www.gear5.gg/info
URL:https://afk.games/event/one-piece-tcg-store-tournament-vol-5-2-2-2/2024-12-31/
LOCATION:AFK Games\, 2495 Cedar Street STE 14-B\, Holt\, MI\, 48842\, United States
CATEGORIES:Bandai,Events,One Piece TCG
ORGANIZER;CN="AFK Games":MAILTO:support@afk-games.com
END:VEVENT
BEGIN:VEVENT
DTSTART;TZID=America/Detroit:20250104T123000
DTEND;TZID=America/Detroit:20250104T190000
DTSTAMP:20260419T211354
CREATED:20241204T210527Z
LAST-MODIFIED:20241204T210527Z
UID:10003070-1735993800-1736017200@afk.games
SUMMARY:Duskmourn - End of year Store Championship
DESCRIPTION:Event Details:\nPrepare your best Standard deck and join us for the Duskmourn: House of Horror Store Championship! This is your chance to compete in a structured tournament celebrating Magic: The Gathering’s Standard format. Sharpen your skills\, showcase your deck-building prowess\, and claim your spot among the top players in our community. \nTournament Format: \n\nFormat: Standard\nRules Enforcement Level: Regular (aimed at fun\, competitive play)\nPairing Method: Swiss Rounds\n\nPromos & Prizes:\nAll players receive promos based on availability\, distributed on a first-come\, first-served basis at registration: \n\nParticipation Promo: Chromatic Sphere\nTop 8 Promo: Reality Smasher\nWinner Promo: Void Winnower\n\nIf you’re one of our Top 8 finalists\, you’ll receive an additional Top-8 promo. The winner of the event will take home the exclusive Winner promo\, cementing their victory with this rare prize! \nOur WPN Premium Store status also means that Top 8 and Winner promos will include special nonfoil versions with our store’s name printed on the card! \nAdditional Prizes: \n\nStore Credit: Awarded to top players based on their records.
URL:https://afk.games/event/duskmourn-end-of-year-store-championship/
LOCATION:AFK Games\, 2495 Cedar Street STE 14-B\, Holt\, MI\, 48842\, United States
CATEGORIES:Events,Magic: The Gathering,Standard
ORGANIZER;CN="AFK Games":MAILTO:support@afk-games.com
END:VEVENT
END:VCALENDAR