BEGIN:VCALENDAR
VERSION:2.0
PRODID:-//AFK Games - ECPv6.15.20//NONSGML v1.0//EN
CALSCALE:GREGORIAN
METHOD:PUBLISH
X-ORIGINAL-URL:https://afk.games
X-WR-CALDESC:Events for AFK Games
REFRESH-INTERVAL;VALUE=DURATION:PT1H
X-Robots-Tag:noindex
X-PUBLISHED-TTL:PT1H
BEGIN:VTIMEZONE
TZID:America/Detroit
BEGIN:DAYLIGHT
TZOFFSETFROM:-0500
TZOFFSETTO:-0400
TZNAME:EDT
DTSTART:20230312T070000
END:DAYLIGHT
BEGIN:STANDARD
TZOFFSETFROM:-0400
TZOFFSETTO:-0500
TZNAME:EST
DTSTART:20231105T060000
END:STANDARD
BEGIN:DAYLIGHT
TZOFFSETFROM:-0500
TZOFFSETTO:-0400
TZNAME:EDT
DTSTART:20240310T070000
END:DAYLIGHT
BEGIN:STANDARD
TZOFFSETFROM:-0400
TZOFFSETTO:-0500
TZNAME:EST
DTSTART:20241103T060000
END:STANDARD
BEGIN:DAYLIGHT
TZOFFSETFROM:-0500
TZOFFSETTO:-0400
TZNAME:EDT
DTSTART:20250309T070000
END:DAYLIGHT
BEGIN:STANDARD
TZOFFSETFROM:-0400
TZOFFSETTO:-0500
TZNAME:EST
DTSTART:20251102T060000
END:STANDARD
END:VTIMEZONE
BEGIN:VEVENT
DTSTART;TZID=America/Detroit:20240716T183000
DTEND;TZID=America/Detroit:20240716T213000
DTSTAMP:20260420T155500
CREATED:20240701T214925Z
LAST-MODIFIED:20241220T015212Z
UID:10002154-1721154600-1721165400@afk.games
SUMMARY:One Piece TCG - Store Tournament vol.7
DESCRIPTION:One Piece OP07 League – The league lasts until the release of set 8 (September 2024) the final events for this League are the two OP08 Prereleases on 9/7/24 and 9/10/24. \n-$10 Entry Fee- \nIf we are out of OP06\, entry will be $5\nBo1 Swiss 35 min rounds + 5 minutes of extra time \nEntry:\n1 OP07 Pack \nPrizing:\n**1st** – Winner pack\n**Top 16** – one tournament pack \n$6 Per head will be used to build the league pot – This pot will be distributed to the top 25%+ of the league \nCurrent leaderboard status:\nhttps://gear5.gg \nHow to earn league points for league ranking:\n• **Win a match** – 3 Points\n• **Undefeated (no round losses in the event)** – 2 Points\n• **Defeat last event’s winner – 1 Point per event**\n• **Lose a match** – 1 Point\n• **Draw** – 1 Point\n• **Participate in the weekly event** – 2 Point\n• **Bring someone new to the league** – 3 Points\n‣ Once per new player to the league\n‣ Once per event \nLeague Info:\nhttps://www.gear5.gg/info
URL:https://afk.games/event/one-piece-tcg-store-tournament-vol-5-2-2-2/2024-07-16/
LOCATION:AFK Games\, 2495 Cedar Street STE 14-B\, Holt\, MI\, 48842\, United States
CATEGORIES:Bandai,Events,One Piece TCG
ORGANIZER;CN="AFK Games":MAILTO:support@afk-games.com
END:VEVENT
BEGIN:VEVENT
DTSTART;TZID=America/Detroit:20240720T120000
DTEND;TZID=America/Detroit:20240720T200000
DTSTAMP:20260420T155500
CREATED:20240616T184326Z
LAST-MODIFIED:20240616T185708Z
UID:10002932-1721476800-1721505600@afk.games
SUMMARY:Disney Lorcana - Ursula’s Return Championship
DESCRIPTION:Tournament Format\n\nRounds – Swiss Rounds and possible Top Cut\, depending on attendance (See below)\nRound time – 55 minutes \nFormat – Core (Constructed) – Competitive REL – Best of Three (Top Cut matches are 70 minutes. Finals are untimed)\nDoors – 11:30 am\nStart – 12:00 pm\nEntry – $20\n\nDecklists are required. They can be submitted on Melee.gg or with a paper decklist at the event. \nTo run this event we need a minimum of 8 players. If we have under 8\, players we will unfortunately have to cancel the event. \n\nChampion: The winner receives:  \n\nStore Championship Playmat\n1 Ursula – Sea Witch Queen promo card\n\nRunner-Up: the second-place finisher receives: \n\nUrsula — Sea Witch Queen Playmat (non-champion version)\n1 Ursula – Sea Witch Queen promo card\n\nThird and fourth-place finishers each receive:  \n\n1 Ursula – Sea Witch Queen promo card\n\nThere will also be prize packs for the top players based on final standings + some raffle door prizes. \nResources\n\nDeck registration sheet: https://cdn.ravensburger.com/lorcana/op-constructed-decklist-registration-sheet \nInto the Inklands Championship rules:\nhttps://files.disneylorcana.com/Ursulas-Return_OPChampionships_Event-Instructions_EN.pdf
URL:https://afk.games/event/ursulas-return-championship/
LOCATION:AFK Games\, 2495 Cedar Street STE 14-B\, Holt\, MI\, 48842\, United States
ORGANIZER;CN="AFK Games":MAILTO:support@afk-games.com
END:VEVENT
BEGIN:VEVENT
DTSTART;TZID=America/Detroit:20240720T123000
DTEND;TZID=America/Detroit:20240720T170000
DTSTAMP:20260420T155500
CREATED:20240616T184733Z
LAST-MODIFIED:20240616T184823Z
UID:10002933-1721478600-1721494800@afk.games
SUMMARY:One Piece - Sealed Battle 2024 Vol.2
DESCRIPTION:In this sealed deck battle\, players purchase 6 booster packs at the store where the event is held and build their decks on the spot. As a souvenir for participating players will receive a 6-color leader card that can only be used at this event\, so they have a leader to use in the battle no matter which color is in the packs they open. \nParticipation\n\nLeader Card (6 color Monkey.D.Luffy) New Art\nP-066 Boa Hancock\n\nWinner\nP-066 Boa Hancock (Winner ver.)\n\n*Winner card is a foil design.
URL:https://afk.games/event/one-piece-sealed-battle-2024-vol-2/2024-07-20/
LOCATION:AFK Games\, 2495 Cedar Street STE 14-B\, Holt\, MI\, 48842\, United States
CATEGORIES:Bandai,Events,One Piece TCG
ORGANIZER;CN="AFK Games":MAILTO:support@afk-games.com
END:VEVENT
END:VCALENDAR