BEGIN:VCALENDAR
VERSION:2.0
PRODID:-//AFK Games - ECPv6.15.20//NONSGML v1.0//EN
CALSCALE:GREGORIAN
METHOD:PUBLISH
X-WR-CALNAME:AFK Games
X-ORIGINAL-URL:https://afk.games
X-WR-CALDESC:Events for AFK Games
REFRESH-INTERVAL;VALUE=DURATION:PT1H
X-Robots-Tag:noindex
X-PUBLISHED-TTL:PT1H
BEGIN:VTIMEZONE
TZID:America/Detroit
BEGIN:DAYLIGHT
TZOFFSETFROM:-0500
TZOFFSETTO:-0400
TZNAME:EDT
DTSTART:20230312T070000
END:DAYLIGHT
BEGIN:STANDARD
TZOFFSETFROM:-0400
TZOFFSETTO:-0500
TZNAME:EST
DTSTART:20231105T060000
END:STANDARD
BEGIN:DAYLIGHT
TZOFFSETFROM:-0500
TZOFFSETTO:-0400
TZNAME:EDT
DTSTART:20240310T070000
END:DAYLIGHT
BEGIN:STANDARD
TZOFFSETFROM:-0400
TZOFFSETTO:-0500
TZNAME:EST
DTSTART:20241103T060000
END:STANDARD
BEGIN:DAYLIGHT
TZOFFSETFROM:-0500
TZOFFSETTO:-0400
TZNAME:EDT
DTSTART:20250309T070000
END:DAYLIGHT
BEGIN:STANDARD
TZOFFSETFROM:-0400
TZOFFSETTO:-0500
TZNAME:EST
DTSTART:20251102T060000
END:STANDARD
END:VTIMEZONE
BEGIN:VEVENT
DTSTART;TZID=America/Detroit:20240618T183000
DTEND;TZID=America/Detroit:20240618T213000
DTSTAMP:20260420T173748
CREATED:20240315T211703Z
LAST-MODIFIED:20240315T211704Z
UID:10002150-1718735400-1718746200@afk.games
SUMMARY:One Piece TCG - Store Tournament vol.6
DESCRIPTION:Tuesdays @ 6:30 pm\nSaturdays @ 12:30 pm \nOne Piece League Tournament – The league lasts until the release of set 7 (June 2024) \nBo1 Swiss 35 min rounds + 5 minutes of extra time \n-$10 Entry Fee- \n\nIf we are out of OP06\, entry will be $5\n\n\nEntry:\n1x OP06 Pack (while supplies last) \nPrizing:\n1st – Winner pack\nTop 8 – one tournament pack \n$6 Per head will be used to build the league pot – This pot will be distributed to the top 25% per ranking  \nleaderboard at the end of the league season (OP07 + Other goodies in prize pool) *Prizing subject to change) \nFor current leaderboard status please check our Challonge leaderboard/discord:  \nHow to earn league points for league ranking: \n\nWin a match – 3 Points\nUndefeated – 2 Points\n\nBeat a player who has been undefeated for 2+ events – 1 Point per event\n\n2 events = 2 Points \n3 events = 3 Points \nAnd so on\n\n\n\n\nLose a match – 1 Point\nDraw – 1 Point\nParticipate in the weekly event – 3 Point\nBring someone new to the league – 3 Points \n\nOnce per new player to the league
URL:https://afk.games/event/one-piece-tcg-store-tournament-vol-5-2-2/2024-06-18/
LOCATION:AFK Games\, 2495 Cedar Street STE 14-B\, Holt\, MI\, 48842\, United States
CATEGORIES:Bandai,Events,One Piece TCG
ORGANIZER;CN="AFK Games":MAILTO:support@afk-games.com
END:VEVENT
BEGIN:VEVENT
DTSTART;TZID=America/Detroit:20240622T123000
DTEND;TZID=America/Detroit:20240622T170000
DTSTAMP:20260420T173748
CREATED:20240524T002621Z
LAST-MODIFIED:20240524T002621Z
UID:10002809-1719059400-1719075600@afk.games
SUMMARY:One Piece TCG - 500 Years in the Future Prerelease
DESCRIPTION:Each player will receive 6 booster packs\, 1 prerelease pack\, and 1 P-067 Eustass”Captain”Kid \n– 6 Packs (each participant should use the same number of packs.)\n– You may bring your own leader (including those from previous sets) to use in the event.\n– Please bring 10x DON!! Cards to participate in the event. \nDeck Construction Rules\nAfter opening 6 packs\, players build a 40-card deck\, and a 10 DON!! card deck. There are\nno banned or restricted cards\, and players can include as many copies of cards with the same\ncard number as they like. (There is no 4-card limit and 5 or more copies of a card with the\nsame card number can be included in decks.) Any cards left over from deck construction are\ntreated as sideboard cards. \nSpecial Game Rules\n– In sealed format games\, players can ignore deck colour requirements based on their leader. \nExample: Ordinarily with the red starter deck ST01-001 Monkey D.Luffy as your leader\, you would be\nrestricted to only having red cards in your deck\, however in sealed format you can use cards of any\ncolour in your deck\, even though your leader is only red. \nAll other card text restrictions still apply as normal\, including effects listed on leaders when\nspecifying names or colours of cards. \nExample 1: With your leader as OP01-060 “Donquixote Doflamingo”\, you may only search for [The\nSeven Warlords of the Sea] type Character cards when triggering his ability \nExample 2: When using the ability of OP01-067 “Crocodile” “Blue Event cards in your hand cost 1\nless to play” would only apply to Blue Event cards – This would not apply to Event cards of other\ncolours.
URL:https://afk.games/event/one-piece-tcg-500-years-in-the-future-prerelease/2024-06-22/
LOCATION:AFK Games\, 2495 Cedar Street STE 14-B\, Holt\, MI\, 48842\, United States
CATEGORIES:Bandai,Events,One Piece TCG
ORGANIZER;CN="AFK Games":MAILTO:support@afk-games.com
END:VEVENT
BEGIN:VEVENT
DTSTART;TZID=America/Detroit:20240622T130000
DTEND;TZID=America/Detroit:20240622T200000
DTSTAMP:20260420T173748
CREATED:20240516T204831Z
LAST-MODIFIED:20240516T204831Z
UID:10002802-1719061200-1719086400@afk.games
SUMMARY:Star Wars: Unlimited Store Showdown
DESCRIPTION:Tournament Format\n\nRounds – Based on player count\n\n8 players – 3 rounds – No top cut \n9-16 players – 4 rounds – Top 4 \n17-32 players – 5 rounds – Top 4 \n  \n\nRound time – 55 minutes (Top cut is not timed)\nRound Format – Best of 3\nFormat – Premier\nDoors – 12:00 pm\nStart – 1:00 pm\nEntry – $20\nRegistration Cap – 32\n\n  \nThe Premier Format\n\nYour deck must consist of exactly one leader\, exactly one base\, and a minimum 50-card draw deck. You can also have a sideboard of up to 10 non-leader\, non-base cards.\nYour deck cannot include more than three copies of any one card.\nDecklists will be required\n\nYou can get a printable decklist form of your deck if you make your deck at https://swudb.com/\n\n\n\n  \nTicket: https://shop.afk.games/products/star-wars-unlimited-store-showdown \nPrizes\nParticipation Promo – Borderless Takedown Promo\nChampion Promo – Borderless Foil Mace Windu Champion Stamped\nFinalist Promo – Borderless Foil Mace Windu Finalist Stamped\nTop 4 Promo – Borderless Foil Mace Windu Top 4 Stamped\nTop 8 Promo – Borderless Foil Mace Windu Top 8 Stamped \nStore credit based on record.  \n 
URL:https://afk.games/event/star-wars-unlimited-store-showdown/
LOCATION:AFK Games\, 2495 Cedar Street STE 14-B\, Holt\, MI\, 48842\, United States
CATEGORIES:Events,Star Wars: Unlimited
ORGANIZER;CN="AFK Games":MAILTO:support@afk-games.com
END:VEVENT
BEGIN:VEVENT
DTSTART;TZID=America/Detroit:20240622T170000
DTEND;TZID=America/Detroit:20240622T210000
DTSTAMP:20260420T173748
CREATED:20240531T213136Z
LAST-MODIFIED:20240531T213136Z
UID:10002929-1719075600-1719090000@afk.games
SUMMARY:Disney Lorcana - Ursula's Return Draft
DESCRIPTION:-$35 Entry Fee-\n50 Mins to DraftBo3 Swiss. 50 Mins \n\nEntry: 4 Set 4 Packs to Draft with and make a Deck (PODS OF 8 / NO CROSS POD PLAY) \n\nPrizing3-0 = 5 Set 4 Packs2-1 = 3 Set 4 Packs1-2 = 2 Set 4 Packs0-1 = 1 Set 4 Packs
URL:https://afk.games/event/disney-lorcana-ursulas-return-draft/
LOCATION:AFK Games\, 2495 Cedar Street STE 14-B\, Holt\, MI\, 48842\, United States
CATEGORIES:Events,Lorcana,Ravensburger
ORGANIZER;CN="AFK Games":MAILTO:support@afk-games.com
END:VEVENT
END:VCALENDAR