BEGIN:VCALENDAR
VERSION:2.0
PRODID:-//AFK Games - ECPv6.15.20//NONSGML v1.0//EN
CALSCALE:GREGORIAN
METHOD:PUBLISH
X-WR-CALNAME:AFK Games
X-ORIGINAL-URL:https://afk.games
X-WR-CALDESC:Events for AFK Games
REFRESH-INTERVAL;VALUE=DURATION:PT1H
X-Robots-Tag:noindex
X-PUBLISHED-TTL:PT1H
BEGIN:VTIMEZONE
TZID:America/Detroit
BEGIN:DAYLIGHT
TZOFFSETFROM:-0500
TZOFFSETTO:-0400
TZNAME:EDT
DTSTART:20230312T070000
END:DAYLIGHT
BEGIN:STANDARD
TZOFFSETFROM:-0400
TZOFFSETTO:-0500
TZNAME:EST
DTSTART:20231105T060000
END:STANDARD
BEGIN:DAYLIGHT
TZOFFSETFROM:-0500
TZOFFSETTO:-0400
TZNAME:EDT
DTSTART:20240310T070000
END:DAYLIGHT
BEGIN:STANDARD
TZOFFSETFROM:-0400
TZOFFSETTO:-0500
TZNAME:EST
DTSTART:20241103T060000
END:STANDARD
BEGIN:DAYLIGHT
TZOFFSETFROM:-0500
TZOFFSETTO:-0400
TZNAME:EDT
DTSTART:20250309T070000
END:DAYLIGHT
BEGIN:STANDARD
TZOFFSETFROM:-0400
TZOFFSETTO:-0500
TZNAME:EST
DTSTART:20251102T060000
END:STANDARD
END:VTIMEZONE
BEGIN:VEVENT
DTSTART;TZID=America/Detroit:20240528T183000
DTEND;TZID=America/Detroit:20240528T213000
DTSTAMP:20260420T173629
CREATED:20240315T211703Z
LAST-MODIFIED:20240315T211704Z
UID:10002147-1716921000-1716931800@afk.games
SUMMARY:One Piece TCG - Store Tournament vol.6
DESCRIPTION:Tuesdays @ 6:30 pm\nSaturdays @ 12:30 pm \nOne Piece League Tournament – The league lasts until the release of set 7 (June 2024) \nBo1 Swiss 35 min rounds + 5 minutes of extra time \n-$10 Entry Fee- \n\nIf we are out of OP06\, entry will be $5\n\n\nEntry:\n1x OP06 Pack (while supplies last) \nPrizing:\n1st – Winner pack\nTop 8 – one tournament pack \n$6 Per head will be used to build the league pot – This pot will be distributed to the top 25% per ranking  \nleaderboard at the end of the league season (OP07 + Other goodies in prize pool) *Prizing subject to change) \nFor current leaderboard status please check our Challonge leaderboard/discord:  \nHow to earn league points for league ranking: \n\nWin a match – 3 Points\nUndefeated – 2 Points\n\nBeat a player who has been undefeated for 2+ events – 1 Point per event\n\n2 events = 2 Points \n3 events = 3 Points \nAnd so on\n\n\n\n\nLose a match – 1 Point\nDraw – 1 Point\nParticipate in the weekly event – 3 Point\nBring someone new to the league – 3 Points \n\nOnce per new player to the league
URL:https://afk.games/event/one-piece-tcg-store-tournament-vol-5-2-2/2024-05-28/
LOCATION:AFK Games\, 2495 Cedar Street STE 14-B\, Holt\, MI\, 48842\, United States
CATEGORIES:Bandai,Events,One Piece TCG
ORGANIZER;CN="AFK Games":MAILTO:support@afk-games.com
END:VEVENT
BEGIN:VEVENT
DTSTART;TZID=America/Detroit:20240601T123000
DTEND;TZID=America/Detroit:20240601T150000
DTSTAMP:20260420T173629
CREATED:20240315T211606Z
LAST-MODIFIED:20240315T211607Z
UID:10002028-1717245000-1717254000@afk.games
SUMMARY:One Piece TCG - Store Tournament vol.6
DESCRIPTION:Tuesdays @ 6:30 pm\nSaturdays @ 12:30 pm \nOne Piece League Tournament – The league lasts until the release of set 7 (June 2024) \nBo1 Swiss 35 min rounds + 5 minutes of extra time \n-$10 Entry Fee- \n\nIf we are out of OP06\, entry will be $5\n\n\nEntry:\n1x OP06 Pack (while supplies last) \nPrizing:\n1st – Winner pack\nTop 8 – one tournament pack \n$6 Per head will be used to build the league pot – This pot will be distributed to the top 25% per ranking  \nleaderboard at the end of the league season (OP07 + Other goodies in prize pool) *Prizing subject to change) \nFor current leaderboard status please check our Challonge leaderboard/discord:  \nHow to earn league points for league ranking: \n\nWin a match – 3 Points\nUndefeated – 2 Points\n\nBeat a player who has been undefeated for 2+ events – 1 Point per event\n\n2 events = 2 Points \n3 events = 3 Points \nAnd so on\n\n\n\n\nLose a match – 1 Point\nDraw – 1 Point\nParticipate in the weekly event – 3 Point\nBring someone new to the league – 3 Points \n\nOnce per new player to the league
URL:https://afk.games/event/one-piece-tcg-store-tournament-vol-5-3/2024-06-01/
LOCATION:AFK Games\, 2495 Cedar Street STE 14-B\, Holt\, MI\, 48842\, United States
CATEGORIES:Bandai,Events,One Piece TCG
ORGANIZER;CN="AFK Games":MAILTO:support@afk-games.com
END:VEVENT
BEGIN:VEVENT
DTSTART;TZID=America/Detroit:20240601T180000
DTEND;TZID=America/Detroit:20240601T210000
DTSTAMP:20260420T173629
CREATED:20240504T213651Z
LAST-MODIFIED:20240504T213651Z
UID:10002799-1717264800-1717275600@afk.games
SUMMARY:Lorcana Constructed Tournament
DESCRIPTION:Join us for our first Lorcana tournament for Ursula’s Return on June 1st! \n  \nFormat: Constructed\n\nEntry is $10 \n\nPrizes will be based on your record \n  \nThe event is capped at either 3 or 4 rounds\, based on attendance.  \n  \n3 Rounds\n4-0-0 = $60 Store Credit\n3-0-1 = $40 Store Credit\n3-1-0 = $20 Store Credit\n2-1-1 = $10 Store Credit\n\n4 Rounds \n3-0 = $40\n2-1 = $20 \n \nThere will also be some door prize raffles as well.
URL:https://afk.games/event/lorcana-constructed-tournament/
LOCATION:AFK Games\, 2495 Cedar Street STE 14-B\, Holt\, MI\, 48842\, United States
CATEGORIES:Events,Lorcana,Ravensburger
ORGANIZER;CN="AFK Games":MAILTO:support@afk-games.com
END:VEVENT
END:VCALENDAR