BEGIN:VCALENDAR
VERSION:2.0
PRODID:-//AFK Games - ECPv6.15.20//NONSGML v1.0//EN
CALSCALE:GREGORIAN
METHOD:PUBLISH
X-ORIGINAL-URL:https://afk.games
X-WR-CALDESC:Events for AFK Games
REFRESH-INTERVAL;VALUE=DURATION:PT1H
X-Robots-Tag:noindex
X-PUBLISHED-TTL:PT1H
BEGIN:VTIMEZONE
TZID:America/Detroit
BEGIN:DAYLIGHT
TZOFFSETFROM:-0500
TZOFFSETTO:-0400
TZNAME:EDT
DTSTART:20220313T070000
END:DAYLIGHT
BEGIN:STANDARD
TZOFFSETFROM:-0400
TZOFFSETTO:-0500
TZNAME:EST
DTSTART:20221106T060000
END:STANDARD
BEGIN:DAYLIGHT
TZOFFSETFROM:-0500
TZOFFSETTO:-0400
TZNAME:EDT
DTSTART:20230312T070000
END:DAYLIGHT
BEGIN:STANDARD
TZOFFSETFROM:-0400
TZOFFSETTO:-0500
TZNAME:EST
DTSTART:20231105T060000
END:STANDARD
BEGIN:DAYLIGHT
TZOFFSETFROM:-0500
TZOFFSETTO:-0400
TZNAME:EDT
DTSTART:20240310T070000
END:DAYLIGHT
BEGIN:STANDARD
TZOFFSETFROM:-0400
TZOFFSETTO:-0500
TZNAME:EST
DTSTART:20241103T060000
END:STANDARD
END:VTIMEZONE
BEGIN:VEVENT
DTSTART;TZID=America/Detroit:20231105T130000
DTEND;TZID=America/Detroit:20231105T170000
DTSTAMP:20260421T214110
CREATED:20231002T203314Z
LAST-MODIFIED:20231002T203314Z
UID:10001949-1699189200-1699203600@afk.games
SUMMARY:One Piece TCG - Store Tournament
DESCRIPTION:Entry: $5\n120% of Store credit prized out to top players\, along with promo packs to top players! \nBest-of-one games with 35-minute matches and 5 minutes of extra time
URL:https://afk.games/event/one-piece-tcg-store-tournament-2/2023-11-05/
LOCATION:AFK Games\, 2495 Cedar Street STE 14-B\, Holt\, MI\, 48842\, United States
CATEGORIES:Bandai,Events,One Piece TCG
ORGANIZER;CN="AFK Games":MAILTO:support@afk-games.com
END:VEVENT
BEGIN:VEVENT
DTSTART;TZID=America/Detroit:20231110T183000
DTEND;TZID=America/Detroit:20231110T220000
DTSTAMP:20260421T214110
CREATED:20230928T175025Z
LAST-MODIFIED:20230928T175143Z
UID:10001935-1699641000-1699653600@afk.games
SUMMARY:Battle Spirits Saga - Store Tournament
DESCRIPTION:Entry: $5\n120% of Store credit prized out to top players\, along with promo packs to top players! \nBest-of-three games with 60-minute matches and 5 minutes of extra time
URL:https://afk.games/event/battle-spirits-saga-store-tournament-3/2023-11-10/
LOCATION:AFK Games\, 2495 Cedar Street STE 14-B\, Holt\, MI\, 48842\, United States
CATEGORIES:Bandai,Battle Spirits Saga,Events
ORGANIZER;CN="AFK Games":MAILTO:support@afk-games.com
END:VEVENT
BEGIN:VEVENT
DTSTART;TZID=America/Detroit:20231110T184500
DTEND;TZID=America/Detroit:20231110T233000
DTSTAMP:20260421T214110
CREATED:20230929T202631Z
LAST-MODIFIED:20230929T202631Z
UID:10001943-1699641900-1699659000@afk.games
SUMMARY:The Lost Caverns of Ixalan Prerelease
DESCRIPTION:$30 Entry: Includes your Prerelease kit and 2 Set Boosters per player added to the prize pool.\nScaling discount on 3+ entries when purchased at once!\n3 Entries = $84\n6 Entries = $160\n\nSunday 1 pm event is 2-Headed Giant\, rules for 2HG are as follows:\n2HG Rules:\n-Each team starts with 30 life.\n-Neither player on the team going first draws a card on the first turn.\n-Each player receives one free mulligan. You don’t put any cards back on the first mulligan\, and you put only 1 card back on the second mulligan\, etc.\nContents of Prerelease Kit:\n• 6 Wilds of Eldraine Draft Boosters; each Draft Booster contains 15 Magic cards\n• 1 foil\, year-stamped Rare or Mythic Rare\n• 1 Magic: The Gathering Arena code card (only available in select regions)\n• 2 token cards\n• 1 deck box\n• 1 Spindown die\nThe tournament structure will be as follows:\nLimited Format Swiss pairings\, Best-of-three 50-minute rounds\, capped at 4 rounds.\nWe’re also taking pre-orders for Draft\, Set\, and Collector Boxes and Kits (with prizing) for Prerelease at Home! Buy-a-Box promos will be given to Draft and Set box preorders\, while supplies last. Kits sold for Prerelease at Home come with 2x Set Boosters in prizing each.
URL:https://afk.games/event/the-lost-caverns-of-ixalan-prerelease/2023-11-10/
LOCATION:AFK Games\, 2495 Cedar Street STE 14-B\, Holt\, MI\, 48842\, United States
CATEGORIES:Events,Magic: The Gathering,Prerelease,Sealed
ORGANIZER;CN="AFK Games":MAILTO:support@afk-games.com
END:VEVENT
BEGIN:VEVENT
DTSTART;TZID=America/Detroit:20231111T123000
DTEND;TZID=America/Detroit:20231111T150000
DTSTAMP:20260421T214110
CREATED:20230804T183105Z
LAST-MODIFIED:20230804T183105Z
UID:10001520-1699705800-1699714800@afk.games
SUMMARY:One Piece TCG - Store Tournament vol.4
DESCRIPTION:Entry: $5\n120% of Store credit prized out to top players\, along with promo packs to top players! \nBest-of-one games with 35 minute matches and 5 minutes of extra time
URL:https://afk.games/event/one-piece-tcg-store-tournament-vol-4/2023-11-11/
LOCATION:AFK Games\, 2495 Cedar Street STE 14-B\, Holt\, MI\, 48842\, United States
CATEGORIES:Bandai,Events,One Piece TCG
ORGANIZER;CN="AFK Games":MAILTO:support@afk-games.com
END:VEVENT
BEGIN:VEVENT
DTSTART;TZID=America/Detroit:20231111T130000
DTEND;TZID=America/Detroit:20231111T180000
DTSTAMP:20260421T214110
CREATED:20230929T202631Z
LAST-MODIFIED:20230929T202631Z
UID:10001944-1699707600-1699725600@afk.games
SUMMARY:The Lost Caverns of Ixalan Prerelease
DESCRIPTION:$30 Entry: Includes your Prerelease kit and 2 Set Boosters per player added to the prize pool.\nScaling discount on 3+ entries when purchased at once!\n3 Entries = $84\n6 Entries = $160\n\nSunday 1 pm event is 2-Headed Giant\, rules for 2HG are as follows:\n2HG Rules:\n-Each team starts with 30 life.\n-Neither player on the team going first draws a card on the first turn.\n-Each player receives one free mulligan. You don’t put any cards back on the first mulligan\, and you put only 1 card back on the second mulligan\, etc.\nContents of Prerelease Kit:\n• 6 Wilds of Eldraine Draft Boosters; each Draft Booster contains 15 Magic cards\n• 1 foil\, year-stamped Rare or Mythic Rare\n• 1 Magic: The Gathering Arena code card (only available in select regions)\n• 2 token cards\n• 1 deck box\n• 1 Spindown die\nThe tournament structure will be as follows:\nLimited Format Swiss pairings\, Best-of-three 50-minute rounds\, capped at 4 rounds.\nWe’re also taking pre-orders for Draft\, Set\, and Collector Boxes and Kits (with prizing) for Prerelease at Home! Buy-a-Box promos will be given to Draft and Set box preorders\, while supplies last. Kits sold for Prerelease at Home come with 2x Set Boosters in prizing each.
URL:https://afk.games/event/the-lost-caverns-of-ixalan-prerelease/2023-11-11/1/
LOCATION:AFK Games\, 2495 Cedar Street STE 14-B\, Holt\, MI\, 48842\, United States
CATEGORIES:Events,Magic: The Gathering,Prerelease,Sealed
ORGANIZER;CN="AFK Games":MAILTO:support@afk-games.com
END:VEVENT
BEGIN:VEVENT
DTSTART;TZID=America/Detroit:20231111T180000
DTEND;TZID=America/Detroit:20231111T223000
DTSTAMP:20260421T214110
CREATED:20230929T202631Z
LAST-MODIFIED:20230929T202631Z
UID:10001945-1699725600-1699741800@afk.games
SUMMARY:The Lost Caverns of Ixalan Prerelease
DESCRIPTION:$30 Entry: Includes your Prerelease kit and 2 Set Boosters per player added to the prize pool.\nScaling discount on 3+ entries when purchased at once!\n3 Entries = $84\n6 Entries = $160\n\nSunday 1 pm event is 2-Headed Giant\, rules for 2HG are as follows:\n2HG Rules:\n-Each team starts with 30 life.\n-Neither player on the team going first draws a card on the first turn.\n-Each player receives one free mulligan. You don’t put any cards back on the first mulligan\, and you put only 1 card back on the second mulligan\, etc.\nContents of Prerelease Kit:\n• 6 Wilds of Eldraine Draft Boosters; each Draft Booster contains 15 Magic cards\n• 1 foil\, year-stamped Rare or Mythic Rare\n• 1 Magic: The Gathering Arena code card (only available in select regions)\n• 2 token cards\n• 1 deck box\n• 1 Spindown die\nThe tournament structure will be as follows:\nLimited Format Swiss pairings\, Best-of-three 50-minute rounds\, capped at 4 rounds.\nWe’re also taking pre-orders for Draft\, Set\, and Collector Boxes and Kits (with prizing) for Prerelease at Home! Buy-a-Box promos will be given to Draft and Set box preorders\, while supplies last. Kits sold for Prerelease at Home come with 2x Set Boosters in prizing each.
URL:https://afk.games/event/the-lost-caverns-of-ixalan-prerelease/2023-11-11/2/
LOCATION:AFK Games\, 2495 Cedar Street STE 14-B\, Holt\, MI\, 48842\, United States
CATEGORIES:Events,Magic: The Gathering,Prerelease,Sealed
ORGANIZER;CN="AFK Games":MAILTO:support@afk-games.com
END:VEVENT
END:VCALENDAR