BEGIN:VCALENDAR
VERSION:2.0
PRODID:-//AFK Games - ECPv6.15.20//NONSGML v1.0//EN
CALSCALE:GREGORIAN
METHOD:PUBLISH
X-ORIGINAL-URL:https://afk.games
X-WR-CALDESC:Events for AFK Games
REFRESH-INTERVAL;VALUE=DURATION:PT1H
X-Robots-Tag:noindex
X-PUBLISHED-TTL:PT1H
BEGIN:VTIMEZONE
TZID:America/Detroit
BEGIN:DAYLIGHT
TZOFFSETFROM:-0500
TZOFFSETTO:-0400
TZNAME:EDT
DTSTART:20220313T070000
END:DAYLIGHT
BEGIN:STANDARD
TZOFFSETFROM:-0400
TZOFFSETTO:-0500
TZNAME:EST
DTSTART:20221106T060000
END:STANDARD
BEGIN:DAYLIGHT
TZOFFSETFROM:-0500
TZOFFSETTO:-0400
TZNAME:EDT
DTSTART:20230312T070000
END:DAYLIGHT
BEGIN:STANDARD
TZOFFSETFROM:-0400
TZOFFSETTO:-0500
TZNAME:EST
DTSTART:20231105T060000
END:STANDARD
BEGIN:DAYLIGHT
TZOFFSETFROM:-0500
TZOFFSETTO:-0400
TZNAME:EDT
DTSTART:20240310T070000
END:DAYLIGHT
BEGIN:STANDARD
TZOFFSETFROM:-0400
TZOFFSETTO:-0500
TZNAME:EST
DTSTART:20241103T060000
END:STANDARD
END:VTIMEZONE
BEGIN:VEVENT
DTSTART;TZID=America/Detroit:20230815T183000
DTEND;TZID=America/Detroit:20230815T210000
DTSTAMP:20260422T204822
CREATED:20230801T174057Z
LAST-MODIFIED:20230801T174057Z
UID:10001372-1692124200-1692133200@afk.games
SUMMARY:Shadowverse: Evolve Shop Tournament
DESCRIPTION:Each player will receive 1 card from Promo Series 1 just for participating.
URL:https://afk.games/event/shadowverse-evolve-shop-tournament/2023-08-15/
LOCATION:AFK Games\, 2495 Cedar Street STE 14-B\, Holt\, MI\, 48842\, United States
CATEGORIES:Bushiroad,Events,Shadowverse: Evolve
ORGANIZER;CN="AFK Games":MAILTO:support@afk-games.com
END:VEVENT
BEGIN:VEVENT
DTSTART;TZID=America/Detroit:20230817T183000
DTEND;TZID=America/Detroit:20230817T210000
DTSTAMP:20260422T204822
CREATED:20230804T183442Z
LAST-MODIFIED:20230804T183615Z
UID:10001529-1692297000-1692306000@afk.games
SUMMARY:Battle Spirits Saga - Store Tournament
DESCRIPTION:Entry: $5\n120% of Store credit prized out to top players\, along with promo packs to top players! \nBest-of-one games with 35-minute matches and 5 minutes of extra time
URL:https://afk.games/event/battle-spirits-saga-store-tournament-2/2023-08-17/
LOCATION:AFK Games\, 2495 Cedar Street STE 14-B\, Holt\, MI\, 48842\, United States
CATEGORIES:Bandai,Battle Spirits Saga,Events
ORGANIZER;CN="AFK Games":MAILTO:support@afk-games.com
END:VEVENT
BEGIN:VEVENT
DTSTART;TZID=America/Detroit:20230818T183000
DTEND;TZID=America/Detroit:20230818T210000
DTSTAMP:20260422T204822
CREATED:20230809T203312Z
LAST-MODIFIED:20230809T203312Z
UID:10001804-1692383400-1692392400@afk.games
SUMMARY:Disney Lorcana - Launch Event
DESCRIPTION:Get your hands on the hottest new TCG! Interact with your favorite Disney characters and stories like never before! Disney Lorcana arrives at AFK Games on August 18th!\nJoin us for our Release event and tournament on August 18th at 6:30 pm\n\nAll attendees will play in an Official Learn to Play event using a starter deck and 4 Lorcana Packs\n\nEntry: $45\n\nEntry will get you the following products:\nStarter deck – which contains 60cards and a sealed pack\n4 booster packs* (detailed below)\n\nWe will play in a 3-round tournament you will begin Round 1 with the Starter Deck and 1 of the 4 extra packs\n*At the start of Round 2\, you will get Pack 2 of the 4 extra packs\n*At the start of Round 3\, you will get Pack 3 of the 4 extra packs\n*At the end of Round 3 we will give you Pack 4 and a raffle ticket to win a booster box of Lorcana: The First Chapter\n\nParticipants can also purchase additional products at a reduced price during the event\, while supplies last.
URL:https://afk.games/event/disney-lorcana-launch-event/
LOCATION:AFK Games\, 2495 Cedar Street STE 14-B\, Holt\, MI\, 48842\, United States
CATEGORIES:Lorcana,Ravensburger
ORGANIZER;CN="AFK Games":MAILTO:support@afk-games.com
END:VEVENT
BEGIN:VEVENT
DTSTART;TZID=America/Detroit:20230819T123000
DTEND;TZID=America/Detroit:20230819T150000
DTSTAMP:20260422T204822
CREATED:20230804T182234Z
LAST-MODIFIED:20230804T182343Z
UID:10001442-1692448200-1692457200@afk.games
SUMMARY:One Piece TCG - Store Tournament
DESCRIPTION:Entry: $5\n120% of Store credit prized out to top players\, along with promo packs to top players! \nBest-of-one games with 35 minute matches and 5 minutes of extra time
URL:https://afk.games/event/one-piece-tcg-store-tournament/2023-08-19/
LOCATION:AFK Games\, 2495 Cedar Street STE 14-B\, Holt\, MI\, 48842\, United States
CATEGORIES:Bandai,Events,One Piece TCG
ORGANIZER;CN="AFK Games":MAILTO:support@afk-games.com
END:VEVENT
END:VCALENDAR