BEGIN:VCALENDAR
VERSION:2.0
PRODID:-//AFK Games - ECPv6.15.20//NONSGML v1.0//EN
CALSCALE:GREGORIAN
METHOD:PUBLISH
X-WR-CALNAME:AFK Games
X-ORIGINAL-URL:https://afk.games
X-WR-CALDESC:Events for AFK Games
REFRESH-INTERVAL;VALUE=DURATION:PT1H
X-Robots-Tag:noindex
X-PUBLISHED-TTL:PT1H
BEGIN:VTIMEZONE
TZID:America/Detroit
BEGIN:DAYLIGHT
TZOFFSETFROM:-0500
TZOFFSETTO:-0400
TZNAME:EDT
DTSTART:20230312T070000
END:DAYLIGHT
BEGIN:STANDARD
TZOFFSETFROM:-0400
TZOFFSETTO:-0500
TZNAME:EST
DTSTART:20231105T060000
END:STANDARD
BEGIN:DAYLIGHT
TZOFFSETFROM:-0500
TZOFFSETTO:-0400
TZNAME:EDT
DTSTART:20240310T070000
END:DAYLIGHT
BEGIN:STANDARD
TZOFFSETFROM:-0400
TZOFFSETTO:-0500
TZNAME:EST
DTSTART:20241103T060000
END:STANDARD
BEGIN:DAYLIGHT
TZOFFSETFROM:-0500
TZOFFSETTO:-0400
TZNAME:EDT
DTSTART:20250309T070000
END:DAYLIGHT
BEGIN:STANDARD
TZOFFSETFROM:-0400
TZOFFSETTO:-0500
TZNAME:EST
DTSTART:20251102T060000
END:STANDARD
END:VTIMEZONE
BEGIN:VEVENT
DTSTART;TZID=America/Detroit:20240625T183000
DTEND;TZID=America/Detroit:20240625T213000
DTSTAMP:20260420T211133
CREATED:20240524T002621Z
LAST-MODIFIED:20240524T002621Z
UID:10002810-1719340200-1719351000@afk.games
SUMMARY:One Piece TCG - 500 Years in the Future Prerelease
DESCRIPTION:Each player will receive 6 booster packs\, 1 prerelease pack\, and 1 P-067 Eustass”Captain”Kid \n– 6 Packs (each participant should use the same number of packs.)\n– You may bring your own leader (including those from previous sets) to use in the event.\n– Please bring 10x DON!! Cards to participate in the event. \nDeck Construction Rules\nAfter opening 6 packs\, players build a 40-card deck\, and a 10 DON!! card deck. There are\nno banned or restricted cards\, and players can include as many copies of cards with the same\ncard number as they like. (There is no 4-card limit and 5 or more copies of a card with the\nsame card number can be included in decks.) Any cards left over from deck construction are\ntreated as sideboard cards. \nSpecial Game Rules\n– In sealed format games\, players can ignore deck colour requirements based on their leader. \nExample: Ordinarily with the red starter deck ST01-001 Monkey D.Luffy as your leader\, you would be\nrestricted to only having red cards in your deck\, however in sealed format you can use cards of any\ncolour in your deck\, even though your leader is only red. \nAll other card text restrictions still apply as normal\, including effects listed on leaders when\nspecifying names or colours of cards. \nExample 1: With your leader as OP01-060 “Donquixote Doflamingo”\, you may only search for [The\nSeven Warlords of the Sea] type Character cards when triggering his ability \nExample 2: When using the ability of OP01-067 “Crocodile” “Blue Event cards in your hand cost 1\nless to play” would only apply to Blue Event cards – This would not apply to Event cards of other\ncolours.
URL:https://afk.games/event/one-piece-tcg-500-years-in-the-future-prerelease/2024-06-25/
LOCATION:AFK Games\, 2495 Cedar Street STE 14-B\, Holt\, MI\, 48842\, United States
CATEGORIES:Bandai,Events,One Piece TCG
ORGANIZER;CN="AFK Games":MAILTO:support@afk-games.com
END:VEVENT
END:VCALENDAR