BEGIN:VCALENDAR
VERSION:2.0
PRODID:-//AFK Games - ECPv6.15.20//NONSGML v1.0//EN
CALSCALE:GREGORIAN
METHOD:PUBLISH
X-WR-CALNAME:AFK Games
X-ORIGINAL-URL:https://afk.games
X-WR-CALDESC:Events for AFK Games
REFRESH-INTERVAL;VALUE=DURATION:PT1H
X-Robots-Tag:noindex
X-PUBLISHED-TTL:PT1H
BEGIN:VTIMEZONE
TZID:America/Detroit
BEGIN:DAYLIGHT
TZOFFSETFROM:-0500
TZOFFSETTO:-0400
TZNAME:EDT
DTSTART:20230312T070000
END:DAYLIGHT
BEGIN:STANDARD
TZOFFSETFROM:-0400
TZOFFSETTO:-0500
TZNAME:EST
DTSTART:20231105T060000
END:STANDARD
BEGIN:DAYLIGHT
TZOFFSETFROM:-0500
TZOFFSETTO:-0400
TZNAME:EDT
DTSTART:20240310T070000
END:DAYLIGHT
BEGIN:STANDARD
TZOFFSETFROM:-0400
TZOFFSETTO:-0500
TZNAME:EST
DTSTART:20241103T060000
END:STANDARD
BEGIN:DAYLIGHT
TZOFFSETFROM:-0500
TZOFFSETTO:-0400
TZNAME:EDT
DTSTART:20250309T070000
END:DAYLIGHT
BEGIN:STANDARD
TZOFFSETFROM:-0400
TZOFFSETTO:-0500
TZNAME:EST
DTSTART:20251102T060000
END:STANDARD
END:VTIMEZONE
BEGIN:VEVENT
DTSTART;TZID=America/Detroit:20240301T184500
DTEND;TZID=America/Detroit:20240301T220000
DTSTAMP:20260421T003448
CREATED:20240210T233729Z
LAST-MODIFIED:20240210T233729Z
UID:10002383-1709318700-1709330400@afk.games
SUMMARY:Festival in a box Chaos Draft
DESCRIPTION:Missed MagicCon: Chicago? We have the event for you! \nWe will be drafting in up to\, 2 pods of 8 players. Pods will have cross-pairing enabled for the Swiss rounds. \nPods will “Rotisserie Draft” the 24 Booster Packs of the Chaos Grab Bag to determine their starting three packs. \nIn case you’re unfamiliar\, here are the basics of a “Rotisserie Draft”: \n\nLay out the 24 Booster Packs in a grid out a table.\nOne by one\, players choose and take a single Draft Booster.\nOnce eight Draft Boosters have been picked\, rather than starting with the first player again\, “snake” backwards—the last player to choose picks first and players continue in reverse order.\nFor the last eight packs\, work your way back down the original order.\n\nDraft from packs such as:\n3x Wilds of Eldraine\n1x Dominaria United\n3x Modern Horizons 2\n4x March of the Machine\n4x Kamigawa Neon Dynasty\n2x Innistrad: Crimson Vow\n2x Streets of New Capenna\n2x Innistrad: Midnight Hunt\n1x The Brother’s War\n1x Phyrexia All Will Be One\n1x Dominaria Remastered\n24x Mystery Booster: Convention Edition \nPrizes:\nDan Frazier’s Mox Box – Foil Etched Edition\nRelentless Rats – Secret Lair Promo (0011)\nMarch of the Machine Booster box
URL:https://afk.games/event/festival-in-a-box-chaos-draft/
LOCATION:AFK Games\, 2495 Cedar Street STE 14-B\, Holt\, MI\, 48842\, United States
CATEGORIES:Draft,Events,Magic: The Gathering
ORGANIZER;CN="AFK Games":MAILTO:support@afk-games.com
END:VEVENT
BEGIN:VEVENT
DTSTART;TZID=America/Detroit:20240301T184500
DTEND;TZID=America/Detroit:20240301T220000
DTSTAMP:20260421T003448
CREATED:20240210T234033Z
LAST-MODIFIED:20240210T234033Z
UID:10002384-1709318700-1709330400@afk.games
SUMMARY:Star Wars: Unlimited prerelease
DESCRIPTION:Event Date: 03/01/2024\nStart: 6:45 pm \nBOX BREAK: each Prerelase kit contains: 6 booster packs\, 2 prerelease promo cards\, 19 counters\, 1 quickstart rulebook\, 1 deckbuilding guide\, 1 divider card\, and 1 deluxe deckbox \nKick off your Star Wars: Unlimited Organized Play experience with this Spark of Rebellion Prerelease Box! In this box\, players will find 6 Booster Packs as well as enough tokens and materials for you to launch your Star Wars: Unlimited journey. The box comes with everything a player would need to participate in your stores prerelease sealed tournament\, and even includes exclusive promo versions of the Luke Skywalker and Darth Vader leader cards! Star Wars: Unlimited is a fast-paced\, easy-to-learn trading card game of unlimited possibilities. The Spark of Rebellion set features characters and content from the original Star Wars trilogy\, Rogue One: A Star Wars Story\, and the Star Wars: Rebels series\, and more. Each booster pack included in this product can be used to build and upgrade decks for head-to-head\, draft\, or sealed play.
URL:https://afk.games/event/star-wars-unlimited-prerelease/
LOCATION:AFK Games\, 2495 Cedar Street STE 14-B\, Holt\, MI\, 48842\, United States
CATEGORIES:Events,Star Wars: Unlimited
ORGANIZER;CN="AFK Games":MAILTO:support@afk-games.com
END:VEVENT
END:VCALENDAR