BEGIN:VCALENDAR
VERSION:2.0
PRODID:-//AFK Games - ECPv6.15.20//NONSGML v1.0//EN
CALSCALE:GREGORIAN
METHOD:PUBLISH
X-ORIGINAL-URL:https://afk.games
X-WR-CALDESC:Events for AFK Games
REFRESH-INTERVAL;VALUE=DURATION:PT1H
X-Robots-Tag:noindex
X-PUBLISHED-TTL:PT1H
BEGIN:VTIMEZONE
TZID:America/Detroit
BEGIN:DAYLIGHT
TZOFFSETFROM:-0500
TZOFFSETTO:-0400
TZNAME:EDT
DTSTART:20230312T070000
END:DAYLIGHT
BEGIN:STANDARD
TZOFFSETFROM:-0400
TZOFFSETTO:-0500
TZNAME:EST
DTSTART:20231105T060000
END:STANDARD
BEGIN:DAYLIGHT
TZOFFSETFROM:-0500
TZOFFSETTO:-0400
TZNAME:EDT
DTSTART:20240310T070000
END:DAYLIGHT
BEGIN:STANDARD
TZOFFSETFROM:-0400
TZOFFSETTO:-0500
TZNAME:EST
DTSTART:20241103T060000
END:STANDARD
BEGIN:DAYLIGHT
TZOFFSETFROM:-0500
TZOFFSETTO:-0400
TZNAME:EDT
DTSTART:20250309T070000
END:DAYLIGHT
BEGIN:STANDARD
TZOFFSETFROM:-0400
TZOFFSETTO:-0500
TZNAME:EST
DTSTART:20251102T060000
END:STANDARD
END:VTIMEZONE
BEGIN:VEVENT
DTSTART;TZID=America/Detroit:20240202T184500
DTEND;TZID=America/Detroit:20240202T230000
DTSTAMP:20260421T132409
CREATED:20231221T223937Z
LAST-MODIFIED:20231221T224000Z
UID:10002187-1706899500-1706914800@afk.games
SUMMARY:Friday 6:45 pm - Murders of Karlov Manor prerelease
DESCRIPTION:Pre-register for the prerelease event before January 29th to save $5 on entry and be entered into a raffle. \nEach participant will receive one Murders of Karlov Manor prerelease pack which contains the following: \nContents: \n\n6 Murders at Karlov Manor Play Boosters; each Play Booster contains 14 Magic cards\n1 foil\, year-stamped Rare or Mythic Rare\n1 of 3 new Mythic Rare cards exclusive to Prerelease Pack (not playable as part of Prerelease deck)\n1 Magic: The Gathering Arena code card (only available in select regions)\n1 deck box\n1 Spindown die\n\nEach participant will use the contents of their prerelease kit to construct a minimum 40-card deck to play in Swiss rounds.
URL:https://afk.games/event/4561/
LOCATION:AFK Games\, 2495 Cedar Street STE 14-B\, Holt\, MI\, 48842\, United States
CATEGORIES:Events,Magic: The Gathering,Prerelease,Sealed
ORGANIZER;CN="AFK Games":MAILTO:support@afk-games.com
END:VEVENT
END:VCALENDAR