BEGIN:VCALENDAR
VERSION:2.0
PRODID:-//AFK Games - ECPv6.15.20//NONSGML v1.0//EN
CALSCALE:GREGORIAN
METHOD:PUBLISH
X-ORIGINAL-URL:https://afk.games
X-WR-CALDESC:Events for AFK Games
REFRESH-INTERVAL;VALUE=DURATION:PT1H
X-Robots-Tag:noindex
X-PUBLISHED-TTL:PT1H
BEGIN:VTIMEZONE
TZID:America/Detroit
BEGIN:DAYLIGHT
TZOFFSETFROM:-0500
TZOFFSETTO:-0400
TZNAME:EDT
DTSTART:20220313T070000
END:DAYLIGHT
BEGIN:STANDARD
TZOFFSETFROM:-0400
TZOFFSETTO:-0500
TZNAME:EST
DTSTART:20221106T060000
END:STANDARD
BEGIN:DAYLIGHT
TZOFFSETFROM:-0500
TZOFFSETTO:-0400
TZNAME:EDT
DTSTART:20230312T070000
END:DAYLIGHT
BEGIN:STANDARD
TZOFFSETFROM:-0400
TZOFFSETTO:-0500
TZNAME:EST
DTSTART:20231105T060000
END:STANDARD
BEGIN:DAYLIGHT
TZOFFSETFROM:-0500
TZOFFSETTO:-0400
TZNAME:EDT
DTSTART:20240310T070000
END:DAYLIGHT
BEGIN:STANDARD
TZOFFSETFROM:-0400
TZOFFSETTO:-0500
TZNAME:EST
DTSTART:20241103T060000
END:STANDARD
END:VTIMEZONE
BEGIN:VEVENT
DTSTART;TZID=America/Detroit:20231027T183000
DTEND;TZID=America/Detroit:20231027T220000
DTSTAMP:20260422T063456
CREATED:20230928T174313Z
LAST-MODIFIED:20230928T174313Z
UID:10001928-1698431400-1698444000@afk.games
SUMMARY:Battle Spirits Saga - Aquatic Invaders prerelease
DESCRIPTION:Entry: $15\nBest of One Match\nGame wins required – 1\nParticipants are required to purchase 3 booster packs.\nDeck must have at least 20 cards. (There is no upper limit.)\nYour deck may contain any number of cards with the same name.\n\nhttps://battlespirits-saga.com/…/store-release…/2023/02/
URL:https://afk.games/event/battle-spirits-saga-aquatic-invaders-prerelease/
LOCATION:AFK Games\, 2495 Cedar Street STE 14-B\, Holt\, MI\, 48842\, United States
CATEGORIES:Bandai,Battle Spirits Saga,Events
ORGANIZER;CN="AFK Games":MAILTO:support@afk-games.com
END:VEVENT
BEGIN:VEVENT
DTSTART;TZID=America/Detroit:20231027T183000
DTEND;TZID=America/Detroit:20231027T220000
DTSTAMP:20260422T063456
CREATED:20230928T175025Z
LAST-MODIFIED:20230928T175143Z
UID:10001933-1698431400-1698444000@afk.games
SUMMARY:Battle Spirits Saga - Store Tournament
DESCRIPTION:Entry: $5\n120% of Store credit prized out to top players\, along with promo packs to top players! \nBest-of-three games with 60-minute matches and 5 minutes of extra time
URL:https://afk.games/event/battle-spirits-saga-store-tournament-3/2023-10-27/
LOCATION:AFK Games\, 2495 Cedar Street STE 14-B\, Holt\, MI\, 48842\, United States
CATEGORIES:Bandai,Battle Spirits Saga,Events
ORGANIZER;CN="AFK Games":MAILTO:support@afk-games.com
END:VEVENT
END:VCALENDAR