BEGIN:VCALENDAR
VERSION:2.0
PRODID:-//AFK Games - ECPv6.15.20//NONSGML v1.0//EN
CALSCALE:GREGORIAN
METHOD:PUBLISH
X-ORIGINAL-URL:https://afk.games
X-WR-CALDESC:Events for AFK Games
REFRESH-INTERVAL;VALUE=DURATION:PT1H
X-Robots-Tag:noindex
X-PUBLISHED-TTL:PT1H
BEGIN:VTIMEZONE
TZID:America/Detroit
BEGIN:DAYLIGHT
TZOFFSETFROM:-0500
TZOFFSETTO:-0400
TZNAME:EDT
DTSTART:20220313T070000
END:DAYLIGHT
BEGIN:STANDARD
TZOFFSETFROM:-0400
TZOFFSETTO:-0500
TZNAME:EST
DTSTART:20221106T060000
END:STANDARD
BEGIN:DAYLIGHT
TZOFFSETFROM:-0500
TZOFFSETTO:-0400
TZNAME:EDT
DTSTART:20230312T070000
END:DAYLIGHT
BEGIN:STANDARD
TZOFFSETFROM:-0400
TZOFFSETTO:-0500
TZNAME:EST
DTSTART:20231105T060000
END:STANDARD
BEGIN:DAYLIGHT
TZOFFSETFROM:-0500
TZOFFSETTO:-0400
TZNAME:EDT
DTSTART:20240310T070000
END:DAYLIGHT
BEGIN:STANDARD
TZOFFSETFROM:-0400
TZOFFSETTO:-0500
TZNAME:EST
DTSTART:20241103T060000
END:STANDARD
END:VTIMEZONE
BEGIN:VEVENT
DTSTART;TZID=America/Detroit:20230618T130000
DTEND;TZID=America/Detroit:20230618T173000
DTSTAMP:20260422T232536
CREATED:20230422T163246Z
LAST-MODIFIED:20230422T163246Z
UID:10001325-1687093200-1687109400@afk.games
SUMMARY:Lord of the Rings - Sunday 1:00 pm 2HG prerelease
DESCRIPTION:Crack open your packs\, assemble a 40-card minimum deck\, and battle for additional prize support! Each participant can earn up to 4 additional booster packs\, 1 booster pack per match win! \nContents— \n\n6 The Lord of the Rings: Tales of Middle-earth Draft Boosters\n1 foil\, year-stamped Main Set Rare or Mythic Rare\n1 foil\, year-stamped Promo card\n1 Helper card\n1 MTG Arena code card (only available in select regions)\n1 deck box\n1 Spindown die\n\nThis product does not contain Serialized Ring cards including the Serialized Elven\, Dwarven\, or Human Sol Ring cards\, and The 1 of 1 Ring (Serialized 001 of 001). Serialized Elven\, Dwarven\, and Human Sol Ring cards can only be found in some of The Lord of the Rings: Tales of Middle-earth Collector Boosters. Only one card has been printed of The One Ring (Serialized 001 of 001)\, and this card can only be found in one English-Language Collector Booster. Non-serialized Ring cards are mechanically identical to their Serialized versions.
URL:https://afk.games/event/lord-of-the-rings-sunday-100-pm-2hg-prerelease/
LOCATION:AFK Games\, 2495 Cedar Street STE 14-B\, Holt\, MI\, 48842\, United States
CATEGORIES:Events,Magic: The Gathering,Prerelease,Sealed
ORGANIZER;CN="AFK Games":MAILTO:support@afk-games.com
END:VEVENT
END:VCALENDAR