BEGIN:VCALENDAR
VERSION:2.0
PRODID:-//AFK Games - ECPv6.15.20//NONSGML v1.0//EN
CALSCALE:GREGORIAN
METHOD:PUBLISH
X-ORIGINAL-URL:https://afk.games
X-WR-CALDESC:Events for AFK Games
REFRESH-INTERVAL;VALUE=DURATION:PT1H
X-Robots-Tag:noindex
X-PUBLISHED-TTL:PT1H
BEGIN:VTIMEZONE
TZID:America/Detroit
BEGIN:DAYLIGHT
TZOFFSETFROM:-0500
TZOFFSETTO:-0400
TZNAME:EDT
DTSTART:20230312T070000
END:DAYLIGHT
BEGIN:STANDARD
TZOFFSETFROM:-0400
TZOFFSETTO:-0500
TZNAME:EST
DTSTART:20231105T060000
END:STANDARD
BEGIN:DAYLIGHT
TZOFFSETFROM:-0500
TZOFFSETTO:-0400
TZNAME:EDT
DTSTART:20240310T070000
END:DAYLIGHT
BEGIN:STANDARD
TZOFFSETFROM:-0400
TZOFFSETTO:-0500
TZNAME:EST
DTSTART:20241103T060000
END:STANDARD
BEGIN:DAYLIGHT
TZOFFSETFROM:-0500
TZOFFSETTO:-0400
TZNAME:EDT
DTSTART:20250309T070000
END:DAYLIGHT
BEGIN:STANDARD
TZOFFSETFROM:-0400
TZOFFSETTO:-0500
TZNAME:EST
DTSTART:20251102T060000
END:STANDARD
END:VTIMEZONE
BEGIN:VEVENT
DTSTART;TZID=America/Detroit:20241001T183000
DTEND;TZID=America/Detroit:20241001T213000
DTSTAMP:20260419T224228
CREATED:20240701T214925Z
LAST-MODIFIED:20241220T015212Z
UID:10002165-1727807400-1727818200@afk.games
SUMMARY:One Piece TCG - Store Tournament vol.7
DESCRIPTION:One Piece OP07 League – The league lasts until the release of set 8 (September 2024) the final events for this League are the two OP08 Prereleases on 9/7/24 and 9/10/24. \n-$10 Entry Fee- \nIf we are out of OP06\, entry will be $5\nBo1 Swiss 35 min rounds + 5 minutes of extra time \nEntry:\n1 OP07 Pack \nPrizing:\n**1st** – Winner pack\n**Top 16** – one tournament pack \n$6 Per head will be used to build the league pot – This pot will be distributed to the top 25%+ of the league \nCurrent leaderboard status:\nhttps://gear5.gg \nHow to earn league points for league ranking:\n• **Win a match** – 3 Points\n• **Undefeated (no round losses in the event)** – 2 Points\n• **Defeat last event’s winner – 1 Point per event**\n• **Lose a match** – 1 Point\n• **Draw** – 1 Point\n• **Participate in the weekly event** – 2 Point\n• **Bring someone new to the league** – 3 Points\n‣ Once per new player to the league\n‣ Once per event \nLeague Info:\nhttps://www.gear5.gg/info
URL:https://afk.games/event/one-piece-tcg-store-tournament-vol-5-2-2-2/2024-10-01/
LOCATION:AFK Games\, 2495 Cedar Street STE 14-B\, Holt\, MI\, 48842\, United States
CATEGORIES:Bandai,Events,One Piece TCG
ORGANIZER;CN="AFK Games":MAILTO:support@afk-games.com
END:VEVENT
BEGIN:VEVENT
DTSTART;TZID=America/Detroit:20241005T123000
DTEND;TZID=America/Detroit:20241005T150000
DTSTAMP:20260419T224228
CREATED:20240701T215000Z
LAST-MODIFIED:20241219T202046Z
UID:10002046-1728131400-1728140400@afk.games
SUMMARY:One Piece TCG - Store Tournament vol.7
DESCRIPTION:One Piece OP07 League – The league lasts until the release of set 8 (September 2024) the final events for this League are the two OP08 Prereleases on 9/7/24 and 9/10/24. \n-$10 Entry Fee- \nIf we are out of OP06\, entry will be $5\nBo1 Swiss 35 min rounds + 5 minutes of extra time \nEntry:\n1 OP07 Pack \nPrizing:\n**1st** – Winner pack\n**Top 16** – one tournament pack \n$6 Per head will be used to build the league pot – This pot will be distributed to the top 25%+ of the league \nCurrent leaderboard status:\nhttps://gear5.gg \nHow to earn league points for league ranking:\n• **Win a match** – 3 Points\n• **Undefeated (no round losses in the event)** – 2 Points\n• **Defeat last event’s winner – 1 Point per event**\n• **Lose a match** – 1 Point\n• **Draw** – 1 Point\n• **Participate in the weekly event** – 2 Point\n• **Bring someone new to the league** – 3 Points\n‣ Once per new player to the league\n‣ Once per event \nLeague Info:\nhttps://www.gear5.gg/info
URL:https://afk.games/event/one-piece-tcg-store-tournament-vol-5-3-2/2024-10-05/
LOCATION:AFK Games\, 2495 Cedar Street STE 14-B\, Holt\, MI\, 48842\, United States
CATEGORIES:Bandai,Events,One Piece TCG
ORGANIZER;CN="AFK Games":MAILTO:support@afk-games.com
END:VEVENT
BEGIN:VEVENT
DTSTART;TZID=America/Detroit:20241008T183000
DTEND;TZID=America/Detroit:20241008T213000
DTSTAMP:20260419T224228
CREATED:20240701T214925Z
LAST-MODIFIED:20241220T015212Z
UID:10002166-1728412200-1728423000@afk.games
SUMMARY:One Piece TCG - Store Tournament vol.7
DESCRIPTION:One Piece OP07 League – The league lasts until the release of set 8 (September 2024) the final events for this League are the two OP08 Prereleases on 9/7/24 and 9/10/24. \n-$10 Entry Fee- \nIf we are out of OP06\, entry will be $5\nBo1 Swiss 35 min rounds + 5 minutes of extra time \nEntry:\n1 OP07 Pack \nPrizing:\n**1st** – Winner pack\n**Top 16** – one tournament pack \n$6 Per head will be used to build the league pot – This pot will be distributed to the top 25%+ of the league \nCurrent leaderboard status:\nhttps://gear5.gg \nHow to earn league points for league ranking:\n• **Win a match** – 3 Points\n• **Undefeated (no round losses in the event)** – 2 Points\n• **Defeat last event’s winner – 1 Point per event**\n• **Lose a match** – 1 Point\n• **Draw** – 1 Point\n• **Participate in the weekly event** – 2 Point\n• **Bring someone new to the league** – 3 Points\n‣ Once per new player to the league\n‣ Once per event \nLeague Info:\nhttps://www.gear5.gg/info
URL:https://afk.games/event/one-piece-tcg-store-tournament-vol-5-2-2-2/2024-10-08/
LOCATION:AFK Games\, 2495 Cedar Street STE 14-B\, Holt\, MI\, 48842\, United States
CATEGORIES:Bandai,Events,One Piece TCG
ORGANIZER;CN="AFK Games":MAILTO:support@afk-games.com
END:VEVENT
BEGIN:VEVENT
DTSTART;TZID=America/Detroit:20241012T123000
DTEND;TZID=America/Detroit:20241012T150000
DTSTAMP:20260419T224228
CREATED:20240701T215000Z
LAST-MODIFIED:20241219T202046Z
UID:10002047-1728736200-1728745200@afk.games
SUMMARY:One Piece TCG - Store Tournament vol.7
DESCRIPTION:One Piece OP07 League – The league lasts until the release of set 8 (September 2024) the final events for this League are the two OP08 Prereleases on 9/7/24 and 9/10/24. \n-$10 Entry Fee- \nIf we are out of OP06\, entry will be $5\nBo1 Swiss 35 min rounds + 5 minutes of extra time \nEntry:\n1 OP07 Pack \nPrizing:\n**1st** – Winner pack\n**Top 16** – one tournament pack \n$6 Per head will be used to build the league pot – This pot will be distributed to the top 25%+ of the league \nCurrent leaderboard status:\nhttps://gear5.gg \nHow to earn league points for league ranking:\n• **Win a match** – 3 Points\n• **Undefeated (no round losses in the event)** – 2 Points\n• **Defeat last event’s winner – 1 Point per event**\n• **Lose a match** – 1 Point\n• **Draw** – 1 Point\n• **Participate in the weekly event** – 2 Point\n• **Bring someone new to the league** – 3 Points\n‣ Once per new player to the league\n‣ Once per event \nLeague Info:\nhttps://www.gear5.gg/info
URL:https://afk.games/event/one-piece-tcg-store-tournament-vol-5-3-2/2024-10-12/
LOCATION:AFK Games\, 2495 Cedar Street STE 14-B\, Holt\, MI\, 48842\, United States
CATEGORIES:Bandai,Events,One Piece TCG
ORGANIZER;CN="AFK Games":MAILTO:support@afk-games.com
END:VEVENT
BEGIN:VEVENT
DTSTART;TZID=America/Detroit:20241015T183000
DTEND;TZID=America/Detroit:20241015T213000
DTSTAMP:20260419T224228
CREATED:20240701T214925Z
LAST-MODIFIED:20241220T015212Z
UID:10002167-1729017000-1729027800@afk.games
SUMMARY:One Piece TCG - Store Tournament vol.7
DESCRIPTION:One Piece OP07 League – The league lasts until the release of set 8 (September 2024) the final events for this League are the two OP08 Prereleases on 9/7/24 and 9/10/24. \n-$10 Entry Fee- \nIf we are out of OP06\, entry will be $5\nBo1 Swiss 35 min rounds + 5 minutes of extra time \nEntry:\n1 OP07 Pack \nPrizing:\n**1st** – Winner pack\n**Top 16** – one tournament pack \n$6 Per head will be used to build the league pot – This pot will be distributed to the top 25%+ of the league \nCurrent leaderboard status:\nhttps://gear5.gg \nHow to earn league points for league ranking:\n• **Win a match** – 3 Points\n• **Undefeated (no round losses in the event)** – 2 Points\n• **Defeat last event’s winner – 1 Point per event**\n• **Lose a match** – 1 Point\n• **Draw** – 1 Point\n• **Participate in the weekly event** – 2 Point\n• **Bring someone new to the league** – 3 Points\n‣ Once per new player to the league\n‣ Once per event \nLeague Info:\nhttps://www.gear5.gg/info
URL:https://afk.games/event/one-piece-tcg-store-tournament-vol-5-2-2-2/2024-10-15/
LOCATION:AFK Games\, 2495 Cedar Street STE 14-B\, Holt\, MI\, 48842\, United States
CATEGORIES:Bandai,Events,One Piece TCG
ORGANIZER;CN="AFK Games":MAILTO:support@afk-games.com
END:VEVENT
BEGIN:VEVENT
DTSTART;TZID=America/Detroit:20241019T120000
DTEND;TZID=America/Detroit:20241019T193000
DTSTAMP:20260419T224228
CREATED:20240912T204430Z
LAST-MODIFIED:20240912T204430Z
UID:10003050-1729339200-1729366200@afk.games
SUMMARY:Disney Lorcana - Shimmering Skies - Store Championship
DESCRIPTION:Entry: $20 \nChampion: The winner receives: \n\n1 Mirabel Madrigal — Family Gatherer Champion Playmat\n1 Mirabel Madrigal — Family Gatherer promo card\n\nRunner-Up: The second-place finisher receives: \n\n1 Mirabel Madrigal — Family Gatherer Playmat\n\n1 Mirabel Madrigal — Family Gatherer promo card\n\n\n\nThird- through Eighth-Place Finishers each receive: \n\n1 Mirabel Madrigal — Family Gatherer promo card\n\nAdditional product for top players.
URL:https://afk.games/event/disney-lorcana-shimmering-skies-store-championship/
LOCATION:AFK Games\, 2495 Cedar Street STE 14-B\, Holt\, MI\, 48842\, United States
CATEGORIES:Events,Lorcana,Ravensburger
ORGANIZER;CN="AFK Games":MAILTO:support@afk-games.com
END:VEVENT
BEGIN:VEVENT
DTSTART;TZID=America/Detroit:20241019T123000
DTEND;TZID=America/Detroit:20241019T150000
DTSTAMP:20260419T224228
CREATED:20240701T215000Z
LAST-MODIFIED:20241219T202046Z
UID:10002048-1729341000-1729350000@afk.games
SUMMARY:One Piece TCG - Store Tournament vol.7
DESCRIPTION:One Piece OP07 League – The league lasts until the release of set 8 (September 2024) the final events for this League are the two OP08 Prereleases on 9/7/24 and 9/10/24. \n-$10 Entry Fee- \nIf we are out of OP06\, entry will be $5\nBo1 Swiss 35 min rounds + 5 minutes of extra time \nEntry:\n1 OP07 Pack \nPrizing:\n**1st** – Winner pack\n**Top 16** – one tournament pack \n$6 Per head will be used to build the league pot – This pot will be distributed to the top 25%+ of the league \nCurrent leaderboard status:\nhttps://gear5.gg \nHow to earn league points for league ranking:\n• **Win a match** – 3 Points\n• **Undefeated (no round losses in the event)** – 2 Points\n• **Defeat last event’s winner – 1 Point per event**\n• **Lose a match** – 1 Point\n• **Draw** – 1 Point\n• **Participate in the weekly event** – 2 Point\n• **Bring someone new to the league** – 3 Points\n‣ Once per new player to the league\n‣ Once per event \nLeague Info:\nhttps://www.gear5.gg/info
URL:https://afk.games/event/one-piece-tcg-store-tournament-vol-5-3-2/2024-10-19/
LOCATION:AFK Games\, 2495 Cedar Street STE 14-B\, Holt\, MI\, 48842\, United States
CATEGORIES:Bandai,Events,One Piece TCG
ORGANIZER;CN="AFK Games":MAILTO:support@afk-games.com
END:VEVENT
BEGIN:VEVENT
DTSTART;TZID=America/Detroit:20241022T183000
DTEND;TZID=America/Detroit:20241022T213000
DTSTAMP:20260419T224228
CREATED:20240701T214925Z
LAST-MODIFIED:20241220T015212Z
UID:10002168-1729621800-1729632600@afk.games
SUMMARY:One Piece TCG - Store Tournament vol.7
DESCRIPTION:One Piece OP07 League – The league lasts until the release of set 8 (September 2024) the final events for this League are the two OP08 Prereleases on 9/7/24 and 9/10/24. \n-$10 Entry Fee- \nIf we are out of OP06\, entry will be $5\nBo1 Swiss 35 min rounds + 5 minutes of extra time \nEntry:\n1 OP07 Pack \nPrizing:\n**1st** – Winner pack\n**Top 16** – one tournament pack \n$6 Per head will be used to build the league pot – This pot will be distributed to the top 25%+ of the league \nCurrent leaderboard status:\nhttps://gear5.gg \nHow to earn league points for league ranking:\n• **Win a match** – 3 Points\n• **Undefeated (no round losses in the event)** – 2 Points\n• **Defeat last event’s winner – 1 Point per event**\n• **Lose a match** – 1 Point\n• **Draw** – 1 Point\n• **Participate in the weekly event** – 2 Point\n• **Bring someone new to the league** – 3 Points\n‣ Once per new player to the league\n‣ Once per event \nLeague Info:\nhttps://www.gear5.gg/info
URL:https://afk.games/event/one-piece-tcg-store-tournament-vol-5-2-2-2/2024-10-22/
LOCATION:AFK Games\, 2495 Cedar Street STE 14-B\, Holt\, MI\, 48842\, United States
CATEGORIES:Bandai,Events,One Piece TCG
ORGANIZER;CN="AFK Games":MAILTO:support@afk-games.com
END:VEVENT
BEGIN:VEVENT
DTSTART;TZID=America/Detroit:20241026T123000
DTEND;TZID=America/Detroit:20241026T183000
DTSTAMP:20260419T224228
CREATED:20240918T181757Z
LAST-MODIFIED:20240918T181757Z
UID:10003053-1729945800-1729967400@afk.games
SUMMARY:SWU: Shadows of the Galaxy - Store Showdown
DESCRIPTION:Date & Time: \n\nDoors Open: 12:00 PM\nTournament Start: 12:30 PM\n\n\nEntry Fee: $25 Registration Cap: 32 players \nTournament Format\n\nRounds: Based on player count\n\n8 players: 3 rounds (No top cut)\n9-16 players: 4 rounds (Top 4 cut)\n17-32 players: 5 rounds (Top 4 cut)\n\n\n\n\n\nRound Time: 55 minutes (Top cut rounds are untimed)\nMatch Format: Best of 3 games\nEvent Format: Premier\n\n\nDeck Requirements\n\nDeck Composition:\n\nExactly one Leader\nExactly one Base\nMinimum 50-card Draw Deck\n\n\n\n\n\nSideboard: Up to 10 non-Leader\, non-Base cards\nCard Limits: No more than three copies of any one card\nDecklists: Required at registration\n\nTip: Use swudb.com to build and print your decklist\n\n\n\n\nPrizes\n\nParticipation:\n\nPromo Card: Lady Proxima\nWeekly Play Promo Pack\n3 Booster packs of Shadows of the Galaxy\n\n\n\n\n\n\n\n\nTop 8 Promo: Borderless Foil Unrefusable Offer stamped “Top 8”\nTop 4 Promo: Borderless Foil Unrefusable Offer stamped “Top 4”\nFinalist Promo: Borderless Foil Unrefusable Offer stamped “Finalist”\nChampion Promo: Borderless Foil Unrefusable Offer stamped “Champion”\nStore Credit: Awarded based on final record\n\n\n  \n 
URL:https://afk.games/event/swu-shadows-of-the-galaxy-store-showdown/
LOCATION:AFK Games\, 2495 Cedar Street STE 14-B\, Holt\, MI\, 48842\, United States
CATEGORIES:Events,Star Wars: Unlimited
ORGANIZER;CN="AFK Games":MAILTO:support@afk-games.com
END:VEVENT
BEGIN:VEVENT
DTSTART;TZID=America/Detroit:20241029T183000
DTEND;TZID=America/Detroit:20241029T213000
DTSTAMP:20260419T224228
CREATED:20240701T214925Z
LAST-MODIFIED:20241220T015212Z
UID:10002169-1730226600-1730237400@afk.games
SUMMARY:One Piece TCG - Store Tournament vol.7
DESCRIPTION:One Piece OP07 League – The league lasts until the release of set 8 (September 2024) the final events for this League are the two OP08 Prereleases on 9/7/24 and 9/10/24. \n-$10 Entry Fee- \nIf we are out of OP06\, entry will be $5\nBo1 Swiss 35 min rounds + 5 minutes of extra time \nEntry:\n1 OP07 Pack \nPrizing:\n**1st** – Winner pack\n**Top 16** – one tournament pack \n$6 Per head will be used to build the league pot – This pot will be distributed to the top 25%+ of the league \nCurrent leaderboard status:\nhttps://gear5.gg \nHow to earn league points for league ranking:\n• **Win a match** – 3 Points\n• **Undefeated (no round losses in the event)** – 2 Points\n• **Defeat last event’s winner – 1 Point per event**\n• **Lose a match** – 1 Point\n• **Draw** – 1 Point\n• **Participate in the weekly event** – 2 Point\n• **Bring someone new to the league** – 3 Points\n‣ Once per new player to the league\n‣ Once per event \nLeague Info:\nhttps://www.gear5.gg/info
URL:https://afk.games/event/one-piece-tcg-store-tournament-vol-5-2-2-2/2024-10-29/
LOCATION:AFK Games\, 2495 Cedar Street STE 14-B\, Holt\, MI\, 48842\, United States
CATEGORIES:Bandai,Events,One Piece TCG
ORGANIZER;CN="AFK Games":MAILTO:support@afk-games.com
END:VEVENT
END:VCALENDAR