BEGIN:VCALENDAR
VERSION:2.0
PRODID:-//AFK Games - ECPv6.15.20//NONSGML v1.0//EN
CALSCALE:GREGORIAN
METHOD:PUBLISH
X-WR-CALNAME:AFK Games
X-ORIGINAL-URL:https://afk.games
X-WR-CALDESC:Events for AFK Games
REFRESH-INTERVAL;VALUE=DURATION:PT1H
X-Robots-Tag:noindex
X-PUBLISHED-TTL:PT1H
BEGIN:VTIMEZONE
TZID:America/Detroit
BEGIN:DAYLIGHT
TZOFFSETFROM:-0500
TZOFFSETTO:-0400
TZNAME:EDT
DTSTART:20230312T070000
END:DAYLIGHT
BEGIN:STANDARD
TZOFFSETFROM:-0400
TZOFFSETTO:-0500
TZNAME:EST
DTSTART:20231105T060000
END:STANDARD
BEGIN:DAYLIGHT
TZOFFSETFROM:-0500
TZOFFSETTO:-0400
TZNAME:EDT
DTSTART:20240310T070000
END:DAYLIGHT
BEGIN:STANDARD
TZOFFSETFROM:-0400
TZOFFSETTO:-0500
TZNAME:EST
DTSTART:20241103T060000
END:STANDARD
BEGIN:DAYLIGHT
TZOFFSETFROM:-0500
TZOFFSETTO:-0400
TZNAME:EDT
DTSTART:20250309T070000
END:DAYLIGHT
BEGIN:STANDARD
TZOFFSETFROM:-0400
TZOFFSETTO:-0500
TZNAME:EST
DTSTART:20251102T060000
END:STANDARD
END:VTIMEZONE
BEGIN:VEVENT
DTSTART;TZID=America/Detroit:20240402T183000
DTEND;TZID=America/Detroit:20240402T210000
DTSTAMP:20260420T210203
CREATED:20240321T173944Z
LAST-MODIFIED:20240321T173944Z
UID:10002394-1712082600-1712091600@afk.games
SUMMARY:Star Wars: Unlimited Weekly Play
DESCRIPTION:Entry: $10\n55 Minute rounds\nBest of Three\nCapped at 3 rounds \nStore credit based on record\n3-0 = $40\n2-1 = $20 \nPromo pack for participation
URL:https://afk.games/event/star-wars-unlimited-weekly-play/2024-04-02/
LOCATION:AFK Games\, 2495 Cedar Street STE 14-B\, Holt\, MI\, 48842\, United States
CATEGORIES:Events,Star Wars: Unlimited
ORGANIZER;CN="AFK Games":MAILTO:support@afk-games.com
END:VEVENT
BEGIN:VEVENT
DTSTART;TZID=America/Detroit:20240402T183000
DTEND;TZID=America/Detroit:20240402T213000
DTSTAMP:20260420T210203
CREATED:20240315T211703Z
LAST-MODIFIED:20240315T211704Z
UID:10002139-1712082600-1712093400@afk.games
SUMMARY:One Piece TCG - Store Tournament vol.6
DESCRIPTION:Tuesdays @ 6:30 pm\nSaturdays @ 12:30 pm \nOne Piece League Tournament – The league lasts until the release of set 7 (June 2024) \nBo1 Swiss 35 min rounds + 5 minutes of extra time \n-$10 Entry Fee- \n\nIf we are out of OP06\, entry will be $5\n\n\nEntry:\n1x OP06 Pack (while supplies last) \nPrizing:\n1st – Winner pack\nTop 8 – one tournament pack \n$6 Per head will be used to build the league pot – This pot will be distributed to the top 25% per ranking  \nleaderboard at the end of the league season (OP07 + Other goodies in prize pool) *Prizing subject to change) \nFor current leaderboard status please check our Challonge leaderboard/discord:  \nHow to earn league points for league ranking: \n\nWin a match – 3 Points\nUndefeated – 2 Points\n\nBeat a player who has been undefeated for 2+ events – 1 Point per event\n\n2 events = 2 Points \n3 events = 3 Points \nAnd so on\n\n\n\n\nLose a match – 1 Point\nDraw – 1 Point\nParticipate in the weekly event – 3 Point\nBring someone new to the league – 3 Points \n\nOnce per new player to the league
URL:https://afk.games/event/one-piece-tcg-store-tournament-vol-5-2-2/2024-04-02/
LOCATION:AFK Games\, 2495 Cedar Street STE 14-B\, Holt\, MI\, 48842\, United States
CATEGORIES:Bandai,Events,One Piece TCG
ORGANIZER;CN="AFK Games":MAILTO:support@afk-games.com
END:VEVENT
BEGIN:VEVENT
DTSTART;TZID=America/Detroit:20240406T123000
DTEND;TZID=America/Detroit:20240406T150000
DTSTAMP:20260420T210203
CREATED:20240315T211606Z
LAST-MODIFIED:20240315T211607Z
UID:10002020-1712406600-1712415600@afk.games
SUMMARY:One Piece TCG - Store Tournament vol.6
DESCRIPTION:Tuesdays @ 6:30 pm\nSaturdays @ 12:30 pm \nOne Piece League Tournament – The league lasts until the release of set 7 (June 2024) \nBo1 Swiss 35 min rounds + 5 minutes of extra time \n-$10 Entry Fee- \n\nIf we are out of OP06\, entry will be $5\n\n\nEntry:\n1x OP06 Pack (while supplies last) \nPrizing:\n1st – Winner pack\nTop 8 – one tournament pack \n$6 Per head will be used to build the league pot – This pot will be distributed to the top 25% per ranking  \nleaderboard at the end of the league season (OP07 + Other goodies in prize pool) *Prizing subject to change) \nFor current leaderboard status please check our Challonge leaderboard/discord:  \nHow to earn league points for league ranking: \n\nWin a match – 3 Points\nUndefeated – 2 Points\n\nBeat a player who has been undefeated for 2+ events – 1 Point per event\n\n2 events = 2 Points \n3 events = 3 Points \nAnd so on\n\n\n\n\nLose a match – 1 Point\nDraw – 1 Point\nParticipate in the weekly event – 3 Point\nBring someone new to the league – 3 Points \n\nOnce per new player to the league
URL:https://afk.games/event/one-piece-tcg-store-tournament-vol-5-3/2024-04-06/
LOCATION:AFK Games\, 2495 Cedar Street STE 14-B\, Holt\, MI\, 48842\, United States
CATEGORIES:Bandai,Events,One Piece TCG
ORGANIZER;CN="AFK Games":MAILTO:support@afk-games.com
END:VEVENT
BEGIN:VEVENT
DTSTART;TZID=America/Detroit:20240409T183000
DTEND;TZID=America/Detroit:20240409T210000
DTSTAMP:20260420T210203
CREATED:20240321T173944Z
LAST-MODIFIED:20240321T173944Z
UID:10002395-1712687400-1712696400@afk.games
SUMMARY:Star Wars: Unlimited Weekly Play
DESCRIPTION:Entry: $10\n55 Minute rounds\nBest of Three\nCapped at 3 rounds \nStore credit based on record\n3-0 = $40\n2-1 = $20 \nPromo pack for participation
URL:https://afk.games/event/star-wars-unlimited-weekly-play/2024-04-09/
LOCATION:AFK Games\, 2495 Cedar Street STE 14-B\, Holt\, MI\, 48842\, United States
CATEGORIES:Events,Star Wars: Unlimited
ORGANIZER;CN="AFK Games":MAILTO:support@afk-games.com
END:VEVENT
BEGIN:VEVENT
DTSTART;TZID=America/Detroit:20240409T183000
DTEND;TZID=America/Detroit:20240409T213000
DTSTAMP:20260420T210203
CREATED:20240315T211703Z
LAST-MODIFIED:20240315T211704Z
UID:10002140-1712687400-1712698200@afk.games
SUMMARY:One Piece TCG - Store Tournament vol.6
DESCRIPTION:Tuesdays @ 6:30 pm\nSaturdays @ 12:30 pm \nOne Piece League Tournament – The league lasts until the release of set 7 (June 2024) \nBo1 Swiss 35 min rounds + 5 minutes of extra time \n-$10 Entry Fee- \n\nIf we are out of OP06\, entry will be $5\n\n\nEntry:\n1x OP06 Pack (while supplies last) \nPrizing:\n1st – Winner pack\nTop 8 – one tournament pack \n$6 Per head will be used to build the league pot – This pot will be distributed to the top 25% per ranking  \nleaderboard at the end of the league season (OP07 + Other goodies in prize pool) *Prizing subject to change) \nFor current leaderboard status please check our Challonge leaderboard/discord:  \nHow to earn league points for league ranking: \n\nWin a match – 3 Points\nUndefeated – 2 Points\n\nBeat a player who has been undefeated for 2+ events – 1 Point per event\n\n2 events = 2 Points \n3 events = 3 Points \nAnd so on\n\n\n\n\nLose a match – 1 Point\nDraw – 1 Point\nParticipate in the weekly event – 3 Point\nBring someone new to the league – 3 Points \n\nOnce per new player to the league
URL:https://afk.games/event/one-piece-tcg-store-tournament-vol-5-2-2/2024-04-09/
LOCATION:AFK Games\, 2495 Cedar Street STE 14-B\, Holt\, MI\, 48842\, United States
CATEGORIES:Bandai,Events,One Piece TCG
ORGANIZER;CN="AFK Games":MAILTO:support@afk-games.com
END:VEVENT
BEGIN:VEVENT
DTSTART;TZID=America/Detroit:20240413T123000
DTEND;TZID=America/Detroit:20240413T150000
DTSTAMP:20260420T210203
CREATED:20240315T211606Z
LAST-MODIFIED:20240315T211607Z
UID:10002021-1713011400-1713020400@afk.games
SUMMARY:One Piece TCG - Store Tournament vol.6
DESCRIPTION:Tuesdays @ 6:30 pm\nSaturdays @ 12:30 pm \nOne Piece League Tournament – The league lasts until the release of set 7 (June 2024) \nBo1 Swiss 35 min rounds + 5 minutes of extra time \n-$10 Entry Fee- \n\nIf we are out of OP06\, entry will be $5\n\n\nEntry:\n1x OP06 Pack (while supplies last) \nPrizing:\n1st – Winner pack\nTop 8 – one tournament pack \n$6 Per head will be used to build the league pot – This pot will be distributed to the top 25% per ranking  \nleaderboard at the end of the league season (OP07 + Other goodies in prize pool) *Prizing subject to change) \nFor current leaderboard status please check our Challonge leaderboard/discord:  \nHow to earn league points for league ranking: \n\nWin a match – 3 Points\nUndefeated – 2 Points\n\nBeat a player who has been undefeated for 2+ events – 1 Point per event\n\n2 events = 2 Points \n3 events = 3 Points \nAnd so on\n\n\n\n\nLose a match – 1 Point\nDraw – 1 Point\nParticipate in the weekly event – 3 Point\nBring someone new to the league – 3 Points \n\nOnce per new player to the league
URL:https://afk.games/event/one-piece-tcg-store-tournament-vol-5-3/2024-04-13/
LOCATION:AFK Games\, 2495 Cedar Street STE 14-B\, Holt\, MI\, 48842\, United States
CATEGORIES:Bandai,Events,One Piece TCG
ORGANIZER;CN="AFK Games":MAILTO:support@afk-games.com
END:VEVENT
BEGIN:VEVENT
DTSTART;TZID=America/Detroit:20240416T183000
DTEND;TZID=America/Detroit:20240416T210000
DTSTAMP:20260420T210203
CREATED:20240321T173944Z
LAST-MODIFIED:20240321T173944Z
UID:10002396-1713292200-1713301200@afk.games
SUMMARY:Star Wars: Unlimited Weekly Play
DESCRIPTION:Entry: $10\n55 Minute rounds\nBest of Three\nCapped at 3 rounds \nStore credit based on record\n3-0 = $40\n2-1 = $20 \nPromo pack for participation
URL:https://afk.games/event/star-wars-unlimited-weekly-play/2024-04-16/
LOCATION:AFK Games\, 2495 Cedar Street STE 14-B\, Holt\, MI\, 48842\, United States
CATEGORIES:Events,Star Wars: Unlimited
ORGANIZER;CN="AFK Games":MAILTO:support@afk-games.com
END:VEVENT
BEGIN:VEVENT
DTSTART;TZID=America/Detroit:20240416T183000
DTEND;TZID=America/Detroit:20240416T213000
DTSTAMP:20260420T210203
CREATED:20240315T211703Z
LAST-MODIFIED:20240315T211704Z
UID:10002141-1713292200-1713303000@afk.games
SUMMARY:One Piece TCG - Store Tournament vol.6
DESCRIPTION:Tuesdays @ 6:30 pm\nSaturdays @ 12:30 pm \nOne Piece League Tournament – The league lasts until the release of set 7 (June 2024) \nBo1 Swiss 35 min rounds + 5 minutes of extra time \n-$10 Entry Fee- \n\nIf we are out of OP06\, entry will be $5\n\n\nEntry:\n1x OP06 Pack (while supplies last) \nPrizing:\n1st – Winner pack\nTop 8 – one tournament pack \n$6 Per head will be used to build the league pot – This pot will be distributed to the top 25% per ranking  \nleaderboard at the end of the league season (OP07 + Other goodies in prize pool) *Prizing subject to change) \nFor current leaderboard status please check our Challonge leaderboard/discord:  \nHow to earn league points for league ranking: \n\nWin a match – 3 Points\nUndefeated – 2 Points\n\nBeat a player who has been undefeated for 2+ events – 1 Point per event\n\n2 events = 2 Points \n3 events = 3 Points \nAnd so on\n\n\n\n\nLose a match – 1 Point\nDraw – 1 Point\nParticipate in the weekly event – 3 Point\nBring someone new to the league – 3 Points \n\nOnce per new player to the league
URL:https://afk.games/event/one-piece-tcg-store-tournament-vol-5-2-2/2024-04-16/
LOCATION:AFK Games\, 2495 Cedar Street STE 14-B\, Holt\, MI\, 48842\, United States
CATEGORIES:Bandai,Events,One Piece TCG
ORGANIZER;CN="AFK Games":MAILTO:support@afk-games.com
END:VEVENT
BEGIN:VEVENT
DTSTART;TZID=America/Detroit:20240420T123000
DTEND;TZID=America/Detroit:20240420T150000
DTSTAMP:20260420T210203
CREATED:20240315T211606Z
LAST-MODIFIED:20240315T211607Z
UID:10002022-1713616200-1713625200@afk.games
SUMMARY:One Piece TCG - Store Tournament vol.6
DESCRIPTION:Tuesdays @ 6:30 pm\nSaturdays @ 12:30 pm \nOne Piece League Tournament – The league lasts until the release of set 7 (June 2024) \nBo1 Swiss 35 min rounds + 5 minutes of extra time \n-$10 Entry Fee- \n\nIf we are out of OP06\, entry will be $5\n\n\nEntry:\n1x OP06 Pack (while supplies last) \nPrizing:\n1st – Winner pack\nTop 8 – one tournament pack \n$6 Per head will be used to build the league pot – This pot will be distributed to the top 25% per ranking  \nleaderboard at the end of the league season (OP07 + Other goodies in prize pool) *Prizing subject to change) \nFor current leaderboard status please check our Challonge leaderboard/discord:  \nHow to earn league points for league ranking: \n\nWin a match – 3 Points\nUndefeated – 2 Points\n\nBeat a player who has been undefeated for 2+ events – 1 Point per event\n\n2 events = 2 Points \n3 events = 3 Points \nAnd so on\n\n\n\n\nLose a match – 1 Point\nDraw – 1 Point\nParticipate in the weekly event – 3 Point\nBring someone new to the league – 3 Points \n\nOnce per new player to the league
URL:https://afk.games/event/one-piece-tcg-store-tournament-vol-5-3/2024-04-20/
LOCATION:AFK Games\, 2495 Cedar Street STE 14-B\, Holt\, MI\, 48842\, United States
CATEGORIES:Bandai,Events,One Piece TCG
ORGANIZER;CN="AFK Games":MAILTO:support@afk-games.com
END:VEVENT
BEGIN:VEVENT
DTSTART;TZID=America/Detroit:20240423T183000
DTEND;TZID=America/Detroit:20240423T210000
DTSTAMP:20260420T210203
CREATED:20240321T173944Z
LAST-MODIFIED:20240321T173944Z
UID:10002397-1713897000-1713906000@afk.games
SUMMARY:Star Wars: Unlimited Weekly Play
DESCRIPTION:Entry: $10\n55 Minute rounds\nBest of Three\nCapped at 3 rounds \nStore credit based on record\n3-0 = $40\n2-1 = $20 \nPromo pack for participation
URL:https://afk.games/event/star-wars-unlimited-weekly-play/2024-04-23/
LOCATION:AFK Games\, 2495 Cedar Street STE 14-B\, Holt\, MI\, 48842\, United States
CATEGORIES:Events,Star Wars: Unlimited
ORGANIZER;CN="AFK Games":MAILTO:support@afk-games.com
END:VEVENT
BEGIN:VEVENT
DTSTART;TZID=America/Detroit:20240423T183000
DTEND;TZID=America/Detroit:20240423T213000
DTSTAMP:20260420T210203
CREATED:20240315T211703Z
LAST-MODIFIED:20240315T211704Z
UID:10002142-1713897000-1713907800@afk.games
SUMMARY:One Piece TCG - Store Tournament vol.6
DESCRIPTION:Tuesdays @ 6:30 pm\nSaturdays @ 12:30 pm \nOne Piece League Tournament – The league lasts until the release of set 7 (June 2024) \nBo1 Swiss 35 min rounds + 5 minutes of extra time \n-$10 Entry Fee- \n\nIf we are out of OP06\, entry will be $5\n\n\nEntry:\n1x OP06 Pack (while supplies last) \nPrizing:\n1st – Winner pack\nTop 8 – one tournament pack \n$6 Per head will be used to build the league pot – This pot will be distributed to the top 25% per ranking  \nleaderboard at the end of the league season (OP07 + Other goodies in prize pool) *Prizing subject to change) \nFor current leaderboard status please check our Challonge leaderboard/discord:  \nHow to earn league points for league ranking: \n\nWin a match – 3 Points\nUndefeated – 2 Points\n\nBeat a player who has been undefeated for 2+ events – 1 Point per event\n\n2 events = 2 Points \n3 events = 3 Points \nAnd so on\n\n\n\n\nLose a match – 1 Point\nDraw – 1 Point\nParticipate in the weekly event – 3 Point\nBring someone new to the league – 3 Points \n\nOnce per new player to the league
URL:https://afk.games/event/one-piece-tcg-store-tournament-vol-5-2-2/2024-04-23/
LOCATION:AFK Games\, 2495 Cedar Street STE 14-B\, Holt\, MI\, 48842\, United States
CATEGORIES:Bandai,Events,One Piece TCG
ORGANIZER;CN="AFK Games":MAILTO:support@afk-games.com
END:VEVENT
BEGIN:VEVENT
DTSTART;TZID=America/Detroit:20240427T100000
DTEND;TZID=America/Detroit:20240427T190000
DTSTAMP:20260420T210203
CREATED:20240328T231123Z
LAST-MODIFIED:20240328T231123Z
UID:10002733-1714212000-1714244400@afk.games
SUMMARY:Season 3 - Round 1 - Sealed RCQ (2-Slot)
DESCRIPTION:Tournament Format\nThis event will be a 2-slot RCQ for SCG CON Washington D.C\, which means 1st and 2nd will receive an RCQ invite.  \nWe will be playing Outlaws of Thunder Junction Sealed Swiss rounds\, and then a cut to top-8 draft that will be timed. \nWe will be playing rounds of Swiss as recommended by the tournament rules. Following the Swiss rounds\, the top 8 players overall will draft in single-elimination rounds. \nParticipants must register their sealed pools as written in the Magic: the Gathering tournament rules section 7.5.  \nParticipants will have 20 minutes for deck registration and 30 minutes for deck construction. \nTournament Schedule\nDoors will open at 9:30 am \nRegistration ends at 9:55 am.  \nThe player meeting will commence at 10:00 am with our head judge Nick Babcock\, followed by the start of deck registration. \nPrizes\n1st – 30% of Store Credit pool + Exclusive Winner Promo + Top 8 promo + RCQ Invite\n2nd – 20% of Store Credit pool + Exclusive Winner Promo + Top 8 promo + RCQ Invite\n3/4th – 10% of Store Credit pool + Top 8 promo\n5-8th – 7.5% of Store Credit pool + Top 8 promo \nThe first 64 players will receive an RCQ promo.  \nStore credit prizes will be scaled with attendance. But the major milestones will be: \n20 players: $440 pool\n30 players: $850 pool\n40 players: $1257 pool
URL:https://afk.games/event/season-3-round-1-sealed-rcq-2-slot/
LOCATION:AFK Games\, 2495 Cedar Street STE 14-B\, Holt\, MI\, 48842\, United States
CATEGORIES:Draft,Events,Magic: The Gathering,RCQ,Sealed
ORGANIZER;CN="AFK Games":MAILTO:support@afk-games.com
END:VEVENT
BEGIN:VEVENT
DTSTART;TZID=America/Detroit:20240427T123000
DTEND;TZID=America/Detroit:20240427T150000
DTSTAMP:20260420T210203
CREATED:20240315T211606Z
LAST-MODIFIED:20240315T211607Z
UID:10002023-1714221000-1714230000@afk.games
SUMMARY:One Piece TCG - Store Tournament vol.6
DESCRIPTION:Tuesdays @ 6:30 pm\nSaturdays @ 12:30 pm \nOne Piece League Tournament – The league lasts until the release of set 7 (June 2024) \nBo1 Swiss 35 min rounds + 5 minutes of extra time \n-$10 Entry Fee- \n\nIf we are out of OP06\, entry will be $5\n\n\nEntry:\n1x OP06 Pack (while supplies last) \nPrizing:\n1st – Winner pack\nTop 8 – one tournament pack \n$6 Per head will be used to build the league pot – This pot will be distributed to the top 25% per ranking  \nleaderboard at the end of the league season (OP07 + Other goodies in prize pool) *Prizing subject to change) \nFor current leaderboard status please check our Challonge leaderboard/discord:  \nHow to earn league points for league ranking: \n\nWin a match – 3 Points\nUndefeated – 2 Points\n\nBeat a player who has been undefeated for 2+ events – 1 Point per event\n\n2 events = 2 Points \n3 events = 3 Points \nAnd so on\n\n\n\n\nLose a match – 1 Point\nDraw – 1 Point\nParticipate in the weekly event – 3 Point\nBring someone new to the league – 3 Points \n\nOnce per new player to the league
URL:https://afk.games/event/one-piece-tcg-store-tournament-vol-5-3/2024-04-27/
LOCATION:AFK Games\, 2495 Cedar Street STE 14-B\, Holt\, MI\, 48842\, United States
CATEGORIES:Bandai,Events,One Piece TCG
ORGANIZER;CN="AFK Games":MAILTO:support@afk-games.com
END:VEVENT
BEGIN:VEVENT
DTSTART;TZID=America/Detroit:20240430T183000
DTEND;TZID=America/Detroit:20240430T210000
DTSTAMP:20260420T210203
CREATED:20240321T173944Z
LAST-MODIFIED:20240321T173944Z
UID:10002398-1714501800-1714510800@afk.games
SUMMARY:Star Wars: Unlimited Weekly Play
DESCRIPTION:Entry: $10\n55 Minute rounds\nBest of Three\nCapped at 3 rounds \nStore credit based on record\n3-0 = $40\n2-1 = $20 \nPromo pack for participation
URL:https://afk.games/event/star-wars-unlimited-weekly-play/2024-04-30/
LOCATION:AFK Games\, 2495 Cedar Street STE 14-B\, Holt\, MI\, 48842\, United States
CATEGORIES:Events,Star Wars: Unlimited
ORGANIZER;CN="AFK Games":MAILTO:support@afk-games.com
END:VEVENT
BEGIN:VEVENT
DTSTART;TZID=America/Detroit:20240430T183000
DTEND;TZID=America/Detroit:20240430T213000
DTSTAMP:20260420T210203
CREATED:20240315T211703Z
LAST-MODIFIED:20240315T211704Z
UID:10002143-1714501800-1714512600@afk.games
SUMMARY:One Piece TCG - Store Tournament vol.6
DESCRIPTION:Tuesdays @ 6:30 pm\nSaturdays @ 12:30 pm \nOne Piece League Tournament – The league lasts until the release of set 7 (June 2024) \nBo1 Swiss 35 min rounds + 5 minutes of extra time \n-$10 Entry Fee- \n\nIf we are out of OP06\, entry will be $5\n\n\nEntry:\n1x OP06 Pack (while supplies last) \nPrizing:\n1st – Winner pack\nTop 8 – one tournament pack \n$6 Per head will be used to build the league pot – This pot will be distributed to the top 25% per ranking  \nleaderboard at the end of the league season (OP07 + Other goodies in prize pool) *Prizing subject to change) \nFor current leaderboard status please check our Challonge leaderboard/discord:  \nHow to earn league points for league ranking: \n\nWin a match – 3 Points\nUndefeated – 2 Points\n\nBeat a player who has been undefeated for 2+ events – 1 Point per event\n\n2 events = 2 Points \n3 events = 3 Points \nAnd so on\n\n\n\n\nLose a match – 1 Point\nDraw – 1 Point\nParticipate in the weekly event – 3 Point\nBring someone new to the league – 3 Points \n\nOnce per new player to the league
URL:https://afk.games/event/one-piece-tcg-store-tournament-vol-5-2-2/2024-04-30/
LOCATION:AFK Games\, 2495 Cedar Street STE 14-B\, Holt\, MI\, 48842\, United States
CATEGORIES:Bandai,Events,One Piece TCG
ORGANIZER;CN="AFK Games":MAILTO:support@afk-games.com
END:VEVENT
END:VCALENDAR