BEGIN:VCALENDAR
VERSION:2.0
PRODID:-//AFK Games - ECPv6.15.20//NONSGML v1.0//EN
CALSCALE:GREGORIAN
METHOD:PUBLISH
X-ORIGINAL-URL:https://afk.games
X-WR-CALDESC:Events for AFK Games
REFRESH-INTERVAL;VALUE=DURATION:PT1H
X-Robots-Tag:noindex
X-PUBLISHED-TTL:PT1H
BEGIN:VTIMEZONE
TZID:America/Detroit
BEGIN:DAYLIGHT
TZOFFSETFROM:-0500
TZOFFSETTO:-0400
TZNAME:EDT
DTSTART:20230312T070000
END:DAYLIGHT
BEGIN:STANDARD
TZOFFSETFROM:-0400
TZOFFSETTO:-0500
TZNAME:EST
DTSTART:20231105T060000
END:STANDARD
BEGIN:DAYLIGHT
TZOFFSETFROM:-0500
TZOFFSETTO:-0400
TZNAME:EDT
DTSTART:20240310T070000
END:DAYLIGHT
BEGIN:STANDARD
TZOFFSETFROM:-0400
TZOFFSETTO:-0500
TZNAME:EST
DTSTART:20241103T060000
END:STANDARD
BEGIN:DAYLIGHT
TZOFFSETFROM:-0500
TZOFFSETTO:-0400
TZNAME:EDT
DTSTART:20250309T070000
END:DAYLIGHT
BEGIN:STANDARD
TZOFFSETFROM:-0400
TZOFFSETTO:-0500
TZNAME:EST
DTSTART:20251102T060000
END:STANDARD
END:VTIMEZONE
BEGIN:VEVENT
DTSTART;TZID=America/Detroit:20240202T184500
DTEND;TZID=America/Detroit:20240202T230000
DTSTAMP:20260421T132121
CREATED:20231221T223937Z
LAST-MODIFIED:20231221T224000Z
UID:10002187-1706899500-1706914800@afk.games
SUMMARY:Friday 6:45 pm - Murders of Karlov Manor prerelease
DESCRIPTION:Pre-register for the prerelease event before January 29th to save $5 on entry and be entered into a raffle. \nEach participant will receive one Murders of Karlov Manor prerelease pack which contains the following: \nContents: \n\n6 Murders at Karlov Manor Play Boosters; each Play Booster contains 14 Magic cards\n1 foil\, year-stamped Rare or Mythic Rare\n1 of 3 new Mythic Rare cards exclusive to Prerelease Pack (not playable as part of Prerelease deck)\n1 Magic: The Gathering Arena code card (only available in select regions)\n1 deck box\n1 Spindown die\n\nEach participant will use the contents of their prerelease kit to construct a minimum 40-card deck to play in Swiss rounds.
URL:https://afk.games/event/4561/
LOCATION:AFK Games\, 2495 Cedar Street STE 14-B\, Holt\, MI\, 48842\, United States
CATEGORIES:Events,Magic: The Gathering,Prerelease,Sealed
ORGANIZER;CN="AFK Games":MAILTO:support@afk-games.com
END:VEVENT
BEGIN:VEVENT
DTSTART;TZID=America/Detroit:20240203T123000
DTEND;TZID=America/Detroit:20240203T150000
DTSTAMP:20260421T132121
CREATED:20231217T205952Z
LAST-MODIFIED:20231217T210118Z
UID:10002011-1706963400-1706972400@afk.games
SUMMARY:One Piece TCG - Store Tournament vol.5
DESCRIPTION:Bo1 Swiss 35 min rounds + 5 minutes of extra time \nEntry:\n1x OP-05 Pack \nPrizing:\n1st – Winner pack\nTop 8 – one tournament pack \n$7 Per head will be used to build the league pot – This pot will be distributed to the top 25% per ranking  \nleaderboard at the end of the league season (OP06 + TP + Winner Packs Will Be In The POT) \nCurrent standing can be found at: https://afkgames.challonge.com/OP05?round=0 \nHow to earn league points for league ranking: \nWin a match – 3 Points\nLose a match – 1 Point\nDraw – 1 Point\nParticipate in the league – 1 Point\nBring someone new to the league – 3 Points \n*ALL PRIZING SUBJECT TO CHANGE*
URL:https://afk.games/event/one-piece-tcg-store-tournament-vol-5/2024-02-03/
LOCATION:AFK Games\, 2495 Cedar Street STE 14-B\, Holt\, MI\, 48842\, United States
CATEGORIES:Bandai,Events,One Piece TCG
ORGANIZER;CN="AFK Games":MAILTO:support@afk-games.com
END:VEVENT
BEGIN:VEVENT
DTSTART;TZID=America/Detroit:20240203T130000
DTEND;TZID=America/Detroit:20240203T180000
DTSTAMP:20260421T132121
CREATED:20231221T224208Z
LAST-MODIFIED:20231221T224208Z
UID:10002188-1706965200-1706983200@afk.games
SUMMARY:Saturday 1:00 pm - Murders of Karlov Manor Prerelease
DESCRIPTION:Pre-register for the prerelease event before January 29th to save $5 on entry and be entered into a raffle. \nEach participant will receive one Murders of Karlov Manor prerelease pack which contains the following: \nContents: \n\n6 Murders at Karlov Manor Play Boosters; each Play Booster contains 14 Magic cards\n1 foil\, year-stamped Rare or Mythic Rare\n1 of 3 new Mythic Rare cards exclusive to Prerelease Pack (not playable as part of Prerelease deck)\n1 Magic: The Gathering Arena code card (only available in select regions)\n1 deck box\n1 Spindown die\n\nEach participant will use the contents of their prerelease kit to construct a minimum 40-card deck to play in Swiss rounds.
URL:https://afk.games/event/saturday-100-pm-murders-of-karlov-manor-prerelease/
LOCATION:AFK Games\, 2495 Cedar Street STE 14-B\, Holt\, MI\, 48842\, United States
CATEGORIES:Events,Magic: The Gathering,Prerelease,Sealed
ORGANIZER;CN="AFK Games":MAILTO:support@afk-games.com
END:VEVENT
BEGIN:VEVENT
DTSTART;TZID=America/Detroit:20240203T180000
DTEND;TZID=America/Detroit:20240203T230000
DTSTAMP:20260421T132121
CREATED:20231221T224359Z
LAST-MODIFIED:20231221T224639Z
UID:10002189-1706983200-1707001200@afk.games
SUMMARY:Saturday 6:00 pm - Murders of Karlov Manor Prerelease
DESCRIPTION:Pre-register for the prerelease event before January 29th to save $5 on entry and be entered into a raffle. \nEach participant will receive one Murders of Karlov Manor prerelease pack which contains the following: \nContents: \n\n6 Murders at Karlov Manor Play Boosters; each Play Booster contains 14 Magic cards\n1 foil\, year-stamped Rare or Mythic Rare\n1 of 3 new Mythic Rare cards exclusive to Prerelease Pack (not playable as part of Prerelease deck)\n1 Magic: The Gathering Arena code card (only available in select regions)\n1 deck box\n1 Spindown die\n\nEach participant will use the contents of their prerelease kit to construct a minimum 40-card deck to play in Swiss rounds.
URL:https://afk.games/event/saturday-600-pm-murders-of-karlov-manor-prerelease/
LOCATION:AFK Games\, 2495 Cedar Street STE 14-B\, Holt\, MI\, 48842\, United States
CATEGORIES:Events,Magic: The Gathering,Prerelease,Sealed
ORGANIZER;CN="AFK Games":MAILTO:support@afk-games.com
END:VEVENT
BEGIN:VEVENT
DTSTART;TZID=America/Detroit:20240204T130000
DTEND;TZID=America/Detroit:20240204T170000
DTSTAMP:20260421T132121
CREATED:20231221T224559Z
LAST-MODIFIED:20231221T224559Z
UID:10002190-1707051600-1707066000@afk.games
SUMMARY:Sunday 1:00 pm 2HG - Murders of Karlov Manor Prerelease
DESCRIPTION:Pre-register for the prerelease event before January 29th to save $5 on entry and be entered into a raffle. \nEach participant will receive one Murders of Karlov Manor prerelease pack which contains the following: \nContents: \n\n6 Murders at Karlov Manor Play Boosters; each Play Booster contains 14 Magic cards\n1 foil\, year-stamped Rare or Mythic Rare\n1 of 3 new Mythic Rare cards exclusive to Prerelease Pack (not playable as part of Prerelease deck)\n1 Magic: The Gathering Arena code card (only available in select regions)\n1 deck box\n1 Spindown die\n\nEach participant will use the contents of their prerelease kit to construct a minimum 40-card deck to play in Swiss rounds. \n2HG Rules: \n\nIn 2HG there are only 3 extra turns for the end-of-match procedure.\n2HG matches are first to 1 game win\, if the first game is a draw before the round is over continue playing another game. If it’s limited you are allowed to sideboard.\nPlayers may communicate freely with each other. Each player can see all information their teammate has\, such as cards in hand and facedown cards. Strategy discussions should be done in a brief\, timely manner.\nAt a 2HG prerelease each team gets two prerelease boxes for a total of 12 boosters and 2 promos per team.\nThe players build two 40 card minimum decks from the combined card pool and basic lands. During a match cards not in either players deck can only be accessed by effects that refer to cards outside the game.\n“You” means just that\, you\, not including your teammate. If an effect says “creatures you control get +1/+1” it only applies to your creatures\, not your teammate’s.\nIf an effect refers to “each opponent” it applies to each player on the opposing team. For example if an effect causes each opponent to lose 1 life each player on that team loses 1 life and that team’s life total is reduced by 2\, doubly good!\nIf a player would skip or get an extra step\, phase\, or turn\, that player’s team skips or gets one instead.\nIf a trigger says “at the beginning of phase/step on your turn” (such as God-Pharaoh’s Gift) there is only one of that step each turn so it will trigger once.\nIf a trigger says “each player’s phase/step” (such as Howling Mine) or “each opponent’s phase/step” (such as Luminarch Ascension it will trigger once for each player in that step\, so twice in 2HG.\nPlayers on a team win or lose together. If an effect says a player loses the game that player’s team loses the game\, the other head can’t continue playing on their own. A team on 0 or less life or that has 15 or more poison counters loses the game.
URL:https://afk.games/event/sunday-100-pm-2hg-murders-of-karlov-manor-prerelease/
LOCATION:AFK Games\, 2495 Cedar Street STE 14-B\, Holt\, MI\, 48842\, United States
CATEGORIES:Events,Magic: The Gathering,Prerelease,Sealed
ORGANIZER;CN="AFK Games":MAILTO:support@afk-games.com
END:VEVENT
BEGIN:VEVENT
DTSTART;TZID=America/Detroit:20240206T183000
DTEND;TZID=America/Detroit:20240206T213000
DTSTAMP:20260421T132121
CREATED:20231217T210536Z
LAST-MODIFIED:20231217T210536Z
UID:10002131-1707244200-1707255000@afk.games
SUMMARY:One Piece TCG - Store Tournament vol.5
DESCRIPTION:Bo1 Swiss 35 min rounds + 5 minutes of extra time \nEntry: $5 \nPrizing:\n1st – Winner pack\nTop 8 – one tournament pack
URL:https://afk.games/event/one-piece-tcg-store-tournament-vol-5-2/2024-02-06/
LOCATION:AFK Games\, 2495 Cedar Street STE 14-B\, Holt\, MI\, 48842\, United States
CATEGORIES:Bandai,Events,One Piece TCG
ORGANIZER;CN="AFK Games":MAILTO:support@afk-games.com
END:VEVENT
BEGIN:VEVENT
DTSTART;TZID=America/Detroit:20240210T123000
DTEND;TZID=America/Detroit:20240210T150000
DTSTAMP:20260421T132121
CREATED:20231217T205952Z
LAST-MODIFIED:20231217T210118Z
UID:10002012-1707568200-1707577200@afk.games
SUMMARY:One Piece TCG - Store Tournament vol.5
DESCRIPTION:Bo1 Swiss 35 min rounds + 5 minutes of extra time \nEntry:\n1x OP-05 Pack \nPrizing:\n1st – Winner pack\nTop 8 – one tournament pack \n$7 Per head will be used to build the league pot – This pot will be distributed to the top 25% per ranking  \nleaderboard at the end of the league season (OP06 + TP + Winner Packs Will Be In The POT) \nCurrent standing can be found at: https://afkgames.challonge.com/OP05?round=0 \nHow to earn league points for league ranking: \nWin a match – 3 Points\nLose a match – 1 Point\nDraw – 1 Point\nParticipate in the league – 1 Point\nBring someone new to the league – 3 Points \n*ALL PRIZING SUBJECT TO CHANGE*
URL:https://afk.games/event/one-piece-tcg-store-tournament-vol-5/2024-02-10/
LOCATION:AFK Games\, 2495 Cedar Street STE 14-B\, Holt\, MI\, 48842\, United States
CATEGORIES:Bandai,Events,One Piece TCG
ORGANIZER;CN="AFK Games":MAILTO:support@afk-games.com
END:VEVENT
BEGIN:VEVENT
DTSTART;TZID=America/Detroit:20240213T183000
DTEND;TZID=America/Detroit:20240213T213000
DTSTAMP:20260421T132121
CREATED:20231217T210536Z
LAST-MODIFIED:20231217T210536Z
UID:10002132-1707849000-1707859800@afk.games
SUMMARY:One Piece TCG - Store Tournament vol.5
DESCRIPTION:Bo1 Swiss 35 min rounds + 5 minutes of extra time \nEntry: $5 \nPrizing:\n1st – Winner pack\nTop 8 – one tournament pack
URL:https://afk.games/event/one-piece-tcg-store-tournament-vol-5-2/2024-02-13/
LOCATION:AFK Games\, 2495 Cedar Street STE 14-B\, Holt\, MI\, 48842\, United States
CATEGORIES:Bandai,Events,One Piece TCG
ORGANIZER;CN="AFK Games":MAILTO:support@afk-games.com
END:VEVENT
BEGIN:VEVENT
DTSTART;TZID=America/Detroit:20240217T123000
DTEND;TZID=America/Detroit:20240217T150000
DTSTAMP:20260421T132121
CREATED:20231217T205952Z
LAST-MODIFIED:20231217T210118Z
UID:10002013-1708173000-1708182000@afk.games
SUMMARY:One Piece TCG - Store Tournament vol.5
DESCRIPTION:Bo1 Swiss 35 min rounds + 5 minutes of extra time \nEntry:\n1x OP-05 Pack \nPrizing:\n1st – Winner pack\nTop 8 – one tournament pack \n$7 Per head will be used to build the league pot – This pot will be distributed to the top 25% per ranking  \nleaderboard at the end of the league season (OP06 + TP + Winner Packs Will Be In The POT) \nCurrent standing can be found at: https://afkgames.challonge.com/OP05?round=0 \nHow to earn league points for league ranking: \nWin a match – 3 Points\nLose a match – 1 Point\nDraw – 1 Point\nParticipate in the league – 1 Point\nBring someone new to the league – 3 Points \n*ALL PRIZING SUBJECT TO CHANGE*
URL:https://afk.games/event/one-piece-tcg-store-tournament-vol-5/2024-02-17/
LOCATION:AFK Games\, 2495 Cedar Street STE 14-B\, Holt\, MI\, 48842\, United States
CATEGORIES:Bandai,Events,One Piece TCG
ORGANIZER;CN="AFK Games":MAILTO:support@afk-games.com
END:VEVENT
BEGIN:VEVENT
DTSTART;TZID=America/Detroit:20240220T183000
DTEND;TZID=America/Detroit:20240220T213000
DTSTAMP:20260421T132121
CREATED:20231217T210536Z
LAST-MODIFIED:20231217T210536Z
UID:10002133-1708453800-1708464600@afk.games
SUMMARY:One Piece TCG - Store Tournament vol.5
DESCRIPTION:Bo1 Swiss 35 min rounds + 5 minutes of extra time \nEntry: $5 \nPrizing:\n1st – Winner pack\nTop 8 – one tournament pack
URL:https://afk.games/event/one-piece-tcg-store-tournament-vol-5-2/2024-02-20/
LOCATION:AFK Games\, 2495 Cedar Street STE 14-B\, Holt\, MI\, 48842\, United States
CATEGORIES:Bandai,Events,One Piece TCG
ORGANIZER;CN="AFK Games":MAILTO:support@afk-games.com
END:VEVENT
BEGIN:VEVENT
DTSTART;TZID=America/Detroit:20240223T184500
DTEND;TZID=America/Detroit:20240223T214500
DTSTAMP:20260421T132121
CREATED:20240116T021813Z
LAST-MODIFIED:20240124T221129Z
UID:10002317-1708713900-1708724700@afk.games
SUMMARY:Lorcana - Into the Inklands release event
DESCRIPTION:Get your hands on the new set for Lorcana\, Into the Inkalnds!  \nThe flood has washed precious lore far into the Inklands! Eager to recover what was lost\, adventurous Illumineers head into the unknown reaches of the realm. Wonders and mystery await them at every turn\, but their goal remains. The scattered lore must be returned to the Hall of Lorcana… before it falls into the wrong hands. \nDisney Lorcana: Into the Inklands arrives at AFK Games on February 23rd! \nJoin us for our Release event on February 23rd at 6:45 pm \nRound 1 starts at 6:45 pm \nAll attendees will play in a casual tournament event using a starter deck and 3 additional Into the Inklands packs. \nEntry: $40 \nEntry will get you the following products: \n\n Into the Inklands Starter deck – which contains 60 cards and a sealed booster pack of Into the Inklands.\n 3 additional booster packs of Into the Inklands* (detailed below)\n\nWe will play in a 3-round casual tournament you will begin Round 1 with the Starter Deck and the booster pack contained in the starter deck. \nPlayers will have 5 minutes to make adjustments with their additional pack before the start of each round.\n*At the start of Round 2\, you will receive the first additional pack.\n*At the start of Round 3\, you will receive the second additional pack.\n*At the end of Round 3\, you will receive the third additional pack and a raffle ticket. \nThere will be seven total raffles for the following items: \n\n Into the Inklands Trove\n 6 Into the Inklands booster packs\n 6 Into the Inklands booster packs\n 6 Into the Inklands booster packs\n 6 Into the Inklands booster packs\n Into the Inklands Starter Deck\n Into the Inklands Starter Deck\n D100 Gift Set
URL:https://afk.games/event/lorcana-into-the-inklands-release-event/
LOCATION:AFK Games\, 2495 Cedar Street STE 14-B\, Holt\, MI\, 48842\, United States
CATEGORIES:Events,Lorcana,Ravensburger
ORGANIZER;CN="AFK Games":MAILTO:support@afk-games.com
END:VEVENT
BEGIN:VEVENT
DTSTART;TZID=America/Detroit:20240224T123000
DTEND;TZID=America/Detroit:20240224T150000
DTSTAMP:20260421T132121
CREATED:20231217T205952Z
LAST-MODIFIED:20231217T210118Z
UID:10002014-1708777800-1708786800@afk.games
SUMMARY:One Piece TCG - Store Tournament vol.5
DESCRIPTION:Bo1 Swiss 35 min rounds + 5 minutes of extra time \nEntry:\n1x OP-05 Pack \nPrizing:\n1st – Winner pack\nTop 8 – one tournament pack \n$7 Per head will be used to build the league pot – This pot will be distributed to the top 25% per ranking  \nleaderboard at the end of the league season (OP06 + TP + Winner Packs Will Be In The POT) \nCurrent standing can be found at: https://afkgames.challonge.com/OP05?round=0 \nHow to earn league points for league ranking: \nWin a match – 3 Points\nLose a match – 1 Point\nDraw – 1 Point\nParticipate in the league – 1 Point\nBring someone new to the league – 3 Points \n*ALL PRIZING SUBJECT TO CHANGE*
URL:https://afk.games/event/one-piece-tcg-store-tournament-vol-5/2024-02-24/
LOCATION:AFK Games\, 2495 Cedar Street STE 14-B\, Holt\, MI\, 48842\, United States
CATEGORIES:Bandai,Events,One Piece TCG
ORGANIZER;CN="AFK Games":MAILTO:support@afk-games.com
END:VEVENT
BEGIN:VEVENT
DTSTART;TZID=America/Detroit:20240227T183000
DTEND;TZID=America/Detroit:20240227T213000
DTSTAMP:20260421T132122
CREATED:20231217T210536Z
LAST-MODIFIED:20231217T210536Z
UID:10002134-1709058600-1709069400@afk.games
SUMMARY:One Piece TCG - Store Tournament vol.5
DESCRIPTION:Bo1 Swiss 35 min rounds + 5 minutes of extra time \nEntry: $5 \nPrizing:\n1st – Winner pack\nTop 8 – one tournament pack
URL:https://afk.games/event/one-piece-tcg-store-tournament-vol-5-2/2024-02-27/
LOCATION:AFK Games\, 2495 Cedar Street STE 14-B\, Holt\, MI\, 48842\, United States
CATEGORIES:Bandai,Events,One Piece TCG
ORGANIZER;CN="AFK Games":MAILTO:support@afk-games.com
END:VEVENT
END:VCALENDAR