BEGIN:VCALENDAR
VERSION:2.0
PRODID:-//AFK Games - ECPv6.15.20//NONSGML v1.0//EN
CALSCALE:GREGORIAN
METHOD:PUBLISH
X-WR-CALNAME:AFK Games
X-ORIGINAL-URL:https://afk.games
X-WR-CALDESC:Events for AFK Games
REFRESH-INTERVAL;VALUE=DURATION:PT1H
X-Robots-Tag:noindex
X-PUBLISHED-TTL:PT1H
BEGIN:VTIMEZONE
TZID:America/Detroit
BEGIN:DAYLIGHT
TZOFFSETFROM:-0500
TZOFFSETTO:-0400
TZNAME:EDT
DTSTART:20220313T070000
END:DAYLIGHT
BEGIN:STANDARD
TZOFFSETFROM:-0400
TZOFFSETTO:-0500
TZNAME:EST
DTSTART:20221106T060000
END:STANDARD
BEGIN:DAYLIGHT
TZOFFSETFROM:-0500
TZOFFSETTO:-0400
TZNAME:EDT
DTSTART:20230312T070000
END:DAYLIGHT
BEGIN:STANDARD
TZOFFSETFROM:-0400
TZOFFSETTO:-0500
TZNAME:EST
DTSTART:20231105T060000
END:STANDARD
BEGIN:DAYLIGHT
TZOFFSETFROM:-0500
TZOFFSETTO:-0400
TZNAME:EDT
DTSTART:20240310T070000
END:DAYLIGHT
BEGIN:STANDARD
TZOFFSETFROM:-0400
TZOFFSETTO:-0500
TZNAME:EST
DTSTART:20241103T060000
END:STANDARD
END:VTIMEZONE
BEGIN:VEVENT
DTSTART;TZID=America/Detroit:20230901T184500
DTEND;TZID=America/Detroit:20230901T230000
DTSTAMP:20260422T004225
CREATED:20230801T221030Z
LAST-MODIFIED:20230801T221030Z
UID:10001436-1693593900-1693609200@afk.games
SUMMARY:Wilds of Eldraine - Friday 6:45 pm Prerelease
DESCRIPTION:$30 Entry: Includes your Prerelease kit and 2 Set Boosters per player added to the prize pool. \nScaling discount on 3+ entries when purchased at once!\n3 Entries = $84\n6 Entries = $160 \nContents of Prerelease Kit:\n• 6 Wilds of Eldraine Draft Boosters; each Draft Booster contains 15 Magic cards\n• 1 foil\, year-stamped Rare or Mythic Rare\n• 1 Magic: The Gathering Arena code card (only available in select regions)\n• 2 token cards\n• 1 deck box\n• 1 Spindown die \nThe tournament structure will be as follows:\nLimited Format Swiss pairings\, Best-of-three 50-minute rounds\, capped at 4 rounds. \nWe’re also taking pre-orders for Draft\, Set\, and Collector Boxes and Kits (with prizing) for Prerelease at Home! Buy-a-Box promos will be given to Draft and Set box preorders\, while supplies last. Kits sold for Prerelease at Home come with 2x Set Boosters in prizing each.
URL:https://afk.games/event/wilds-of-eldraine-friday-645-pm-prerelease/
LOCATION:AFK Games\, 2495 Cedar Street STE 14-B\, Holt\, MI\, 48842\, United States
CATEGORIES:Events,Magic: The Gathering,Prerelease
ORGANIZER;CN="AFK Games":MAILTO:support@afk-games.com
END:VEVENT
BEGIN:VEVENT
DTSTART;TZID=America/Detroit:20230902T123000
DTEND;TZID=America/Detroit:20230902T150000
DTSTAMP:20260422T004225
CREATED:20230804T183105Z
LAST-MODIFIED:20230804T183105Z
UID:10001510-1693657800-1693666800@afk.games
SUMMARY:One Piece TCG - Store Tournament vol.4
DESCRIPTION:Entry: $5\n120% of Store credit prized out to top players\, along with promo packs to top players! \nBest-of-one games with 35 minute matches and 5 minutes of extra time
URL:https://afk.games/event/one-piece-tcg-store-tournament-vol-4/2023-09-02/
LOCATION:AFK Games\, 2495 Cedar Street STE 14-B\, Holt\, MI\, 48842\, United States
CATEGORIES:Bandai,Events,One Piece TCG
ORGANIZER;CN="AFK Games":MAILTO:support@afk-games.com
END:VEVENT
BEGIN:VEVENT
DTSTART;TZID=America/Detroit:20230902T130000
DTEND;TZID=America/Detroit:20230902T180000
DTSTAMP:20260422T004225
CREATED:20230801T221138Z
LAST-MODIFIED:20230801T221138Z
UID:10001437-1693659600-1693677600@afk.games
SUMMARY:Wilds of Eldraine - Saturday 1:00 pm Prerelease
DESCRIPTION:$30 Entry: Includes your Prerelease kit and 2 Set Boosters per player added to the prize pool. \nScaling discount on 3+ entries when purchased at once!\n3 Entries = $84\n6 Entries = $160 \nContents of Prerelease Kit:\n• 6 Wilds of Eldraine Draft Boosters; each Draft Booster contains 15 Magic cards\n• 1 foil\, year-stamped Rare or Mythic Rare\n• 1 Magic: The Gathering Arena code card (only available in select regions)\n• 2 token cards\n• 1 deck box\n• 1 Spindown die \nThe tournament structure will be as follows:\nLimited Format Swiss pairings\, Best-of-three 50-minute rounds\, capped at 4 rounds. \nWe’re also taking pre-orders for Draft\, Set\, and Collector Boxes and Kits (with prizing) for Prerelease at Home! Buy-a-Box promos will be given to Draft and Set box preorders\, while supplies last. Kits sold for Prerelease at Home come with 2x Set Boosters in prizing each.
URL:https://afk.games/event/wilds-of-eldraine-saturday-100-pm-prerelease/
LOCATION:AFK Games\, 2495 Cedar Street STE 14-B\, Holt\, MI\, 48842\, United States
CATEGORIES:Events,Magic: The Gathering,Prerelease
ORGANIZER;CN="AFK Games":MAILTO:support@afk-games.com
END:VEVENT
BEGIN:VEVENT
DTSTART;TZID=America/Detroit:20230903T130000
DTEND;TZID=America/Detroit:20230903T170000
DTSTAMP:20260422T004225
CREATED:20230203T184737Z
LAST-MODIFIED:20230203T184737Z
UID:10001114-1693746000-1693760400@afk.games
SUMMARY:Sunday Pauper
DESCRIPTION:Interested in the format but want to test it out? Loaner decks are available to anyone who would like to play on\, a first come first serve. The format is exciting\, and most of all\, affordable! \nOur first Pauper tournament will be on January 29th\, at 1 pm! Come and play legacy lite with us! \nEvent information:\nEntry: $5 \nPrize out: entry gets you a standard-legal draft booster as well as additional prizing for the top players \nStart time: 1:00 pm \nResources:\nhttps://mtgdecks.net/Pauper \nhttps://www.mtggoldfish.com/metagame/pauper#paper \nhttps://magic.wizards.com/en/banned-restricted-list \nhttps://scryfall.com/search?as=grid&order=name&q=legal%3Apauper \nor use “legal:pauper” in your search strings
URL:https://afk.games/event/sunday-pauper/2023-09-03/
LOCATION:AFK Games\, 2495 Cedar Street STE 14-B\, Holt\, MI\, 48842\, United States
CATEGORIES:Events,Magic: The Gathering,Pauper
ORGANIZER;CN="AFK Games":MAILTO:support@afk-games.com
END:VEVENT
BEGIN:VEVENT
DTSTART;TZID=America/Detroit:20230903T130000
DTEND;TZID=America/Detroit:20230903T170000
DTSTAMP:20260422T004225
CREATED:20230801T221407Z
LAST-MODIFIED:20230801T221407Z
UID:10001439-1693746000-1693760400@afk.games
SUMMARY:Wilds of Eldraine - Sunday 1:00 pm 2HG Prerelease
DESCRIPTION:$30 Entry: Includes your Prerelease kit and 2 Set Boosters per player added to the prize pool. \nScaling discount on 3+ entries when purchased at once!\n3 Entries = $84\n6 Entries = $160 \nContents of Prerelease Kit:\n• 6 Wilds of Eldraine Draft Boosters; each Draft Booster contains 15 Magic cards\n• 1 foil\, year-stamped Rare or Mythic Rare\n• 1 Magic: The Gathering Arena code card (only available in select regions)\n• 2 token cards\n• 1 deck box\n• 1 Spindown die \nThe tournament structure will be as follows:\nLimited Format Swiss pairings\, Best-of-three 50-minute rounds\, capped at 4 rounds. \nWe’re also taking pre-orders for Draft\, Set\, and Collector Boxes and Kits (with prizing) for Prerelease at Home! Buy-a-Box promos will be given to Draft and Set box preorders\, while supplies last. Kits sold for Prerelease at Home come with 2x Set Boosters in prizing each.
URL:https://afk.games/event/wilds-of-eldraine-sunday-100-pm-2hg-prerelease/
LOCATION:AFK Games\, 2495 Cedar Street STE 14-B\, Holt\, MI\, 48842\, United States
CATEGORIES:Events,Magic: The Gathering,Prerelease
ORGANIZER;CN="AFK Games":MAILTO:support@afk-games.com
END:VEVENT
BEGIN:VEVENT
DTSTART;TZID=America/Detroit:20230905T183000
DTEND;TZID=America/Detroit:20230905T210000
DTSTAMP:20260422T004225
CREATED:20230801T174057Z
LAST-MODIFIED:20230801T174057Z
UID:10001375-1693938600-1693947600@afk.games
SUMMARY:Shadowverse: Evolve Shop Tournament
DESCRIPTION:Each player will receive 1 card from Promo Series 1 just for participating.
URL:https://afk.games/event/shadowverse-evolve-shop-tournament/2023-09-05/
LOCATION:AFK Games\, 2495 Cedar Street STE 14-B\, Holt\, MI\, 48842\, United States
CATEGORIES:Bushiroad,Events,Shadowverse: Evolve
ORGANIZER;CN="AFK Games":MAILTO:support@afk-games.com
END:VEVENT
BEGIN:VEVENT
DTSTART;TZID=America/Detroit:20230907T183000
DTEND;TZID=America/Detroit:20230907T210000
DTSTAMP:20260422T004225
CREATED:20230804T183442Z
LAST-MODIFIED:20230804T183615Z
UID:10001532-1694111400-1694120400@afk.games
SUMMARY:Battle Spirits Saga - Store Tournament
DESCRIPTION:Entry: $5\n120% of Store credit prized out to top players\, along with promo packs to top players! \nBest-of-one games with 35-minute matches and 5 minutes of extra time
URL:https://afk.games/event/battle-spirits-saga-store-tournament-2/2023-09-07/
LOCATION:AFK Games\, 2495 Cedar Street STE 14-B\, Holt\, MI\, 48842\, United States
CATEGORIES:Bandai,Battle Spirits Saga,Events
ORGANIZER;CN="AFK Games":MAILTO:support@afk-games.com
END:VEVENT
BEGIN:VEVENT
DTSTART;TZID=America/Detroit:20230909T123000
DTEND;TZID=America/Detroit:20230909T150000
DTSTAMP:20260422T004225
CREATED:20230804T183105Z
LAST-MODIFIED:20230804T183105Z
UID:10001511-1694262600-1694271600@afk.games
SUMMARY:One Piece TCG - Store Tournament vol.4
DESCRIPTION:Entry: $5\n120% of Store credit prized out to top players\, along with promo packs to top players! \nBest-of-one games with 35 minute matches and 5 minutes of extra time
URL:https://afk.games/event/one-piece-tcg-store-tournament-vol-4/2023-09-09/
LOCATION:AFK Games\, 2495 Cedar Street STE 14-B\, Holt\, MI\, 48842\, United States
CATEGORIES:Bandai,Events,One Piece TCG
ORGANIZER;CN="AFK Games":MAILTO:support@afk-games.com
END:VEVENT
BEGIN:VEVENT
DTSTART;TZID=America/Detroit:20230912T183000
DTEND;TZID=America/Detroit:20230912T210000
DTSTAMP:20260422T004225
CREATED:20230801T174057Z
LAST-MODIFIED:20230801T174057Z
UID:10001376-1694543400-1694552400@afk.games
SUMMARY:Shadowverse: Evolve Shop Tournament
DESCRIPTION:Each player will receive 1 card from Promo Series 1 just for participating.
URL:https://afk.games/event/shadowverse-evolve-shop-tournament/2023-09-12/
LOCATION:AFK Games\, 2495 Cedar Street STE 14-B\, Holt\, MI\, 48842\, United States
CATEGORIES:Bushiroad,Events,Shadowverse: Evolve
ORGANIZER;CN="AFK Games":MAILTO:support@afk-games.com
END:VEVENT
BEGIN:VEVENT
DTSTART;TZID=America/Detroit:20230914T183000
DTEND;TZID=America/Detroit:20230914T210000
DTSTAMP:20260422T004225
CREATED:20230804T183442Z
LAST-MODIFIED:20230804T183615Z
UID:10001533-1694716200-1694725200@afk.games
SUMMARY:Battle Spirits Saga - Store Tournament
DESCRIPTION:Entry: $5\n120% of Store credit prized out to top players\, along with promo packs to top players! \nBest-of-one games with 35-minute matches and 5 minutes of extra time
URL:https://afk.games/event/battle-spirits-saga-store-tournament-2/2023-09-14/
LOCATION:AFK Games\, 2495 Cedar Street STE 14-B\, Holt\, MI\, 48842\, United States
CATEGORIES:Bandai,Battle Spirits Saga,Events
ORGANIZER;CN="AFK Games":MAILTO:support@afk-games.com
END:VEVENT
BEGIN:VEVENT
DTSTART;TZID=America/Detroit:20230916T123000
DTEND;TZID=America/Detroit:20230916T150000
DTSTAMP:20260422T004225
CREATED:20230804T183105Z
LAST-MODIFIED:20230804T183105Z
UID:10001512-1694867400-1694876400@afk.games
SUMMARY:One Piece TCG - Store Tournament vol.4
DESCRIPTION:Entry: $5\n120% of Store credit prized out to top players\, along with promo packs to top players! \nBest-of-one games with 35 minute matches and 5 minutes of extra time
URL:https://afk.games/event/one-piece-tcg-store-tournament-vol-4/2023-09-16/
LOCATION:AFK Games\, 2495 Cedar Street STE 14-B\, Holt\, MI\, 48842\, United States
CATEGORIES:Bandai,Events,One Piece TCG
ORGANIZER;CN="AFK Games":MAILTO:support@afk-games.com
END:VEVENT
BEGIN:VEVENT
DTSTART;TZID=America/Detroit:20230916T123000
DTEND;TZID=America/Detroit:20230916T160000
DTSTAMP:20260422T004225
CREATED:20230805T212849Z
LAST-MODIFIED:20230805T212849Z
UID:10001802-1694867400-1694880000@afk.games
SUMMARY:One Piece TCG -  OP-04 Pre-Release Tournament
DESCRIPTION:More information once it’s released from Bandai
URL:https://afk.games/event/one-piece-tcg-op-04-pre-release-tournament/
LOCATION:AFK Games\, 2495 Cedar Street STE 14-B\, Holt\, MI\, 48842\, United States
CATEGORIES:Bandai,Events,One Piece TCG
ORGANIZER;CN="AFK Games":MAILTO:support@afk-games.com
END:VEVENT
BEGIN:VEVENT
DTSTART;TZID=America/Detroit:20230917T130000
DTEND;TZID=America/Detroit:20230917T170000
DTSTAMP:20260422T004225
CREATED:20230203T184737Z
LAST-MODIFIED:20230203T184737Z
UID:10001115-1694955600-1694970000@afk.games
SUMMARY:Sunday Pauper
DESCRIPTION:Interested in the format but want to test it out? Loaner decks are available to anyone who would like to play on\, a first come first serve. The format is exciting\, and most of all\, affordable! \nOur first Pauper tournament will be on January 29th\, at 1 pm! Come and play legacy lite with us! \nEvent information:\nEntry: $5 \nPrize out: entry gets you a standard-legal draft booster as well as additional prizing for the top players \nStart time: 1:00 pm \nResources:\nhttps://mtgdecks.net/Pauper \nhttps://www.mtggoldfish.com/metagame/pauper#paper \nhttps://magic.wizards.com/en/banned-restricted-list \nhttps://scryfall.com/search?as=grid&order=name&q=legal%3Apauper \nor use “legal:pauper” in your search strings
URL:https://afk.games/event/sunday-pauper/2023-09-17/
LOCATION:AFK Games\, 2495 Cedar Street STE 14-B\, Holt\, MI\, 48842\, United States
CATEGORIES:Events,Magic: The Gathering,Pauper
ORGANIZER;CN="AFK Games":MAILTO:support@afk-games.com
END:VEVENT
BEGIN:VEVENT
DTSTART;TZID=America/Detroit:20230921T183000
DTEND;TZID=America/Detroit:20230921T210000
DTSTAMP:20260422T004225
CREATED:20230804T183442Z
LAST-MODIFIED:20230804T183615Z
UID:10001534-1695321000-1695330000@afk.games
SUMMARY:Battle Spirits Saga - Store Tournament
DESCRIPTION:Entry: $5\n120% of Store credit prized out to top players\, along with promo packs to top players! \nBest-of-one games with 35-minute matches and 5 minutes of extra time
URL:https://afk.games/event/battle-spirits-saga-store-tournament-2/2023-09-21/
LOCATION:AFK Games\, 2495 Cedar Street STE 14-B\, Holt\, MI\, 48842\, United States
CATEGORIES:Bandai,Battle Spirits Saga,Events
ORGANIZER;CN="AFK Games":MAILTO:support@afk-games.com
END:VEVENT
BEGIN:VEVENT
DTSTART;TZID=America/Detroit:20230923T123000
DTEND;TZID=America/Detroit:20230923T150000
DTSTAMP:20260422T004226
CREATED:20230804T183105Z
LAST-MODIFIED:20230804T183105Z
UID:10001513-1695472200-1695481200@afk.games
SUMMARY:One Piece TCG - Store Tournament vol.4
DESCRIPTION:Entry: $5\n120% of Store credit prized out to top players\, along with promo packs to top players! \nBest-of-one games with 35 minute matches and 5 minutes of extra time
URL:https://afk.games/event/one-piece-tcg-store-tournament-vol-4/2023-09-23/
LOCATION:AFK Games\, 2495 Cedar Street STE 14-B\, Holt\, MI\, 48842\, United States
CATEGORIES:Bandai,Events,One Piece TCG
ORGANIZER;CN="AFK Games":MAILTO:support@afk-games.com
END:VEVENT
BEGIN:VEVENT
DTSTART;TZID=America/Detroit:20230923T123000
DTEND;TZID=America/Detroit:20230923T163000
DTSTAMP:20260422T004226
CREATED:20230716T001744Z
LAST-MODIFIED:20230919T185713Z
UID:10001363-1695472200-1695486600@afk.games
SUMMARY:ONE PIECE Store Buddy Battle 2023 Vol.2
DESCRIPTION:This event is primarily aimed at group of two players. Players may apply solo\, however please understand there’s a chance of not finding your pair at the event\, therefore we recommend you to apply with your friends\, family etc.\nPlease be noted that TCG+ counts 1 application per 1 player\, each player needs to apply through TCG+.\nEntry: $5\nBuddy Battle Rules\nA summary of the main differences from other tournament styles.\n・It’s a 2-player team battle.\n・Generally a single match 90min. long event.\n・Teammates can consult each other during the match.\n・Turn flow: Team A Player 1->Team B Player 1->Team A Player 2->Team B Player 2.\n・Adjusted rules: Make sure to read the Buddy Battle Rules linked below.\nParticipation:\nStore tournament pack vol.3\nWinner:\nSleeve -Shanks- (10pcs)
URL:https://afk.games/event/one-piece-store-buddy-battle-2023-vol-2/
LOCATION:AFK Games\, 2495 Cedar Street STE 14-B\, Holt\, MI\, 48842\, United States
CATEGORIES:Bandai,Events,One Piece TCG
ORGANIZER;CN="AFK Games":MAILTO:support@afk-games.com
END:VEVENT
BEGIN:VEVENT
DTSTART;TZID=America/Detroit:20230928T183000
DTEND;TZID=America/Detroit:20230928T210000
DTSTAMP:20260422T004226
CREATED:20230804T183442Z
LAST-MODIFIED:20230804T183615Z
UID:10001535-1695925800-1695934800@afk.games
SUMMARY:Battle Spirits Saga - Store Tournament
DESCRIPTION:Entry: $5\n120% of Store credit prized out to top players\, along with promo packs to top players! \nBest-of-one games with 35-minute matches and 5 minutes of extra time
URL:https://afk.games/event/battle-spirits-saga-store-tournament-2/2023-09-28/
LOCATION:AFK Games\, 2495 Cedar Street STE 14-B\, Holt\, MI\, 48842\, United States
CATEGORIES:Bandai,Battle Spirits Saga,Events
ORGANIZER;CN="AFK Games":MAILTO:support@afk-games.com
END:VEVENT
BEGIN:VEVENT
DTSTART;TZID=America/Detroit:20230929T183000
DTEND;TZID=America/Detroit:20230929T220000
DTSTAMP:20260422T004226
CREATED:20230928T175025Z
LAST-MODIFIED:20230928T175143Z
UID:10001929-1696012200-1696024800@afk.games
SUMMARY:Battle Spirits Saga - Store Tournament
DESCRIPTION:Entry: $5\n120% of Store credit prized out to top players\, along with promo packs to top players! \nBest-of-three games with 60-minute matches and 5 minutes of extra time
URL:https://afk.games/event/battle-spirits-saga-store-tournament-3/2023-09-29/
LOCATION:AFK Games\, 2495 Cedar Street STE 14-B\, Holt\, MI\, 48842\, United States
CATEGORIES:Bandai,Battle Spirits Saga,Events
ORGANIZER;CN="AFK Games":MAILTO:support@afk-games.com
END:VEVENT
BEGIN:VEVENT
DTSTART;TZID=America/Detroit:20230930T123000
DTEND;TZID=America/Detroit:20230930T150000
DTSTAMP:20260422T004226
CREATED:20230804T183105Z
LAST-MODIFIED:20230804T183105Z
UID:10001514-1696077000-1696086000@afk.games
SUMMARY:One Piece TCG - Store Tournament vol.4
DESCRIPTION:Entry: $5\n120% of Store credit prized out to top players\, along with promo packs to top players! \nBest-of-one games with 35 minute matches and 5 minutes of extra time
URL:https://afk.games/event/one-piece-tcg-store-tournament-vol-4/2023-09-30/
LOCATION:AFK Games\, 2495 Cedar Street STE 14-B\, Holt\, MI\, 48842\, United States
CATEGORIES:Bandai,Events,One Piece TCG
ORGANIZER;CN="AFK Games":MAILTO:support@afk-games.com
END:VEVENT
BEGIN:VEVENT
DTSTART;TZID=America/Detroit:20230930T123000
DTEND;TZID=America/Detroit:20230930T163000
DTSTAMP:20260422T004226
CREATED:20230918T194441Z
LAST-MODIFIED:20230918T194441Z
UID:10001925-1696077000-1696091400@afk.games
SUMMARY:One Piece TCG - OP-04 Prerelease (rescheduled)
DESCRIPTION:Due to not receiving our product on time our event got delayed. So we have moved it to the 30th.
URL:https://afk.games/event/one-piece-tcg-op-04-prerelease-rescheduled/
LOCATION:AFK Games\, 2495 Cedar Street STE 14-B\, Holt\, MI\, 48842\, United States
CATEGORIES:Bandai,Events,One Piece TCG
ORGANIZER;CN="AFK Games":MAILTO:support@afk-games.com
END:VEVENT
END:VCALENDAR