BEGIN:VCALENDAR
VERSION:2.0
PRODID:-//AFK Games - ECPv6.15.20//NONSGML v1.0//EN
CALSCALE:GREGORIAN
METHOD:PUBLISH
X-WR-CALNAME:AFK Games
X-ORIGINAL-URL:https://afk.games
X-WR-CALDESC:Events for AFK Games
REFRESH-INTERVAL;VALUE=DURATION:PT1H
X-Robots-Tag:noindex
X-PUBLISHED-TTL:PT1H
BEGIN:VTIMEZONE
TZID:America/Detroit
BEGIN:DAYLIGHT
TZOFFSETFROM:-0500
TZOFFSETTO:-0400
TZNAME:EDT
DTSTART:20240310T070000
END:DAYLIGHT
BEGIN:STANDARD
TZOFFSETFROM:-0400
TZOFFSETTO:-0500
TZNAME:EST
DTSTART:20241103T060000
END:STANDARD
BEGIN:DAYLIGHT
TZOFFSETFROM:-0500
TZOFFSETTO:-0400
TZNAME:EDT
DTSTART:20250309T070000
END:DAYLIGHT
BEGIN:STANDARD
TZOFFSETFROM:-0400
TZOFFSETTO:-0500
TZNAME:EST
DTSTART:20251102T060000
END:STANDARD
BEGIN:DAYLIGHT
TZOFFSETFROM:-0500
TZOFFSETTO:-0400
TZNAME:EDT
DTSTART:20260308T070000
END:DAYLIGHT
BEGIN:STANDARD
TZOFFSETFROM:-0400
TZOFFSETTO:-0500
TZNAME:EST
DTSTART:20261101T060000
END:STANDARD
END:VTIMEZONE
BEGIN:VEVENT
DTSTART;TZID=America/Detroit:20250907T120000
DTEND;TZID=America/Detroit:20250907T170000
DTSTAMP:20260423T181645
CREATED:20250817T004958Z
LAST-MODIFIED:20250817T004958Z
UID:10004140-1757246400-1757264400@afk.games
SUMMARY:Edge of Eternities Commander Party
DESCRIPTION:Join us in-store for our Edge of Eternities Commander Party on Monday\, August 18th.\nSign up on EventLink — a QR code to join will be displayed in store.\nBy participating\, you’ll be entered into two raffles:\nAugust 18 at 8:00 PM: Raffle for exclusive Commander Party promos\nSeptember 1: Grand raffle for prizes like Commander decks\, deck boxes\, booster packs\, and more\nBonus entries: Each time you check into a Monday EventLink event during August\, you’ll earn an additional entry for the September 1 raffle.
URL:https://afk.games/event/edge-of-eternities-commander-party-2/
LOCATION:AFK Games\, 2495 Cedar Street STE 14-B\, Holt\, MI\, 48842\, United States
ORGANIZER;CN="AFK Games":MAILTO:support@afk-games.com
END:VEVENT
BEGIN:VEVENT
DTSTART;TZID=America/Detroit:20250907T130000
DTEND;TZID=America/Detroit:20250907T170000
DTSTAMP:20260423T181645
CREATED:20230906T214824Z
LAST-MODIFIED:20241212T203942Z
UID:10003119-1757250000-1757264400@afk.games
SUMMARY:Lorcana League
DESCRIPTION:Join us for our Lorcana League every Sunday at 1:00 pm!
URL:https://afk.games/event/lorcana-open-play/2025-09-07/
LOCATION:AFK Games\, 2495 Cedar Street STE 14-B\, Holt\, MI\, 48842\, United States
CATEGORIES:Events,Lorcana,Ravensburger
ORGANIZER;CN="AFK Games":MAILTO:support@afk-games.com
END:VEVENT
BEGIN:VEVENT
DTSTART;TZID=America/Detroit:20250907T130000
DTEND;TZID=America/Detroit:20250907T170000
DTSTAMP:20260423T181645
CREATED:20260101T205413Z
LAST-MODIFIED:20260101T205413Z
UID:10005449-1757250000-1757264400@afk.games
SUMMARY:Lorcana League
DESCRIPTION:Join us for our Lorcana League every Sunday at 1:00 pm!
URL:https://afk.games/event/lorcana-league/2025-09-07/
LOCATION:AFK Games\, 2495 Cedar Street STE 14-B\, Holt\, MI\, 48842\, United States
CATEGORIES:Events,Lorcana,Ravensburger
ORGANIZER;CN="AFK Games":MAILTO:support@afk-games.com
END:VEVENT
BEGIN:VEVENT
DTSTART;TZID=America/Detroit:20250913T180000
DTEND;TZID=America/Detroit:20250913T220000
DTSTAMP:20260423T181645
CREATED:20250817T004440Z
LAST-MODIFIED:20250817T004440Z
UID:10004139-1757786400-1757800800@afk.games
SUMMARY:Gundam Card Game - Newtype Challenge
DESCRIPTION:Start: 6:00 pm\nDate: September 13th \n\nWinner Prize\n\n\n\n\n\n\nGD01-067 GUNDAM AERIAL REBUILD\n\n\n\n\n\n\nUpper Ranks Prize\n\n\n\n\n\n\nST01-011 Suletta Mercury\n\n\n\n\n*Alt-art card.\n*Will be given to the top 4 players. \n\n\nParticipation Prize\n\n\n\n\n\n\nGD01-118 Overflowing Affection\n\n\n\n\n*Alt-art card.\n*All participants will receive the participation prize at the end of the event.
URL:https://afk.games/event/gundam-card-game-newtype-challenge/
LOCATION:AFK Games\, 2495 Cedar Street STE 14-B\, Holt\, MI\, 48842\, United States
CATEGORIES:Bandai,Events,Gundam Card Game
ORGANIZER;CN="AFK Games":MAILTO:support@afk-games.com
END:VEVENT
BEGIN:VEVENT
DTSTART;TZID=America/Detroit:20250913T183000
DTEND;TZID=America/Detroit:20250913T220000
DTSTAMP:20260423T181645
CREATED:20250819T182849Z
LAST-MODIFIED:20250819T185406Z
UID:10004141-1757788200-1757800800@afk.games
SUMMARY:Pokemon - Mega Evolution Prerelease
DESCRIPTION:Get a first look at the upcoming Pokémon TCG set at our Mega Evolution Prerelease events! Each player will receive a Build & Battle Box\, which includes a 40-card preconstructed deck and 4 booster packs. You’ll have time to adjust your deck using your new cards and basic Energy provided by the store before playing three rounds of Swiss in a fun\, casual environment. \nEntry: $30\nTickets will go up for sale at a later date. \nPrize Support:\n3 Booster packs added to the prize pool per participant. \nAll players receive 2 additional booster packs at the end of the event\, regardless of performance.\nThe third booster pack added to the prize pool from each participant will be awarded to the top players based on record.
URL:https://afk.games/event/pokemon-mega-evolution-prerelease/
LOCATION:AFK Games\, 2495 Cedar Street STE 14-B\, Holt\, MI\, 48842\, United States
CATEGORIES:Events,Pokemon
ORGANIZER;CN="AFK Games":MAILTO:support@afk-games.com
END:VEVENT
END:VCALENDAR