BEGIN:VCALENDAR
VERSION:2.0
PRODID:-//AFK Games - ECPv6.15.20//NONSGML v1.0//EN
CALSCALE:GREGORIAN
METHOD:PUBLISH
X-WR-CALNAME:AFK Games
X-ORIGINAL-URL:https://afk.games
X-WR-CALDESC:Events for AFK Games
REFRESH-INTERVAL;VALUE=DURATION:PT1H
X-Robots-Tag:noindex
X-PUBLISHED-TTL:PT1H
BEGIN:VTIMEZONE
TZID:America/Detroit
BEGIN:DAYLIGHT
TZOFFSETFROM:-0500
TZOFFSETTO:-0400
TZNAME:EDT
DTSTART:20240310T070000
END:DAYLIGHT
BEGIN:STANDARD
TZOFFSETFROM:-0400
TZOFFSETTO:-0500
TZNAME:EST
DTSTART:20241103T060000
END:STANDARD
BEGIN:DAYLIGHT
TZOFFSETFROM:-0500
TZOFFSETTO:-0400
TZNAME:EDT
DTSTART:20250309T070000
END:DAYLIGHT
BEGIN:STANDARD
TZOFFSETFROM:-0400
TZOFFSETTO:-0500
TZNAME:EST
DTSTART:20251102T060000
END:STANDARD
BEGIN:DAYLIGHT
TZOFFSETFROM:-0500
TZOFFSETTO:-0400
TZNAME:EDT
DTSTART:20260308T070000
END:DAYLIGHT
BEGIN:STANDARD
TZOFFSETFROM:-0400
TZOFFSETTO:-0500
TZNAME:EST
DTSTART:20261101T060000
END:STANDARD
END:VTIMEZONE
BEGIN:VEVENT
DTSTART;TZID=America/Detroit:20250525T120000
DTEND;TZID=America/Detroit:20250525T170000
DTSTAMP:20260424T043516
CREATED:20241228T235931Z
LAST-MODIFIED:20250506T165951Z
UID:10003963-1748174400-1748192400@afk.games
SUMMARY:Sunday Commander League
DESCRIPTION:Join us for our second Commander day of the week! As this new day settles in we get out what we are doing for incentives for this new day! In the beginning we will do a Raffle on the day of the event for promo packs. And eventually it will switch over to a monthly raffle like our Monday commander night.
URL:https://afk.games/event/sunday-commander/2025-05-25/
LOCATION:AFK Games\, 2495 Cedar Street STE 14-B\, Holt\, MI\, 48842\, United States
CATEGORIES:Commander,Events,Magic: The Gathering
ORGANIZER;CN="AFK Games":MAILTO:support@afk-games.com
END:VEVENT
BEGIN:VEVENT
DTSTART;TZID=America/Detroit:20250525T130000
DTEND;TZID=America/Detroit:20250525T170000
DTSTAMP:20260424T043516
CREATED:20230906T214824Z
LAST-MODIFIED:20241212T203942Z
UID:10003104-1748178000-1748192400@afk.games
SUMMARY:Lorcana League
DESCRIPTION:Join us for our Lorcana League every Sunday at 1:00 pm!
URL:https://afk.games/event/lorcana-open-play/2025-05-25/
LOCATION:AFK Games\, 2495 Cedar Street STE 14-B\, Holt\, MI\, 48842\, United States
CATEGORIES:Events,Lorcana,Ravensburger
ORGANIZER;CN="AFK Games":MAILTO:support@afk-games.com
END:VEVENT
BEGIN:VEVENT
DTSTART;TZID=America/Detroit:20250525T130000
DTEND;TZID=America/Detroit:20250525T170000
DTSTAMP:20260424T043516
CREATED:20260101T205413Z
LAST-MODIFIED:20260101T205413Z
UID:10005434-1748178000-1748192400@afk.games
SUMMARY:Lorcana League
DESCRIPTION:Join us for our Lorcana League every Sunday at 1:00 pm!
URL:https://afk.games/event/lorcana-league/2025-05-25/
LOCATION:AFK Games\, 2495 Cedar Street STE 14-B\, Holt\, MI\, 48842\, United States
CATEGORIES:Events,Lorcana,Ravensburger
ORGANIZER;CN="AFK Games":MAILTO:support@afk-games.com
END:VEVENT
BEGIN:VEVENT
DTSTART;TZID=America/Detroit:20250527T183000
DTEND;TZID=America/Detroit:20250527T213000
DTSTAMP:20260424T043516
CREATED:20250405T230820Z
LAST-MODIFIED:20250405T231544Z
UID:10003786-1748370600-1748381400@afk.games
SUMMARY:One Piece League - Season 6
DESCRIPTION:Schedule:\nTuesdays @ 6:30 PM\nSaturdays @ 12:30 PM\nTournament Duration: The league runs until the release of Set 10 in March 2025. The final events for this League are: \nOP11 Prerelease: May 31\, 2025\nOP11 Prerelease: June 3\, 2025\nJune 7th\, 2025 locals\nEntry Details:\nEntry Fee: $10 \nIf we are out of participation packs\, entry will be $5. \nFormat: Bo1 Swiss\, 35-minute rounds \nParticipation Prizing: 1 OP10 Pack per entry \nWinner Prizing:\n1st Place: Winner Pack\n2nd Place: Winner Pack (if 16+ players)\n3rd Place: Winner Pack (if 24+ players) \nParticipation:\nOne Tournament Pack \nFor more information please visit https://gear5.gg
URL:https://afk.games/event/one-piece-league-season-6/2025-05-27/
LOCATION:AFK Games\, 2495 Cedar Street STE 14-B\, Holt\, MI\, 48842\, United States
CATEGORIES:Bandai,Events,One Piece TCG
ORGANIZER;CN="AFK Games":MAILTO:support@afk-games.com
END:VEVENT
BEGIN:VEVENT
DTSTART;TZID=America/Detroit:20250529T183000
DTEND;TZID=America/Detroit:20250529T213000
DTSTAMP:20260424T043516
CREATED:20250422T210103Z
LAST-MODIFIED:20250422T210103Z
UID:10003976-1748543400-1748554200@afk.games
SUMMARY:Pokemon League
DESCRIPTION:We’re thrilled to announce the launch of our Pokémon League\, happening every Thursday at 6:30 PM\, starting this week! \nUntil May 8th\, swing by for casual open play nights — a great chance to learn the game\, test out decks\, and meet fellow Trainers in a relaxed and welcoming environment. \nThen on Thursday\, May 8th\, we kick things off with our first official tournament\, featuring free entry and a pack of Journey Together for each participant (while supplies last)! \nStarting May 8th and beyond\, we’ll be hosting weekly tournaments every Thursday. In the coming weeks\, we’ll determine how buy-in and prizing will work for future events — so come out\, share your thoughts\, and help shape the league with us! \nWhether you’re just beginning your Pokémon journey or you’re a seasoned battler\, there’s a place for you at AFK Games. We can’t wait to see you there!
URL:https://afk.games/event/pokemon-league/2025-05-29/
LOCATION:AFK Games\, 2495 Cedar Street STE 14-B\, Holt\, MI\, 48842\, United States
CATEGORIES:Pokemon
ORGANIZER;CN="AFK Games":MAILTO:support@afk-games.com
END:VEVENT
BEGIN:VEVENT
DTSTART;TZID=America/Detroit:20250530T183000
DTEND;TZID=America/Detroit:20250530T210000
DTSTAMP:20260424T043516
CREATED:20250405T230402Z
LAST-MODIFIED:20250405T231001Z
UID:10003920-1748629800-1748638800@afk.games
SUMMARY:Star Wars: Unlimited Casual Play
DESCRIPTION:Free entry\, play some games. Get a promo pack.
URL:https://afk.games/event/star-wars-unlimited-casual-play-2/2025-05-30/
LOCATION:AFK Games\, 2495 Cedar Street STE 14-B\, Holt\, MI\, 48842\, United States
CATEGORIES:Events,Star Wars: Unlimited
ORGANIZER;CN="AFK Games":MAILTO:support@afk-games.com
END:VEVENT
BEGIN:VEVENT
DTSTART;TZID=America/Detroit:20250530T184500
DTEND;TZID=America/Detroit:20250530T220000
DTSTAMP:20260424T043516
CREATED:20250511T163000Z
LAST-MODIFIED:20250527T194307Z
UID:10004000-1748630700-1748642400@afk.games
SUMMARY:Disney: Lorcana - Reign of Jafar Release Event
DESCRIPTION:Disney Lorcana: Reign of Jafar Arrives at AFK Games on May 30th!\nJoin us for our release event on Friday\, May 30th\, at 6:45 PM to celebrate the launch of Reign of Jafar! \nJafar has seized control of Archazia’s Island\, transforming it into his formidable fortress. His reign poses the greatest threat that Lorcana has faced! \n🕡 Round 1 starts at 6:45 PM\n\nTickets: https://shop.afk.games/products/reign-of-jafar-release-event \nWe will be hosting two separate events at the same time: \n\nMatched Play Tournament – A structured event with Swiss rounds and rankings.\nCasual Open Play – A relaxed format where you can play at your own pace.\n\nEntry Fee: $40  (Same for both events)\nPrizes: Each event will have a separate prize pool\, with a total value greater than the entry fee. \nCome join the fun\, experience the new set early\, and enjoy a night of Lorcana! \n  \nFull rules information available at:\nhttps://docs.google.com/document/d/15P5oFm3Q1X618jPIchTuzYi6z3yk0MRbodvWbKUj1OU
URL:https://afk.games/event/disney-lorcana-reign-of-jafar-release-event/
LOCATION:AFK Games\, 2495 Cedar Street STE 14-B\, Holt\, MI\, 48842\, United States
CATEGORIES:Events,Lorcana,Ravensburger
ORGANIZER;CN="AFK Games":MAILTO:support@afk-games.com
END:VEVENT
BEGIN:VEVENT
DTSTART;TZID=America/Detroit:20250531T123000
DTEND;TZID=America/Detroit:20250531T160000
DTSTAMP:20260424T043516
CREATED:20250512T232025Z
LAST-MODIFIED:20250512T232028Z
UID:10004001-1748694600-1748707200@afk.games
SUMMARY:One Piece - OP 11 Release Event (A Fist of Divine Speed)
DESCRIPTION:One Piece Card Game – “A Fist of Divine Speed” Release Event Ticket \nEntry: $35 \nEvent Dates:\nSaturday\, May 31st\, 2025 @ 12:30 PM\nTuesday\, June 3rd\, 2025 @ 6:30 PM \nJoin us for the A Fist of Divine Speed Release Event and be among the first to experience the latest One Piece Card Game set in an exciting Sealed format tournament! Build your own leader you bring or use the provided 6 color Luffy Promo. \nEvent Format:\nSealed Deck using 6x OP-11 Booster Packs\nAll players receive the same participation prizing\, with an exclusive winner bonus \nParticipation Prizing (Included with Entry):\n6x A Fist of Divine Speed Booster Packs (used to build your deck)\n2x Extra Booster Packs (given after completing all rounds)\n1x P-081 Dracule Mihawk Promo Card\n1x OP-11 Leader Card\n1x OP-11 Release Event Pack \nWinner Bonus Prize:\n1x P-081 Dracule Mihawk (Silver Foil + Gold Stamp) \nSpots are limited—Maximum of 64 players per event. You can register in Bandai TCG+ starting on May 16th!
URL:https://afk.games/event/one-piece-op-11-release-event-a-fist-of-divine-speed/2025-05-31/
LOCATION:AFK Games\, 2495 Cedar Street STE 14-B\, Holt\, MI\, 48842\, United States
CATEGORIES:Bandai,Events,One Piece TCG
ORGANIZER;CN="AFK Games":MAILTO:support@afk-games.com
END:VEVENT
END:VCALENDAR