BEGIN:VCALENDAR
VERSION:2.0
PRODID:-//AFK Games - ECPv6.15.20//NONSGML v1.0//EN
CALSCALE:GREGORIAN
METHOD:PUBLISH
X-WR-CALNAME:AFK Games
X-ORIGINAL-URL:https://afk.games
X-WR-CALDESC:Events for AFK Games
REFRESH-INTERVAL;VALUE=DURATION:PT1H
X-Robots-Tag:noindex
X-PUBLISHED-TTL:PT1H
BEGIN:VTIMEZONE
TZID:America/Detroit
BEGIN:DAYLIGHT
TZOFFSETFROM:-0500
TZOFFSETTO:-0400
TZNAME:EDT
DTSTART:20240310T070000
END:DAYLIGHT
BEGIN:STANDARD
TZOFFSETFROM:-0400
TZOFFSETTO:-0500
TZNAME:EST
DTSTART:20241103T060000
END:STANDARD
BEGIN:DAYLIGHT
TZOFFSETFROM:-0500
TZOFFSETTO:-0400
TZNAME:EDT
DTSTART:20250309T070000
END:DAYLIGHT
BEGIN:STANDARD
TZOFFSETFROM:-0400
TZOFFSETTO:-0500
TZNAME:EST
DTSTART:20251102T060000
END:STANDARD
BEGIN:DAYLIGHT
TZOFFSETFROM:-0500
TZOFFSETTO:-0400
TZNAME:EDT
DTSTART:20260308T070000
END:DAYLIGHT
BEGIN:STANDARD
TZOFFSETFROM:-0400
TZOFFSETTO:-0500
TZNAME:EST
DTSTART:20261101T060000
END:STANDARD
END:VTIMEZONE
BEGIN:VEVENT
DTSTART;TZID=America/Detroit:20250427T100000
DTEND;TZID=America/Detroit:20250427T173000
DTSTAMP:20260421T181946
CREATED:20250327T183432Z
LAST-MODIFIED:20250327T183432Z
UID:10003774-1745748000-1745775000@afk.games
SUMMARY:MCP - War of Kings Tournament
DESCRIPTION:AFK Games is hosting a Marvel: Crisis Protocol tournament on April 27th\, 2025. \nTournament Format\n\nRounds – 3\nRound time – 90 minutes + 15 minutes to finish the current round\nFormat – Standard Timeline (2025 Timeline)\nSoftware – Longshanks\nDoors – 9:30 AM\nStart – 10:00 AM\nEntry – $10\n\n\nOnce time is called\, players will have 15 minutes to finish the current round. After 15 minutes\, players will score VP and finish the match. \nMissions will be mission 1\, 3\, and 5 from the new War of Kings Mission Pack\n \nTicket: https://shop.afk.games/products/mcp-war-of-kings-tournament \nLongshanks: https://mcp.longshanks.org/event/24610/ \n  \nRoster Selection\n\nEach player will bring their roster that is in line with the current rules\, errata\, FAQ\, and Banned and Restricted List.\n\n10 Characters\n10 Team Tactics Cards\n\n\nAffiliation lists\, Banned/Restricted\, and rules can be found at https://www.atomicmassgames.com/marvel/op\n\nVictory Conditions\n\nVictory conditions will follow normal MCP conditions with Standing being calculated with tie breakers of Average Opponent TP and Victory Points Scored. \nPainting and Basing\n\nAll models must be based on their current base size.\nPainting is not required.\n\nPlayer Responsibilities\n\nBring your roster\nBring your tactics cards\nBring 3 of each Crisis card type (Secure & Extract)\nAll materials needed to play a game/report the results – including:\n\nDice\nMeasuring devices\n\n\n\nPlayers are also responsible for conducting themselves in an appropriate\, sportsmanlike manner at all times. \nPrizes\nRaffle prizes \n\nWin a Game – 1 Ticket \nPlay a Game – 1 Ticket \nFully painted roster – 1 Ticket  \nBe ready 15 minutes before the start of round 1 – 1 Ticket \n 
URL:https://afk.games/event/mcp-war-of-kings-tournament/
LOCATION:AFK Games\, 2495 Cedar Street STE 14-B\, Holt\, MI\, 48842\, United States
CATEGORIES:Atomic Mass Games,Events,Marvel: Crisis Protocol
ORGANIZER;CN="AFK Games":MAILTO:support@afk-games.com
END:VEVENT
BEGIN:VEVENT
DTSTART;TZID=America/Detroit:20250502T183000
DTEND;TZID=America/Detroit:20250502T210000
DTSTAMP:20260421T181946
CREATED:20250405T230402Z
LAST-MODIFIED:20250405T231001Z
UID:10003916-1746210600-1746219600@afk.games
SUMMARY:Star Wars: Unlimited Casual Play
DESCRIPTION:Free entry\, play some games. Get a promo pack.
URL:https://afk.games/event/star-wars-unlimited-casual-play-2/2025-05-02/
LOCATION:AFK Games\, 2495 Cedar Street STE 14-B\, Holt\, MI\, 48842\, United States
CATEGORIES:Events,Star Wars: Unlimited
ORGANIZER;CN="AFK Games":MAILTO:support@afk-games.com
END:VEVENT
BEGIN:VEVENT
DTSTART;TZID=America/Detroit:20250503T090000
DTEND;TZID=America/Detroit:20250503T183000
DTSTAMP:20260421T181946
CREATED:20250405T234008Z
LAST-MODIFIED:20250422T212528Z
UID:10003955-1746262800-1746297000@afk.games
SUMMARY:May - Warhammer 40K RTT
DESCRIPTION:Event Info: \nEntry: $25 \nRounds: 3 \nRound time: 3 Hours \nPairing Method: Random pairings based on W/L record \nPlacings are determined by Win/Loss record\, then total battle points \nThis event will be run through BCP\, if you need help please ask for assistance prior to the list submission date. If you do not have BCP\, please download the app before the start of the event. \nThe event will be registered with ITC \nRules Packet: https://docs.google.com/document/d/1cWfpg5uKjHCuafIyGFyACmpu24gxxG5SDKTNqBZxVHE \nTickets/Registration: https://www.bestcoastpairings.com/event/9sdujKQf0R0u \nFormat: \nTables will be 44”x60”. \nITC rules and regulations. \nLists must be a maximum 2000-point strike force\, and be submitted before the list submission deadline posted above. Missions chosen from the Pariah Nexus Tournament Mission Pool. \nA ringer may be used if an odd number of players exist in any tournament round. The tournament participant will receive an automatic win for the round and however many battle points scored (minimum of 70) during that round\, will be added to their overall score. \nEvent Schedule: \n\nDoors open/Check In: 8:15 AM – 8:45 AM\nPlayer Meeting: 8:45 AM \nRound 1: 9:00 AM – 12:00 PM \nLunch: 12:00 PM – 12:45 PM \nRound 2: 12:45 PM – 3:45 PM \nRound 3: 3:50 PM – 6:50 PM\n\nEvent Deadlines: \nLists are due at 11:59 pm on the Friday before the event (May\, 2nd) \nNo new codices\, Indexes\, or points updates released after Saturday\, April\, 26th will be used. \nWith the exception of if there is a new mission pack other than Pariah Nexus \nThe latest FAQs\, as of the tournament day\, will be in effect. \nPrizes: \npay out varies based on attendance \nThe total amount of each prize will depend on the number of participants and will be awarded in-store credit. \nPrizes will be given for first\, second\, third place\, and best appearance (as voted by the players) \nPlayers can not win more than one prize. \nPainting and Models: \nThere is no painting requirement. All players will receive the 10 points for “paint” included in their score for each round. \nConverted and 3D printed models must receive approval from the TO before the list submission deadline posted above. Contact the TO at Hilla.anthony@gmail.com \nTerrain Rules & Missions \nAnnounced before the start of the round
URL:https://afk.games/event/may-warhammer-40k-rtt-2/
LOCATION:AFK Games\, 2495 Cedar Street STE 14-B\, Holt\, MI\, 48842\, United States
CATEGORIES:Events,Games Workshop,RTT,Warhammer 40K
ORGANIZER;CN="AFK Games":MAILTO:support@afk-games.com
END:VEVENT
END:VCALENDAR