BEGIN:VCALENDAR
VERSION:2.0
PRODID:-//AFK Games - ECPv6.15.20//NONSGML v1.0//EN
CALSCALE:GREGORIAN
METHOD:PUBLISH
X-ORIGINAL-URL:https://afk.games
X-WR-CALDESC:Events for AFK Games
REFRESH-INTERVAL;VALUE=DURATION:PT1H
X-Robots-Tag:noindex
X-PUBLISHED-TTL:PT1H
BEGIN:VTIMEZONE
TZID:America/Detroit
BEGIN:DAYLIGHT
TZOFFSETFROM:-0500
TZOFFSETTO:-0400
TZNAME:EDT
DTSTART:20230312T070000
END:DAYLIGHT
BEGIN:STANDARD
TZOFFSETFROM:-0400
TZOFFSETTO:-0500
TZNAME:EST
DTSTART:20231105T060000
END:STANDARD
BEGIN:DAYLIGHT
TZOFFSETFROM:-0500
TZOFFSETTO:-0400
TZNAME:EDT
DTSTART:20240310T070000
END:DAYLIGHT
BEGIN:STANDARD
TZOFFSETFROM:-0400
TZOFFSETTO:-0500
TZNAME:EST
DTSTART:20241103T060000
END:STANDARD
BEGIN:DAYLIGHT
TZOFFSETFROM:-0500
TZOFFSETTO:-0400
TZNAME:EDT
DTSTART:20250309T070000
END:DAYLIGHT
BEGIN:STANDARD
TZOFFSETFROM:-0400
TZOFFSETTO:-0500
TZNAME:EST
DTSTART:20251102T060000
END:STANDARD
END:VTIMEZONE
BEGIN:VEVENT
DTSTART;TZID=America/Detroit:20240625T183000
DTEND;TZID=America/Detroit:20240625T213000
DTSTAMP:20260423T112648
CREATED:20240524T002621Z
LAST-MODIFIED:20240524T002621Z
UID:10002810-1719340200-1719351000@afk.games
SUMMARY:One Piece TCG - 500 Years in the Future Prerelease
DESCRIPTION:Each player will receive 6 booster packs\, 1 prerelease pack\, and 1 P-067 Eustass”Captain”Kid \n– 6 Packs (each participant should use the same number of packs.)\n– You may bring your own leader (including those from previous sets) to use in the event.\n– Please bring 10x DON!! Cards to participate in the event. \nDeck Construction Rules\nAfter opening 6 packs\, players build a 40-card deck\, and a 10 DON!! card deck. There are\nno banned or restricted cards\, and players can include as many copies of cards with the same\ncard number as they like. (There is no 4-card limit and 5 or more copies of a card with the\nsame card number can be included in decks.) Any cards left over from deck construction are\ntreated as sideboard cards. \nSpecial Game Rules\n– In sealed format games\, players can ignore deck colour requirements based on their leader. \nExample: Ordinarily with the red starter deck ST01-001 Monkey D.Luffy as your leader\, you would be\nrestricted to only having red cards in your deck\, however in sealed format you can use cards of any\ncolour in your deck\, even though your leader is only red. \nAll other card text restrictions still apply as normal\, including effects listed on leaders when\nspecifying names or colours of cards. \nExample 1: With your leader as OP01-060 “Donquixote Doflamingo”\, you may only search for [The\nSeven Warlords of the Sea] type Character cards when triggering his ability \nExample 2: When using the ability of OP01-067 “Crocodile” “Blue Event cards in your hand cost 1\nless to play” would only apply to Blue Event cards – This would not apply to Event cards of other\ncolours.
URL:https://afk.games/event/one-piece-tcg-500-years-in-the-future-prerelease/2024-06-25/
LOCATION:AFK Games\, 2495 Cedar Street STE 14-B\, Holt\, MI\, 48842\, United States
CATEGORIES:Bandai,Events,One Piece TCG
ORGANIZER;CN="AFK Games":MAILTO:support@afk-games.com
END:VEVENT
BEGIN:VEVENT
DTSTART;TZID=America/Detroit:20240629T090000
DTEND;TZID=America/Detroit:20240630T163000
DTSTAMP:20260423T112648
CREATED:20240530T180431Z
LAST-MODIFIED:20240531T213441Z
UID:10002811-1719651600-1719765000@afk.games
SUMMARY:Battle for the Capital GT 2024
DESCRIPTION:We are back for another year of the Battle for the Capital GT! \nSchedule/Missions/Terrain Layout: \nSaturday \n8:00 AM – 9:00 AM   Registration \n9:00 AM – 12:00 PM   Round 1 (Mission A: Take and Hold\, Chilling Rain\, Search and Destroy\, Layout 3) \n12:00 PM – 1:00 PM   Lunch \n1:00 PM – 4:00 PM   Round 2 (Mission O: Vital Ground\, Chilling Rain\, Crucible of Battle\, Layout 3) \n4:15 PM – 7:15 PM   Round 3 (Mission N: Priority Targets\, Chosen Battlefield\, Dawn of War\, Layout 3) \n  \nSunday \n9:00 AM – 12:00 PM   Round 4 (Mission G: Sites of Power\, Chilling Rain\, Hammer and Anvil\, Layout 1) \n12:00 PM – 1:00 PM   Lunch \n1:00 PM – 4:00 PM   Round 5 (Mission M: Purge the Foe\, Chilling Rain\, Crucible of Battle\, Layout 1) \n4:30 Closing Ceremony \n  \nEvent Info: \nNumber of Players: 60 \nEntry: $60 \nPairing Method: Win/Loss -> Random for Day 1. Swiss Pairings for Day 2.  \nScoring Method: Differential Scoring \nThis Event will be run through BCP\, if you need help please ask for assistance before the list submission date.  If you do not have BCP\, please download the app before the start of the event. \nThis event will be registered with ITC \nEvent Deadlines: \nLists are due at 11:59 PM on Friday June 15th\, 2024 \nRules cut off for codices\, points\, FAQ\, rules\, etc will be June 15th\, 2024. \nTickets: https://www.bestcoastpairings.com/event/48TJEXRH77 \n  \nFull rules packet:\nhttps://docs.google.com/document/d/1G21JirQLHZ4ChnLJRskv0sJuhucR-ch64tS7V3p2W14
URL:https://afk.games/event/battle-for-the-capital-gt-2024/
LOCATION:AFK Games\, 2495 Cedar Street STE 14-B\, Holt\, MI\, 48842\, United States
CATEGORIES:Events,Games Workshop,Warhammer 40K
ORGANIZER;CN="AFK Games":MAILTO:support@afk-games.com
END:VEVENT
BEGIN:VEVENT
DTSTART;TZID=America/Detroit:20240629T123000
DTEND;TZID=America/Detroit:20240629T150000
DTSTAMP:20260423T112648
CREATED:20240315T211606Z
LAST-MODIFIED:20240315T211607Z
UID:10002032-1719664200-1719673200@afk.games
SUMMARY:One Piece TCG - Store Tournament vol.6
DESCRIPTION:Tuesdays @ 6:30 pm\nSaturdays @ 12:30 pm \nOne Piece League Tournament – The league lasts until the release of set 7 (June 2024) \nBo1 Swiss 35 min rounds + 5 minutes of extra time \n-$10 Entry Fee- \n\nIf we are out of OP06\, entry will be $5\n\n\nEntry:\n1x OP06 Pack (while supplies last) \nPrizing:\n1st – Winner pack\nTop 8 – one tournament pack \n$6 Per head will be used to build the league pot – This pot will be distributed to the top 25% per ranking  \nleaderboard at the end of the league season (OP07 + Other goodies in prize pool) *Prizing subject to change) \nFor current leaderboard status please check our Challonge leaderboard/discord:  \nHow to earn league points for league ranking: \n\nWin a match – 3 Points\nUndefeated – 2 Points\n\nBeat a player who has been undefeated for 2+ events – 1 Point per event\n\n2 events = 2 Points \n3 events = 3 Points \nAnd so on\n\n\n\n\nLose a match – 1 Point\nDraw – 1 Point\nParticipate in the weekly event – 3 Point\nBring someone new to the league – 3 Points \n\nOnce per new player to the league
URL:https://afk.games/event/one-piece-tcg-store-tournament-vol-5-3/2024-06-29/
LOCATION:AFK Games\, 2495 Cedar Street STE 14-B\, Holt\, MI\, 48842\, United States
CATEGORIES:Bandai,Events,One Piece TCG
ORGANIZER;CN="AFK Games":MAILTO:support@afk-games.com
END:VEVENT
END:VCALENDAR