BEGIN:VCALENDAR
VERSION:2.0
PRODID:-//AFK Games - ECPv6.15.20//NONSGML v1.0//EN
CALSCALE:GREGORIAN
METHOD:PUBLISH
X-ORIGINAL-URL:https://afk.games
X-WR-CALDESC:Events for AFK Games
REFRESH-INTERVAL;VALUE=DURATION:PT1H
X-Robots-Tag:noindex
X-PUBLISHED-TTL:PT1H
BEGIN:VTIMEZONE
TZID:America/Detroit
BEGIN:DAYLIGHT
TZOFFSETFROM:-0500
TZOFFSETTO:-0400
TZNAME:EDT
DTSTART:20230312T070000
END:DAYLIGHT
BEGIN:STANDARD
TZOFFSETFROM:-0400
TZOFFSETTO:-0500
TZNAME:EST
DTSTART:20231105T060000
END:STANDARD
BEGIN:DAYLIGHT
TZOFFSETFROM:-0500
TZOFFSETTO:-0400
TZNAME:EDT
DTSTART:20240310T070000
END:DAYLIGHT
BEGIN:STANDARD
TZOFFSETFROM:-0400
TZOFFSETTO:-0500
TZNAME:EST
DTSTART:20241103T060000
END:STANDARD
BEGIN:DAYLIGHT
TZOFFSETFROM:-0500
TZOFFSETTO:-0400
TZNAME:EDT
DTSTART:20250309T070000
END:DAYLIGHT
BEGIN:STANDARD
TZOFFSETFROM:-0400
TZOFFSETTO:-0500
TZNAME:EST
DTSTART:20251102T060000
END:STANDARD
END:VTIMEZONE
BEGIN:VEVENT
DTSTART;TZID=America/Detroit:20240210T100000
DTEND;TZID=America/Detroit:20240210T190000
DTSTAMP:20260424T025316
CREATED:20240123T194407Z
LAST-MODIFIED:20240123T194408Z
UID:10002319-1707559200-1707591600@afk.games
SUMMARY:Dreamhack RCQ (2-Slot) - Murders at Karlov Manor Sealed
DESCRIPTION:Tournament Format\nThis event will be a 2-slot Dreamhack RCQ\, which means 1st and 2nd will receive an RCQ invite.  \nWe will be playing Murders at Karlov Manor Swiss rounds\, and then a cut to top-8 draft that will be timed. \nWe will be playing rounds of Swiss as recommended by the tournament rules. Following the Swiss rounds\, the top 8 players overall will draft in single-elimination rounds. \nParticipants must register their sealed pools as written in the Magic: the Gathering tournament rules section 7.5.  \n  \nParticipants will have 20 minutes for deck registration and 30 minutes for deck construction. \nTickets\nRegistration: $60 \nTickets will be available on our website.  \nTournament Schedule\nDoors will open at 9:00 am\nRegistration ends at 9:55 am.  \nThe player meeting will commence at 10:00 am with our head judge Nick Babcock\, followed by the start of deck registration. \nPrizes:\n1st – 30% of Store Credit pool + Exclusive Promo + Top 8 promo + RCQ Invite\n2nd – 20% of Store Credit pool + Exclusive Promo + Top 8 promo + RCQ Invite\n3/4th – 10% of Store Credit pool + Top 8 promo\n5-8th – 7.5% of Store Credit pool + Top 8 promo \nThe first 64 players will receive an RCQ promo.  \n  \nStore credit prizes will be scaled with attendance. But the major milestones will be: \n20 players: $440 pool\n30 players: $850 pool\n40 players: $1257 pool
URL:https://afk.games/event/dreamhack-rcq-2-slot-murders-at-karlov-manor-sealed/
LOCATION:AFK Games\, 2495 Cedar Street STE 14-B\, Holt\, MI\, 48842\, United States
CATEGORIES:Events,Magic: The Gathering,RCQ,Sealed
ORGANIZER;CN="AFK Games":MAILTO:support@afk-games.com
END:VEVENT
BEGIN:VEVENT
DTSTART;TZID=America/Detroit:20240210T123000
DTEND;TZID=America/Detroit:20240210T150000
DTSTAMP:20260424T025316
CREATED:20231217T205952Z
LAST-MODIFIED:20231217T210118Z
UID:10002012-1707568200-1707577200@afk.games
SUMMARY:One Piece TCG - Store Tournament vol.5
DESCRIPTION:Bo1 Swiss 35 min rounds + 5 minutes of extra time \nEntry:\n1x OP-05 Pack \nPrizing:\n1st – Winner pack\nTop 8 – one tournament pack \n$7 Per head will be used to build the league pot – This pot will be distributed to the top 25% per ranking  \nleaderboard at the end of the league season (OP06 + TP + Winner Packs Will Be In The POT) \nCurrent standing can be found at: https://afkgames.challonge.com/OP05?round=0 \nHow to earn league points for league ranking: \nWin a match – 3 Points\nLose a match – 1 Point\nDraw – 1 Point\nParticipate in the league – 1 Point\nBring someone new to the league – 3 Points \n*ALL PRIZING SUBJECT TO CHANGE*
URL:https://afk.games/event/one-piece-tcg-store-tournament-vol-5/2024-02-10/
LOCATION:AFK Games\, 2495 Cedar Street STE 14-B\, Holt\, MI\, 48842\, United States
CATEGORIES:Bandai,Events,One Piece TCG
ORGANIZER;CN="AFK Games":MAILTO:support@afk-games.com
END:VEVENT
BEGIN:VEVENT
DTSTART;TZID=America/Detroit:20240210T123000
DTEND;TZID=America/Detroit:20240210T190000
DTSTAMP:20260424T025316
CREATED:20240122T173646Z
LAST-MODIFIED:20240122T173646Z
UID:10002318-1707568200-1707591600@afk.games
SUMMARY:Star Wars: Legion - Skirmish Tournament
DESCRIPTION:Tournament Format\nWe will be following the Skirmish Event rules\, which can be found at the following link Skirmish Rules \n\nRounds – max 4 rounds\nRound time – 90 minutes\nFormat – Swiss\nDoors – 12:00 pm\nRound 1 – 12:30 pm\nEntry – $10\nDate – Saturday\, February 10th\, 2024\nCapacity – 24 players\n\nTicket: https://shop.afk.games/products/star-wars-legion-skirmish-tournament \nWe will be utilizing gameuplink.com to input lists and run the event during rounds. If you don’t have an account please register an account\, and sign up for the event. \nIf you already have an account you can register for the event at the [Tournament Link]. \nArmy Selection\n\n500-point skirmish list\nPrinted lists are not required\, but they are useful for some opponents.\nWe will use the most up-to-date FAQs and point costs as of 2/3/2024\n\nDeadlines\nPlayer’s lists are due 5 minutes before the start of the event. You can either bring in a paper copy or you may submit your list at the gameuplink.com event. \nPainting and Basing\n\nAll models must be based on their current base size.\nPainting is not required.\n\nPlayer Responsibilities\n\nCards to represent all units in your list\nAll materials needed to play a game/report the results – including:\n\nDice\nMeasuring devices\nRange sticks\nCommand Deck\nOrder tokens\nTokens\n\n\n\nPlayers are also responsible for conducting themselves in an appropriate\, sportsmanlike manner.  \nPrizes\nRaffle prizes \nPlay a game – 1 ticket\nWin a game – 1 ticket\nFully painted – 1 ticket\nBe ready 15 minutes before start – 1 ticket
URL:https://afk.games/event/star-wars-legion-skirmish-tournament/
LOCATION:AFK Games\, 2495 Cedar Street STE 14-B\, Holt\, MI\, 48842\, United States
CATEGORIES:Atomic Mass Games,Events,Star Wars: Legion
ORGANIZER;CN="AFK Games":MAILTO:support@afk-games.com
END:VEVENT
END:VCALENDAR