BEGIN:VCALENDAR
VERSION:2.0
PRODID:-//AFK Games - ECPv6.15.20//NONSGML v1.0//EN
CALSCALE:GREGORIAN
METHOD:PUBLISH
X-ORIGINAL-URL:https://afk.games
X-WR-CALDESC:Events for AFK Games
REFRESH-INTERVAL;VALUE=DURATION:PT1H
X-Robots-Tag:noindex
X-PUBLISHED-TTL:PT1H
BEGIN:VTIMEZONE
TZID:America/Detroit
BEGIN:DAYLIGHT
TZOFFSETFROM:-0500
TZOFFSETTO:-0400
TZNAME:EDT
DTSTART:20240310T070000
END:DAYLIGHT
BEGIN:STANDARD
TZOFFSETFROM:-0400
TZOFFSETTO:-0500
TZNAME:EST
DTSTART:20241103T060000
END:STANDARD
BEGIN:DAYLIGHT
TZOFFSETFROM:-0500
TZOFFSETTO:-0400
TZNAME:EDT
DTSTART:20250309T070000
END:DAYLIGHT
BEGIN:STANDARD
TZOFFSETFROM:-0400
TZOFFSETTO:-0500
TZNAME:EST
DTSTART:20251102T060000
END:STANDARD
BEGIN:DAYLIGHT
TZOFFSETFROM:-0500
TZOFFSETTO:-0400
TZNAME:EDT
DTSTART:20260308T070000
END:DAYLIGHT
BEGIN:STANDARD
TZOFFSETFROM:-0400
TZOFFSETTO:-0500
TZNAME:EST
DTSTART:20261101T060000
END:STANDARD
END:VTIMEZONE
BEGIN:VEVENT
DTSTART;TZID=America/Detroit:20250801T183000
DTEND;TZID=America/Detroit:20250801T213000
DTSTAMP:20260421T055947
CREATED:20250702T212851Z
LAST-MODIFIED:20250702T213144Z
UID:10004028-1754073000-1754083800@afk.games
SUMMARY:GUNDAM CARD GAME Booster Pack Launch Event
DESCRIPTION:Entry: $20\nFormat: Constructed \nEach participant will add 3 booster packs into the prize pool. \nParticipation\n– GD01-005 Unicorn Gundam (Unicorn-Mode) Promo x1\n– GD01-088 Banagher Links Promo x1\n– Card Storage Box x1\n– Booster Pack of GD01 x1 \nWinner\n– Winner of the event will get additional promo cards. \nThe pool of booster packs will be distributed to the top players in the event. \nThis is an official tournament — you must have a Bandai TCG+ account to participate.\nCreate an account here:\nhttps://www.bandainamcoid.com/\nNeed help? Step-by-step guide here:\nhttps://lp.bandai-tcg-plus.com/en/use01.html \nSign up on Bandai TCG+\nJuly 25th – https://www.bandai-tcg-plus.com/event/3323435\nAugust 1st – https://www.bandai-tcg-plus.com/event/3323436
URL:https://afk.games/event/gundam-card-game-booster-pack-launch-event/2025-08-01/
LOCATION:AFK Games\, 2495 Cedar Street STE 14-B\, Holt\, MI\, 48842\, United States
CATEGORIES:Bandai,Events,Gundam Card Game
ORGANIZER;CN="AFK Games":MAILTO:support@afk-games.com
END:VEVENT
BEGIN:VEVENT
DTSTART;TZID=America/Detroit:20250802T123000
DTEND;TZID=America/Detroit:20250802T153000
DTSTAMP:20260421T055947
CREATED:20250703T183151Z
LAST-MODIFIED:20250703T183151Z
UID:10004032-1754137800-1754148600@afk.games
SUMMARY:One Piece - OP11 League Tournament
DESCRIPTION:Schedule:\n\nTuesdays @ 6:30 PM\nSaturdays @ 12:30 PM\n\nTournament Duration: The league runs until the release of Set 12 in August 2025.\nThe final events for this League are: \n\nOP12 Prerelease: August 16\, 2025\nOP12 Prerelease: August 19\, 2025\nAugust 23rd Locals\n\nEntry Details:\nEntry Fee: $10 \nIf we are out of participation packs\, entry will be $5. \nFormat: Bo1 Swiss\, 30-minute rounds \nParticipation Prizing: 1 OP10 Pack per entry \nWinner Prizing:\n\n1st Place: Winner Pack\n2nd Place: Winner Pack (if 16+ players)\nTop 16: One Tournament Pack\n\nLeague Prize Pool\n\n$5 per entry contributes to the league prize pool.\nThe prize pool will be distributed to the players at the end of the season based on the Prize Pool Distribution section below.\nAdditional prizes may include OP12 products (e.g.\, booster packs\, boxes\, double packs\, Tournament Packs).\nPrizing details are subject to change.\n\nPrize Pool Distribution\n\n75%: Reserved for the Top 25% finishers based on Event Points\n25%: Distributed among the top Achievement Point holders.\n\nThis prizing excludes those receiving top 25% Event Point finish rewards.\nPlayers who receive a top 25% Event Point prizing who are in the top Achievement Point holders leaderboard will have their prizing passed down.\nTiebreakers for Achievement points will be Total Points\, followed by most achievements\n\n\n\nLeaderboard:\nFor the current leaderboard status\, please check: https://gear5.gg/leaderboard\nor on Discord in the #Leaderboard channel under the One Piece category. (Discord bot updates every 12 hours.) \nNew League Point System:\nHow to Earn Points: \n\nWin a Match: 3 Points\nLose a Match: 1 Point\nWeekly Participation: 10 Points\nUndefeated Event (no round losses): 5 Points\nDefeat Last Event’s Winner: 3 Points\nBring a New Participant: 3 Points (once per new participant\, per week)\n\nPlayers will earn their win/loss/undefeated points like the previous season every week. But instead of getting participation points for each event\, you will just get 10 points for attending an event in a given week. \n\nPoint system is subject to minor changes because of the new format. If any changes are made\, they will be publicly announced.\n\nKey Rules:\nNon-Meta Leader Bonus: \nEarn 5 points for winning an event with a non-meta leader. This rule encourages players to experiment with creative and diverse gameplay. A list of meta leaders will be displayed on the league info page. Any leader not on this list qualifies for the bonus. \nAdditional Rules for Achievements:\nDynamic Status: Achievements can be both awarded and revoked during the season based on performance. Example: You will start with the Fleet Admiral achievement after your first event\, but if you bring the same leader to multiple events\, you will lose it. These changes will be recorded on your player page. \nCommunication and Feedback:\nTransparency: The point system\, non-meta leader list\, and seasonal challenges will be updated regularly on the league info page. \nFeedback: Player input is encouraged to improve the system and maintain fairness.
URL:https://afk.games/event/one-piece-op11-league-tournament/2025-08-02/
LOCATION:AFK Games\, 2495 Cedar Street STE 14-B\, Holt\, MI\, 48842\, United States
CATEGORIES:Bandai,Events,One Piece TCG
ORGANIZER;CN="AFK Games":MAILTO:support@afk-games.com
END:VEVENT
BEGIN:VEVENT
DTSTART;TZID=America/Detroit:20250809T103000
DTEND;TZID=America/Detroit:20250809T190000
DTSTAMP:20260421T055947
CREATED:20250728T182640Z
LAST-MODIFIED:20250728T182640Z
UID:10004046-1754735400-1754766000@afk.games
SUMMARY:Disney: Lorcana - Reign of Jafar Championship
DESCRIPTION:Event Details\n\nDate: August 9th\, 2025\nTime:\n\n10:00 AM: Open & Registration\n10:25 AM: Meeting/Pre round 1\n10:30 AM: Event Begins\n\n\nLocation: \nAFK Games \n2495 Cedar Street STE 14-B\nHolt\, MI 48842\n\n\nTicket Purchase: https://tcg.ravensburgerplay.com/events/160734\n\nEntry Information\n\n\n\nEntry Fee:\n\n$20\n\n\nRegistration:\n\nPlayers must submit their decklists prior to [5 Minutes prior to event start].\n\n\n\n\n\n\nParticipation:\n\n\n\n\nAlternate art non-foil Jafar – High Sultan of Lorcana Promo card*\n\nWhile supplies last\n\n\n\n\n\nPrizes\n\nPrize Pool: \n100% of the entry into the championship goes into the prize pool. \nPrize pool Breakdown: \n80% of the prize pool will be awarded as store credit to Top Cut players \n20% of the prize pool will be awarded as raffle door prizes \n  \nTop Cut prizing\nIf cut is Top 4 \nChampion: \n30% of the prize pool \n1 Jafar – High Sultan of Lorcana Champion playmat  \n1 Jafar – High Sultan of Lorcana foil promo card \nRunner-Up:\n20% of the prize pool \n1 Jafar – High Sultan of Lorcana foil promo card \n3rd/4th place:\n15% of prize pool each\n1 Jafar – High Sultan of Lorcana foil promo car \n5th-8th place\n1 Jafar – High Sultan of Lorcana foil promo card \n \nIf cut is Top 8\nChampion: \n20% of the prize pool \n1 Jafar – High Sultan of Lorcana Champion playmat  \n1 Jafar – High Sultan of Lorcana foil promo card \nRunner-Up:\n15% of the prize pool\n1 Jafar – High Sultan of Lorcana foil promo card \n3rd/4th place:\n10% of prize pool each\n1 Jafar – High Sultan of Lorcana foil promo card \n5th-8th place\n8.75% of the prize pool each\n1 Jafar – High Sultan of Lorcana foil promo card \n  \nTournament Format\n\n\n\nFormat: Core (Constructed)\nSwiss Structure:\n\nSwiss Rounds with possible Top Cut\, depending on attendance.\nRound Time: 55 Minutes\nFormat: Best-of-Three\n\n\nSwiss Top Cut Structure:\n\nSingle Elimination bracket.\nRound Time: 70 Minutes\n\n\n\n\n\n\nFinals Round Time: Untimed\n\n\n\n\nFormat: Best-of-Three\n\n\n\nContact Information\nFor any questions or further information\, please contact: \n\nEmail: support@afk-games.com\nWebsite: https://afk.games\n\n 
URL:https://afk.games/event/disney-lorcana-reign-of-jafar-championship/
LOCATION:AFK Games\, 2495 Cedar Street STE 14-B\, Holt\, MI\, 48842\, United States
ORGANIZER;CN="AFK Games":MAILTO:support@afk-games.com
END:VEVENT
BEGIN:VEVENT
DTSTART;TZID=America/Detroit:20250809T123000
DTEND;TZID=America/Detroit:20250809T153000
DTSTAMP:20260421T055947
CREATED:20250703T183151Z
LAST-MODIFIED:20250703T183151Z
UID:10004033-1754742600-1754753400@afk.games
SUMMARY:One Piece - OP11 League Tournament
DESCRIPTION:Schedule:\n\nTuesdays @ 6:30 PM\nSaturdays @ 12:30 PM\n\nTournament Duration: The league runs until the release of Set 12 in August 2025.\nThe final events for this League are: \n\nOP12 Prerelease: August 16\, 2025\nOP12 Prerelease: August 19\, 2025\nAugust 23rd Locals\n\nEntry Details:\nEntry Fee: $10 \nIf we are out of participation packs\, entry will be $5. \nFormat: Bo1 Swiss\, 30-minute rounds \nParticipation Prizing: 1 OP10 Pack per entry \nWinner Prizing:\n\n1st Place: Winner Pack\n2nd Place: Winner Pack (if 16+ players)\nTop 16: One Tournament Pack\n\nLeague Prize Pool\n\n$5 per entry contributes to the league prize pool.\nThe prize pool will be distributed to the players at the end of the season based on the Prize Pool Distribution section below.\nAdditional prizes may include OP12 products (e.g.\, booster packs\, boxes\, double packs\, Tournament Packs).\nPrizing details are subject to change.\n\nPrize Pool Distribution\n\n75%: Reserved for the Top 25% finishers based on Event Points\n25%: Distributed among the top Achievement Point holders.\n\nThis prizing excludes those receiving top 25% Event Point finish rewards.\nPlayers who receive a top 25% Event Point prizing who are in the top Achievement Point holders leaderboard will have their prizing passed down.\nTiebreakers for Achievement points will be Total Points\, followed by most achievements\n\n\n\nLeaderboard:\nFor the current leaderboard status\, please check: https://gear5.gg/leaderboard\nor on Discord in the #Leaderboard channel under the One Piece category. (Discord bot updates every 12 hours.) \nNew League Point System:\nHow to Earn Points: \n\nWin a Match: 3 Points\nLose a Match: 1 Point\nWeekly Participation: 10 Points\nUndefeated Event (no round losses): 5 Points\nDefeat Last Event’s Winner: 3 Points\nBring a New Participant: 3 Points (once per new participant\, per week)\n\nPlayers will earn their win/loss/undefeated points like the previous season every week. But instead of getting participation points for each event\, you will just get 10 points for attending an event in a given week. \n\nPoint system is subject to minor changes because of the new format. If any changes are made\, they will be publicly announced.\n\nKey Rules:\nNon-Meta Leader Bonus: \nEarn 5 points for winning an event with a non-meta leader. This rule encourages players to experiment with creative and diverse gameplay. A list of meta leaders will be displayed on the league info page. Any leader not on this list qualifies for the bonus. \nAdditional Rules for Achievements:\nDynamic Status: Achievements can be both awarded and revoked during the season based on performance. Example: You will start with the Fleet Admiral achievement after your first event\, but if you bring the same leader to multiple events\, you will lose it. These changes will be recorded on your player page. \nCommunication and Feedback:\nTransparency: The point system\, non-meta leader list\, and seasonal challenges will be updated regularly on the league info page. \nFeedback: Player input is encouraged to improve the system and maintain fairness.
URL:https://afk.games/event/one-piece-op11-league-tournament/2025-08-09/
LOCATION:AFK Games\, 2495 Cedar Street STE 14-B\, Holt\, MI\, 48842\, United States
CATEGORIES:Bandai,Events,One Piece TCG
ORGANIZER;CN="AFK Games":MAILTO:support@afk-games.com
END:VEVENT
BEGIN:VEVENT
DTSTART;TZID=America/Detroit:20250816T123000
DTEND;TZID=America/Detroit:20250816T160000
DTSTAMP:20260421T055947
CREATED:20250729T172042Z
LAST-MODIFIED:20250729T172042Z
UID:10004047-1755347400-1755360000@afk.games
SUMMARY:One Piece - OP12 Release Event
DESCRIPTION:One Piece Card Game – “A Fist of Divine Speed” Release Event Ticket\n\nEntry: $35\n\nEvent Dates:Saturday\, August 16st\, 2025 @ 12:30 PMTuesday\, August 19th\, 2025 @ 6:30 PM\n\nJoin us for the Legacy of the Master Release Event and be among the first to experience the latest One Piece Card Game set in an exciting Sealed format tournament! Bring your own leader or use the provided 6 color Luffy Promo.\n\nEvent Format:Sealed Deck using 6x OP-12 Booster Packs\nAll players receive the same participation prizing\, with an exclusive winner bonus\nParticipation Prizing (Included with Entry):6x Legacy of the Master Booster Packs (used to build your deck)2x Extra Booster Packs (given after completing all rounds)1x P-092 Koby Promo Card1x Rainbow Luffy Leader Card1x OP-12 Release Event Pack\n\nWinner Bonus Prize:1x P-092 Koby (Silver Foil + Gold Stamp)\nSpots are limited—Maximum of 64 players per event. You can register in Bandai TCG+ starting on May 16th!
URL:https://afk.games/event/one-piece-op12-release-event/2025-08-16/
LOCATION:AFK Games\, 2495 Cedar Street STE 14-B\, Holt\, MI\, 48842\, United States
CATEGORIES:Bandai,Events,One Piece TCG
ORGANIZER;CN="AFK Games":MAILTO:support@afk-games.com
END:VEVENT
BEGIN:VEVENT
DTSTART;TZID=America/Detroit:20250819T183000
DTEND;TZID=America/Detroit:20250819T213000
DTSTAMP:20260421T055947
CREATED:20250729T172042Z
LAST-MODIFIED:20250729T172042Z
UID:10004048-1755628200-1755639000@afk.games
SUMMARY:One Piece - OP12 Release Event
DESCRIPTION:One Piece Card Game – “A Fist of Divine Speed” Release Event Ticket\n\nEntry: $35\n\nEvent Dates:Saturday\, August 16st\, 2025 @ 12:30 PMTuesday\, August 19th\, 2025 @ 6:30 PM\n\nJoin us for the Legacy of the Master Release Event and be among the first to experience the latest One Piece Card Game set in an exciting Sealed format tournament! Bring your own leader or use the provided 6 color Luffy Promo.\n\nEvent Format:Sealed Deck using 6x OP-12 Booster Packs\nAll players receive the same participation prizing\, with an exclusive winner bonus\nParticipation Prizing (Included with Entry):6x Legacy of the Master Booster Packs (used to build your deck)2x Extra Booster Packs (given after completing all rounds)1x P-092 Koby Promo Card1x Rainbow Luffy Leader Card1x OP-12 Release Event Pack\n\nWinner Bonus Prize:1x P-092 Koby (Silver Foil + Gold Stamp)\nSpots are limited—Maximum of 64 players per event. You can register in Bandai TCG+ starting on May 16th!
URL:https://afk.games/event/one-piece-op12-release-event/2025-08-19/
LOCATION:AFK Games\, 2495 Cedar Street STE 14-B\, Holt\, MI\, 48842\, United States
CATEGORIES:Bandai,Events,One Piece TCG
ORGANIZER;CN="AFK Games":MAILTO:support@afk-games.com
END:VEVENT
BEGIN:VEVENT
DTSTART;TZID=America/Detroit:20250823T120000
DTEND;TZID=America/Detroit:20250823T200000
DTSTAMP:20260421T055947
CREATED:20250801T194653Z
LAST-MODIFIED:20250801T194859Z
UID:10004053-1755950400-1755979200@afk.games
SUMMARY:Horus Heresy: Age of Darkness Launch Event
DESCRIPTION:AFK Games is hosting a 1250-point tournament to kick off the new edition of The Horus Heresy! \nTournament Format\n\nRounds – 3\nRound time – 2.5 hours\nFormat – Swiss\nEntry – $10\nStart – 12:00 pm\n\n  \nWe will be using missions from the new HH3.0 Rulebook. \n  \nBCP: https://www.bestcoastpairings.com/event/O7cHWPJkwqY0 \nTicket: https://shop.afk.games/products/age-of-darkness-launch-event \nArmy Selection\n\nBring a 1250-point list from the new Age of Darkness 3rd edition rulebook\nPlayers must use the same army and list for the entire event.\n\nPainting and Basing\n\nAll models must be based on their current base size.\nPainting is not required.\n\nPlayer Responsibilities\n\nAge Of Darkness rulebook\nCopy of your faction’s Liber.\nAll materials needed to play a game/report the results – including:\n\nDice\nMeasuring device\n\n\n\nPlayers are also responsible for conducting themselves in an appropriate\, sportsmanlike manner at all times. \nPrizes\nPrizes will be a raffle! Players can get tickets for the following: \n\n Playing a game\n Winning a game\n Being prepared to play 15 minutes before the start\, without assistance.
URL:https://afk.games/event/age-of-darkness-launch-event/
LOCATION:AFK Games\, 2495 Cedar Street STE 14-B\, Holt\, MI\, 48842\, United States
CATEGORIES:Events,Games Workshop,Horus Heresy
ORGANIZER;CN="AFK Games":MAILTO:support@afk-games.com
END:VEVENT
BEGIN:VEVENT
DTSTART;TZID=America/Detroit:20250828T183000
DTEND;TZID=America/Detroit:20250828T213000
DTSTAMP:20260421T055947
CREATED:20250729T212943Z
LAST-MODIFIED:20250729T212944Z
UID:10004050-1756405800-1756416600@afk.games
SUMMARY:Pokemon - League Challenge
DESCRIPTION:Welcome Trainers to AFK Games’ August League Challenge! \nEvent Date: August 28th\n \nOnline registration – open now and closes at 6:25pm\, day of the tournament. \nOn site Registration – 5:00 pm – 6:25pm\, day of tournament \nCheck-in for pre-registered players by 6:20pm \nDecklists – due by 6:25pm \nTournament – 6:30 pm \nEntry – $10 entry\n \nLimit of 32 players\, preregistration not required\, but recommended. \n  \nFormat:\nStandard Constructed\nSwiss rounds based on attendance.\nNo Top Cut\n30-minute\, best-of-one rounds. \nPrizes: \n1st-4th place in each age division will receive a Pokémon Promo pack in addition to their winnings. \n \nEveryone will get at least 1 regular pack for participation\, with players receiving more based on their final ranking. \nThe prize pool is determined by the number of participants. \nPlayers will receive Championship Points based on position and total attendance. \nPlease arrive early enough to fill out a deck list before we begin or have one already ready. \n\nWe recommend Limitless’ deck builder\, since you can print a deck registration sheet from there.\nhttps://my.limitlesstcg.com/builder
URL:https://afk.games/event/pokemon-league-challenge/
LOCATION:AFK Games\, 2495 Cedar Street STE 14-B\, Holt\, MI\, 48842\, United States
CATEGORIES:Events,Pokemon
ORGANIZER;CN="AFK Games":MAILTO:support@afk-games.com
END:VEVENT
BEGIN:VEVENT
DTSTART;TZID=America/Detroit:20250829T184000
DTEND;TZID=America/Detroit:20250829T220000
DTSTAMP:20260421T055947
CREATED:20250729T203427Z
LAST-MODIFIED:20250729T205223Z
UID:10004049-1756492800-1756504800@afk.games
SUMMARY:Disney: Lorcana - Fabled Release Event
DESCRIPTION:Disney Lorcana: Fabled Arrives at AFK Games on August 29th!\nJoin us for our release event on Friday\, August 29th\, at 6:40 PM to celebrate the launch of Fabled! \nThere’s power in the tales we tell. Welcome to Disney Lorcana\, a realm where magical stories come to life. Whether this is your first time playing the game or you’re returning to team up with a few new pals\, there’s something for everyone in fabled \n🕡 Round 1 starts at 6:40 PM \nWe will be hosting two separate events at the same time: \n\nMatched Play Tournament – A structured event with Swiss rounds and rankings\, top end prizing.\nCasual Open Play – A relaxed casual format where you can play at your own pace\, and raffle prizes.\n\nEntry Fee: $35  (Same for both events)\nhttps://shop.afk.games/products/disney-lorcana-fabled-release-event \n\nPrizes: Each event will have a separate prize pool\, with each player adding $12 of value to the prize pool. \nCome join the fun\, experience the new set early\, and enjoy a night of Lorcana! \n\nCasual Open Play \nThis event is perfect for players who want to enjoy the new set without the pressure of a structured tournament. You can play as much or as little as you like\, choosing your opponents freely. \nWhat You Get with Entry:\n\n6 Disney: Lorcana – Fabled booster packs. To build your sealed deck.\n\nHow It Works:\n\nThere are no assigned pairings—simply find other participants to play with at your own pace.\nThis is a casual event\, so you can choose who you play against or just explore the new cards on your own.\nAt the end of the event\, every player’s name will be entered into a random drawing. Players will take turns picking from the prize pool in the order their name is drawn.\n\nThis is a great way to experience the set early\, meet other players\, and have fun in a relaxed environment! \nMatched Play Tournament \nIn this tournament\, all players will start with 6 Booster Packs\nBefore the event begins\, you’ll have 30 minutes to make a sealed deck out of your booster packs. \n\nBetween rounds\, you are allowed to make further changes to your deck using the cards you opened\, but no extra time will be provided for this.\n\nTournament Structure\n\nThe tournament will use a Swiss format with 3 rounds (everyone plays all 3 rounds).\nEach round is a best-of-one games match.\nPairings will be handled through Ravensburger Play Hub (the official tournament software).\n\nPrizes\n\nPrizes will be awarded to the top 50% of players based on their performance.\nThe prize pool has both a higher and lower limit compared to other formats.
URL:https://afk.games/event/disney-lorcana-fabled-release-event/
LOCATION:AFK Games\, 2495 Cedar Street STE 14-B\, Holt\, MI\, 48842\, United States
CATEGORIES:Events,Lorcana,Ravensburger
ORGANIZER;CN="AFK Games":MAILTO:support@afk-games.com
END:VEVENT
BEGIN:VEVENT
DTSTART;TZID=America/Detroit:20250830T113000
DTEND;TZID=America/Detroit:20250830T170000
DTSTAMP:20260421T055947
CREATED:20250730T215442Z
LAST-MODIFIED:20250730T215442Z
UID:10004051-1756553400-1756573200@afk.games
SUMMARY:Marvel: Crisis Protocol - Danger Room
DESCRIPTION:AFK Games is hosting a Marvel: Crisis Protocol Danger Room event on August 30th\, 2025. \nTournament Format\n\nRounds – 3\nRound time – 90 minutes + 15 minutes to finish the current round\nFormat – Standard Timeline (2025 Timeline)\nSoftware – Longshanks\nDoors – 11:00 AM\nStart – 11:30 AM\nEntry – $10\n\n\nOnce time is called\, players will have 15 minutes to finish the current round. After 15 minutes\, players will score VP and finish the match. \nOne shot card will be flipped after Squad selection is completed. \nIf “Unlikely Team Work” is flipped up\, first players can return to squad building. \nDuring the clean up phase\, after scoring. The player with less VP can choose to flip a new One Shot Card. This will replace the active one and take effect at the start of the next activation phase. \nRoster Selection\n\nEach player will bring their roster that is in line with the current rules\, errata\, FAQ\, and Banned and Restricted List.\n\n10 Characters\n10 Team Tactics Cards\n\n\nAffiliation lists\, Banned/Restricted\, and rules can be found at https://www.atomicmassgames.com/marvel/op\n\nVictory Conditions\nVictory conditions will follow normal MCP conditions with Standing being calculated with tie breakers of Average Opponent TP and Victory Points Scored.\n  \nMissions\nRound 1: \nExtract: Black Bird Crash: Retrieve Exotic Animal\nSecure: Malfunction Simulation Gone Wrong \nRound 2: \nExtract: Cerebro Locates Dangerous Mutants\nSecure: Sinkholes Open Across City \nRound 3: \nExtract: New Tech From Armory\nSecure: Black Bird Crashes Secure Cargo \nPainting and Basing\n\nAll models must be based on their current base size.\nPainting is not required.\n\nPlayer Responsibilities\n\nBring your roster\nBring your tactics cards\nAll materials needed to play a game/report the results – including:\n\nDice\nMeasuring devices\n\n\n\nPlayers are also responsible for conducting themselves in an appropriate\, sportsmanlike manner at all times. \nPrizes\nDoor prize Mission/One Shot cards\nRaffle prizes \nFull tournament Document:\nhttps://docs.google.com/document/d/1aWCyNkGgSkTYdRZaY0XQ40zUEyC3uHe8uEYsl3nZAO
URL:https://afk.games/event/marvel-crisis-protocol-danger-room/
LOCATION:AFK Games\, 2495 Cedar Street STE 14-B\, Holt\, MI\, 48842\, United States
CATEGORIES:Atomic Mass Games,Events,Marvel: Crisis Protocol
ORGANIZER;CN="AFK Games":MAILTO:support@afk-games.com
END:VEVENT
BEGIN:VEVENT
DTSTART;TZID=America/Detroit:20250830T123000
DTEND;TZID=America/Detroit:20250830T183000
DTSTAMP:20260421T055947
CREATED:20250801T202229Z
LAST-MODIFIED:20250801T202229Z
UID:10004054-1756557000-1756578600@afk.games
SUMMARY:MTG: Edge of Eternities Store Championship
DESCRIPTION:Event Details\n\nDate: 8/30/25\nTime:\n\n11:00 AM: Open & Registration\n12:30 PM: Event Begins\n\n\nLocation: \nAFK Games \n2495 Cedar Street STE 14-B\nHolt\, MI 48842\n\n\nTicket Purchase: https://shop.afk.games/products/edge-of-eternities-store-championship\nEventlink Code: QMPV56P\n\nEntry Information\n\n\n\nEntry Fee:\n\n$10\n\n\nRegistration:\n\nNo decklists required.\n\n\n\n\n\n\nParticipation:\n\n\n\n\nEach participant will receive a Bitter Triumph promo (while supplies last)\n\n\n\nTournament Format\n\nFormat: Standard\nSwiss Structure:\n\nSwiss Rounds\nRound Time: 50 Minutes\nFormat: Best-of-Three\nWe will be playing a number of Swiss rounds as recommended by the tournament rules. \n\n\n\n  \nPrizes\n \n\n1st Place – Top 8 Slickshot Show-Off promo + Fable of the Mirror Breaker promo\n2nd Place – Top 8 Slickshot Show-Off promo\n3rd/4th Place – Top 8 Slickshot Show-Off promo\n5th-8th Place – Top 8 Slickshot Show-Off promo\n\n\nStore credit will be given out to top players\, store credit amount will be determined by attendance.  \n  \nAdditional Rules\n\nBoth the AFK Games stamped promos and non stamped promos will be handed out.\n\nImportant Notes\n\nMinimum 4 players required to fire this event. \n\nContact Information\nFor any questions or further information\, please contact: \n\nEmail: support@afk-games.com\nWebsite: https://afk.games\n\n 
URL:https://afk.games/event/mtg-edge-of-eternities-store-championship/
LOCATION:AFK Games\, 2495 Cedar Street STE 14-B\, Holt\, MI\, 48842\, United States
CATEGORIES:Events,Magic: The Gathering,Standard
ORGANIZER;CN="AFK Games":MAILTO:support@afk-games.com
END:VEVENT
END:VCALENDAR