BEGIN:VCALENDAR
VERSION:2.0
PRODID:-//AFK Games - ECPv6.15.20//NONSGML v1.0//EN
CALSCALE:GREGORIAN
METHOD:PUBLISH
X-ORIGINAL-URL:https://afk.games
X-WR-CALDESC:Events for AFK Games
REFRESH-INTERVAL;VALUE=DURATION:PT1H
X-Robots-Tag:noindex
X-PUBLISHED-TTL:PT1H
BEGIN:VTIMEZONE
TZID:America/Detroit
BEGIN:DAYLIGHT
TZOFFSETFROM:-0500
TZOFFSETTO:-0400
TZNAME:EDT
DTSTART:20240310T070000
END:DAYLIGHT
BEGIN:STANDARD
TZOFFSETFROM:-0400
TZOFFSETTO:-0500
TZNAME:EST
DTSTART:20241103T060000
END:STANDARD
BEGIN:DAYLIGHT
TZOFFSETFROM:-0500
TZOFFSETTO:-0400
TZNAME:EDT
DTSTART:20250309T070000
END:DAYLIGHT
BEGIN:STANDARD
TZOFFSETFROM:-0400
TZOFFSETTO:-0500
TZNAME:EST
DTSTART:20251102T060000
END:STANDARD
BEGIN:DAYLIGHT
TZOFFSETFROM:-0500
TZOFFSETTO:-0400
TZNAME:EDT
DTSTART:20260308T070000
END:DAYLIGHT
BEGIN:STANDARD
TZOFFSETFROM:-0400
TZOFFSETTO:-0500
TZNAME:EST
DTSTART:20261101T060000
END:STANDARD
END:VTIMEZONE
BEGIN:VEVENT
DTSTART;TZID=America/Detroit:20250705T123000
DTEND;TZID=America/Detroit:20250705T153000
DTSTAMP:20260421T105144
CREATED:20250703T183151Z
LAST-MODIFIED:20250703T183151Z
UID:10004029-1751718600-1751729400@afk.games
SUMMARY:One Piece - OP11 League Tournament
DESCRIPTION:Schedule:\n\nTuesdays @ 6:30 PM\nSaturdays @ 12:30 PM\n\nTournament Duration: The league runs until the release of Set 12 in August 2025.\nThe final events for this League are: \n\nOP12 Prerelease: August 16\, 2025\nOP12 Prerelease: August 19\, 2025\nAugust 23rd Locals\n\nEntry Details:\nEntry Fee: $10 \nIf we are out of participation packs\, entry will be $5. \nFormat: Bo1 Swiss\, 30-minute rounds \nParticipation Prizing: 1 OP10 Pack per entry \nWinner Prizing:\n\n1st Place: Winner Pack\n2nd Place: Winner Pack (if 16+ players)\nTop 16: One Tournament Pack\n\nLeague Prize Pool\n\n$5 per entry contributes to the league prize pool.\nThe prize pool will be distributed to the players at the end of the season based on the Prize Pool Distribution section below.\nAdditional prizes may include OP12 products (e.g.\, booster packs\, boxes\, double packs\, Tournament Packs).\nPrizing details are subject to change.\n\nPrize Pool Distribution\n\n75%: Reserved for the Top 25% finishers based on Event Points\n25%: Distributed among the top Achievement Point holders.\n\nThis prizing excludes those receiving top 25% Event Point finish rewards.\nPlayers who receive a top 25% Event Point prizing who are in the top Achievement Point holders leaderboard will have their prizing passed down.\nTiebreakers for Achievement points will be Total Points\, followed by most achievements\n\n\n\nLeaderboard:\nFor the current leaderboard status\, please check: https://gear5.gg/leaderboard\nor on Discord in the #Leaderboard channel under the One Piece category. (Discord bot updates every 12 hours.) \nNew League Point System:\nHow to Earn Points: \n\nWin a Match: 3 Points\nLose a Match: 1 Point\nWeekly Participation: 10 Points\nUndefeated Event (no round losses): 5 Points\nDefeat Last Event’s Winner: 3 Points\nBring a New Participant: 3 Points (once per new participant\, per week)\n\nPlayers will earn their win/loss/undefeated points like the previous season every week. But instead of getting participation points for each event\, you will just get 10 points for attending an event in a given week. \n\nPoint system is subject to minor changes because of the new format. If any changes are made\, they will be publicly announced.\n\nKey Rules:\nNon-Meta Leader Bonus: \nEarn 5 points for winning an event with a non-meta leader. This rule encourages players to experiment with creative and diverse gameplay. A list of meta leaders will be displayed on the league info page. Any leader not on this list qualifies for the bonus. \nAdditional Rules for Achievements:\nDynamic Status: Achievements can be both awarded and revoked during the season based on performance. Example: You will start with the Fleet Admiral achievement after your first event\, but if you bring the same leader to multiple events\, you will lose it. These changes will be recorded on your player page. \nCommunication and Feedback:\nTransparency: The point system\, non-meta leader list\, and seasonal challenges will be updated regularly on the league info page. \nFeedback: Player input is encouraged to improve the system and maintain fairness.
URL:https://afk.games/event/one-piece-op11-league-tournament/2025-07-05/
LOCATION:AFK Games\, 2495 Cedar Street STE 14-B\, Holt\, MI\, 48842\, United States
CATEGORIES:Bandai,Events,One Piece TCG
ORGANIZER;CN="AFK Games":MAILTO:support@afk-games.com
END:VEVENT
BEGIN:VEVENT
DTSTART;TZID=America/Detroit:20250705T183000
DTEND;TZID=America/Detroit:20250705T220000
DTSTAMP:20260421T105144
CREATED:20250619T200910Z
LAST-MODIFIED:20250619T200910Z
UID:10004025-1751740200-1751752800@afk.games
SUMMARY:SWU - Legends of the Force Prerelease
DESCRIPTION: Join us for our prerelease event for Legends of the Force! You can kickstart your collection with a Prerelease Box! Inside you will find 6 booster packs and enough materials for you to launch into the game’s fifth set! This product is available one week before the rest of the set. \nTournament Format\n\nDeck Construction: 30 Minutes\nRounds – 3\nRound time – 25 Minutes\nFormat: Best-of-One\nFormat – Sealed\nStart – 6:30 PM\nEntry – $35\n\nTournament link:  \nhttps://melee.gg/Tournament/View/327172 \n\nTicket: https://shop.afk.games/products/star-wars-unlimited-legends-of-the-force-prerelease \nSchedule\nStart Deckbuilding – 6:30 PM \nRound 1 Start: 6:50 PM
URL:https://afk.games/event/swu-legends-of-the-force-prerelease/
LOCATION:AFK Games\, 2495 Cedar Street STE 14-B\, Holt\, MI\, 48842\, United States
CATEGORIES:Events,Star Wars: Unlimited
ORGANIZER;CN="AFK Games":MAILTO:support@afk-games.com
END:VEVENT
BEGIN:VEVENT
DTSTART;TZID=America/Detroit:20250711T184000
DTEND;TZID=America/Detroit:20250711T223000
DTSTAMP:20260421T105144
CREATED:20250612T211321Z
LAST-MODIFIED:20250612T211321Z
UID:10004011-1752259200-1752273000@afk.games
SUMMARY:GUNDAM CARD GAME Starter Deck Launch Event
DESCRIPTION:Entry into the event is $10\n\nPurchase of a starter deck is required to play.\n\n\n\nMore information as soon as we get information about promos/etc from Bandai.
URL:https://afk.games/event/gundam-card-game-starter-deck-launch-event/2025-07-11/
LOCATION:AFK Games\, 2495 Cedar Street STE 14-B\, Holt\, MI\, 48842\, United States
CATEGORIES:Bandai,Gundam Card Game
ORGANIZER;CN="AFK Games":MAILTO:support@afk-games.com
END:VEVENT
BEGIN:VEVENT
DTSTART;TZID=America/Detroit:20250712T123000
DTEND;TZID=America/Detroit:20250712T153000
DTSTAMP:20260421T105144
CREATED:20250703T183321Z
LAST-MODIFIED:20250703T183321Z
UID:10004034-1752323400-1752334200@afk.games
SUMMARY:One Piece - Store 2on2 Battle
DESCRIPTION:Participation:\nP082 Crocodile x1\nOP11 Booster Pack x1\nPromo Pack x1 \nWinner:\nWinner Promo Pack x1\nP082 Crocodile (Silver Foil + Gold Stamp) Winner \nThese events count towards our league
URL:https://afk.games/event/one-piece-store-2on2-battle-3/2025-07-12/
LOCATION:AFK Games\, 2495 Cedar Street STE 14-B\, Holt\, MI\, 48842\, United States
CATEGORIES:Bandai,Events,One Piece TCG
ORGANIZER;CN="AFK Games":MAILTO:support@afk-games.com
END:VEVENT
BEGIN:VEVENT
DTSTART;TZID=America/Detroit:20250712T123000
DTEND;TZID=America/Detroit:20250712T170000
DTSTAMP:20260421T105144
CREATED:20250610T203848Z
LAST-MODIFIED:20250610T203848Z
UID:10004009-1752323400-1752339600@afk.games
SUMMARY:MTG - Final Fantasy Store Championship
DESCRIPTION:Event Details\n\n\nDate: 7/12/25 \n\n\nTime: \n\n\n11:00 AM: Open & Registration \n\n\n12:30 PM: Event Begins \n\n\n\n\nLocation:\nAFK Games\n2495 Cedar Street STE 14-B\nHolt\, MI 48842 \n\n\nEntry Information\n\n\nEntry Fee: \n\n\n$10 \n\n\n\n\nRegistration: \n\n\nNo decklists required. \n\n\n\n\nParticipation: \n\n\nEach participant will receive an “Prophetic Beginning” Preordain promo (while supplies last) \n\n\n\n\nTournament Format\n\n\nFormat: Standard \n\n\nSwiss Structure: \n\n\nSwiss Rounds \n\n\nRound Time: 50 Minutes \n\n\nFormat: Best-of-Three \n\n\nWe will be playing a number of Swiss rounds as recommended by the tournament rules. \n\n\n\n\nPrizes\n\n\n1st Place – Top 8 “Diabolos\, Guardian Force” Death’s Shadow promo + “Bhujerba\, Floating City” City of Brass promo \n\n\n2nd Place – Top 8 “Diabolos\, Guardian Force” Death’s Shadow promo \n\n\n3rd/4th Place – Top 8 “Diabolos\, Guardian Force” Death’s Shadow promo \n\n\n5th-8th Place – Top 8 “Diabolos\, Guardian Force” Death’s Shadow promo \n\n\nStore credit will be given out to top players\, store credit amount will be determined by attendance. \nAdditional Rules\n\n\nBoth the AFK Games stamped promos and non stamped promos will be handed out. \n\n\nImportant Notes\n\n\nMinimum 4 players required to fire this event. \n\n\nContact Information\nFor any questions or further information\, please contact: \n\n\nEmail: support@afk-games.com \n\n\nWebsite: https://afk.games
URL:https://afk.games/event/mtg-final-fantasy-store-championship/
LOCATION:AFK Games\, 2495 Cedar Street STE 14-B\, Holt\, MI\, 48842\, United States
CATEGORIES:Events,Magic: The Gathering,Standard
ORGANIZER;CN="AFK Games":MAILTO:support@afk-games.com
END:VEVENT
BEGIN:VEVENT
DTSTART;TZID=America/Detroit:20250715T183000
DTEND;TZID=America/Detroit:20250715T213000
DTSTAMP:20260421T105144
CREATED:20250703T183321Z
LAST-MODIFIED:20250703T183321Z
UID:10004035-1752604200-1752615000@afk.games
SUMMARY:One Piece - Store 2on2 Battle
DESCRIPTION:Participation:\nP082 Crocodile x1\nOP11 Booster Pack x1\nPromo Pack x1 \nWinner:\nWinner Promo Pack x1\nP082 Crocodile (Silver Foil + Gold Stamp) Winner \nThese events count towards our league
URL:https://afk.games/event/one-piece-store-2on2-battle-3/2025-07-15/
LOCATION:AFK Games\, 2495 Cedar Street STE 14-B\, Holt\, MI\, 48842\, United States
CATEGORIES:Bandai,Events,One Piece TCG
ORGANIZER;CN="AFK Games":MAILTO:support@afk-games.com
END:VEVENT
BEGIN:VEVENT
DTSTART;TZID=America/Detroit:20250717T183000
DTEND;TZID=America/Detroit:20250717T220000
DTSTAMP:20260421T105144
CREATED:20250703T212205Z
LAST-MODIFIED:20250703T212205Z
UID:10004037-1752777000-1752789600@afk.games
SUMMARY:Pokémon League Challenge July
DESCRIPTION:Welcome Trainers to AFK Games’ first League Challenge! \nOnline registration – open now and closes at 6:25pm\, day of the tournament. \nOn site Registration – 11:00 am – 6:25pm\, day of tournament \nCheck-in for pre-registered players by 6:20pm \nDecklists – due by 6:25pm \nTournament – 6:30 pm \nEntry – $10 entry \nLimit of 32 players\, preregistration not required\, but recommended. \nFormat: \nStandard Constructed (click here for more information on page 32) \nSwiss rounds based on attendance. \nNo Top Cut \n40-minute\, best-of-one rounds. \nPrizes: \n1st-4th place in each age division will receive a Pokémon Promo pack in addition to their winnings. \n \nEveryone will get at least 1 regular pack for participation\, with players receiving more based on their final ranking. \nThe prize pool is determined by the number of participants. \nPlayers will receive Championship Points based on position and total attendance. \n  \nPlease arrive early enough to fill out a deck list before we begin or have one already ready. \n\nWe recommend Limitless’ deck builder\, since you can print a deck registration sheet from there.\nhttps://my.limitlesstcg.com/builder
URL:https://afk.games/event/pokemon-league-challenge-july-2025/
LOCATION:AFK Games\, 2495 Cedar Street STE 14-B\, Holt\, MI\, 48842\, United States
CATEGORIES:Events,Pokemon
ORGANIZER;CN="AFK Games":MAILTO:support@afk-games.com
END:VEVENT
BEGIN:VEVENT
DTSTART;TZID=America/Detroit:20250718T184000
DTEND;TZID=America/Detroit:20250718T223000
DTSTAMP:20260421T105144
CREATED:20250612T211321Z
LAST-MODIFIED:20250612T211321Z
UID:10004012-1752864000-1752877800@afk.games
SUMMARY:GUNDAM CARD GAME Starter Deck Launch Event
DESCRIPTION:Entry into the event is $10\n\nPurchase of a starter deck is required to play.\n\n\n\nMore information as soon as we get information about promos/etc from Bandai.
URL:https://afk.games/event/gundam-card-game-starter-deck-launch-event/2025-07-18/
LOCATION:AFK Games\, 2495 Cedar Street STE 14-B\, Holt\, MI\, 48842\, United States
CATEGORIES:Bandai,Gundam Card Game
ORGANIZER;CN="AFK Games":MAILTO:support@afk-games.com
END:VEVENT
BEGIN:VEVENT
DTSTART;TZID=America/Detroit:20250719T113000
DTEND;TZID=America/Detroit:20250719T170000
DTSTAMP:20260421T105144
CREATED:20250704T010020Z
LAST-MODIFIED:20250704T010020Z
UID:10004038-1752924600-1752944400@afk.games
SUMMARY:MCP - July Standard Timeline Tournament
DESCRIPTION:AFK Games is hosting a Marvel: Crisis Protocol tournament on July 19th\, 2025. \nTournament Format\nRounds – 3\nRound time – 90 minutes + 15 minutes to finish the current round\nFormat – Standard Timeline (2025 Timeline)\nSoftware – Longshanks\nDoors – 11:00 AM\nStart – 11:30 AM\nEntry – $10 \nOnce time is called\, players will have 15 minutes to finish the current round. After 15 minutes\, players will score VP and finish the match. \nTicket: https://shop.afk.games/products/marvel-crisis-protocol-july-standard-timeline \nLongshanks: https://mcp.longshanks.org/event/26926/ \nRules Packet:\nhttps://docs.google.com/document/d/1aAgI3WvNQ8Q2hUG8oRwEkl4mYq3u7-lJcFaTX5v5fMI
URL:https://afk.games/event/mcp-july-standard-timeline-tournament/
LOCATION:AFK Games\, 2495 Cedar Street STE 14-B\, Holt\, MI\, 48842\, United States
CATEGORIES:Atomic Mass Games,Events,Marvel: Crisis Protocol
ORGANIZER;CN="AFK Games":MAILTO:support@afk-games.com
END:VEVENT
BEGIN:VEVENT
DTSTART;TZID=America/Detroit:20250719T123000
DTEND;TZID=America/Detroit:20250719T170000
DTSTAMP:20260421T105144
CREATED:20250709T210339Z
LAST-MODIFIED:20250709T210339Z
UID:10004040-1752928200-1752944400@afk.games
SUMMARY:Pirates League Store Qualifier
DESCRIPTION:Participation\n\nOP05-076 When You’re at Sea You Fight againt Pirates!! x1\nEvent Pack Vol. 6 x1\n\n13th – 4th Place\n\nSupport Crew Battle Invitation\n\n*Invitation will be passed down to the next player if any of the members cannot participate in the Support Crew Battle.\n\n\n\nTOP 3\n\nThree Captains Battle Invitation\n\n*Invitation will be passed down to the Support Crew if any of the members cannot participate in the Three Captains Battle.\n\n\n\nWinner\n\nOP05-076 When You’re at Sea You Fight againt Pirates!! (Silver Foil) x1
URL:https://afk.games/event/pirates-league-store-qualifier/
LOCATION:AFK Games\, 2495 Cedar Street STE 14-B\, Holt\, MI\, 48842\, United States
CATEGORIES:Bandai,Events,One Piece TCG
ATTACH;FMTTYPE=image/png:https://afk.games/wp-content/uploads/2025/07/July-19-Pirate-Qualifier.png
ORGANIZER;CN="AFK Games":MAILTO:support@afk-games.com
END:VEVENT
BEGIN:VEVENT
DTSTART;TZID=America/Detroit:20250725T183000
DTEND;TZID=America/Detroit:20250725T213000
DTSTAMP:20260421T105144
CREATED:20250702T212851Z
LAST-MODIFIED:20250702T213144Z
UID:10004027-1753468200-1753479000@afk.games
SUMMARY:GUNDAM CARD GAME Booster Pack Launch Event
DESCRIPTION:Entry: $20\nFormat: Constructed \nEach participant will add 3 booster packs into the prize pool. \nParticipation\n– GD01-005 Unicorn Gundam (Unicorn-Mode) Promo x1\n– GD01-088 Banagher Links Promo x1\n– Card Storage Box x1\n– Booster Pack of GD01 x1 \nWinner\n– Winner of the event will get additional promo cards. \nThe pool of booster packs will be distributed to the top players in the event. \nThis is an official tournament — you must have a Bandai TCG+ account to participate.\nCreate an account here:\nhttps://www.bandainamcoid.com/\nNeed help? Step-by-step guide here:\nhttps://lp.bandai-tcg-plus.com/en/use01.html \nSign up on Bandai TCG+\nJuly 25th – https://www.bandai-tcg-plus.com/event/3323435\nAugust 1st – https://www.bandai-tcg-plus.com/event/3323436
URL:https://afk.games/event/gundam-card-game-booster-pack-launch-event/2025-07-25/
LOCATION:AFK Games\, 2495 Cedar Street STE 14-B\, Holt\, MI\, 48842\, United States
CATEGORIES:Bandai,Events,Gundam Card Game
ORGANIZER;CN="AFK Games":MAILTO:support@afk-games.com
END:VEVENT
BEGIN:VEVENT
DTSTART;TZID=America/Detroit:20250725T184500
DTEND;TZID=America/Detroit:20250725T220000
DTSTAMP:20260421T105144
CREATED:20250709T211712Z
LAST-MODIFIED:20250709T211712Z
UID:10004041-1753469100-1753480800@afk.games
SUMMARY:MTG: Edge of Eternities Prerelease
DESCRIPTION:Event Schedule \nFriday\, June 6th\, 6:45 PM (Hard capped at 56 players) \nSaturday\, June 7th\, 1:00 PM (Two-Headed Giant) (Hard capped at 32 players (16 Teams)) \nSaturday\, June 7th\, 6:00 PM (Hard capped at 30 players) \nSunday\, June 8th\, 12:00 PM (Two-Headed Giant) (Hard capped at 16 players (8 Teams)) \n  \nFormat \nWith your prerelease kit\, build a minimum 40-card deck and compete in a Swiss tournament. \nPrizes \n– 0–1 wins: 1 Booster Pack of Edge of Eternities \n– 2 wins: 2 Booster Packs of Edge of Eternities \n– 3 wins: 3 Booster Packs of Edge of Eternities\n\nEntry: $35
URL:https://afk.games/event/mtg-edge-of-eternities-prerelease/2025-07-25/
LOCATION:AFK Games\, 2495 Cedar Street STE 14-B\, Holt\, MI\, 48842\, United States
CATEGORIES:Events,Magic: The Gathering,Prerelease
ORGANIZER;CN="AFK Games":MAILTO:support@afk-games.com
END:VEVENT
BEGIN:VEVENT
DTSTART;TZID=America/Detroit:20250726T123000
DTEND;TZID=America/Detroit:20250726T153000
DTSTAMP:20260421T105144
CREATED:20250703T183151Z
LAST-MODIFIED:20250703T183151Z
UID:10004031-1753533000-1753543800@afk.games
SUMMARY:One Piece - OP11 League Tournament
DESCRIPTION:Schedule:\n\nTuesdays @ 6:30 PM\nSaturdays @ 12:30 PM\n\nTournament Duration: The league runs until the release of Set 12 in August 2025.\nThe final events for this League are: \n\nOP12 Prerelease: August 16\, 2025\nOP12 Prerelease: August 19\, 2025\nAugust 23rd Locals\n\nEntry Details:\nEntry Fee: $10 \nIf we are out of participation packs\, entry will be $5. \nFormat: Bo1 Swiss\, 30-minute rounds \nParticipation Prizing: 1 OP10 Pack per entry \nWinner Prizing:\n\n1st Place: Winner Pack\n2nd Place: Winner Pack (if 16+ players)\nTop 16: One Tournament Pack\n\nLeague Prize Pool\n\n$5 per entry contributes to the league prize pool.\nThe prize pool will be distributed to the players at the end of the season based on the Prize Pool Distribution section below.\nAdditional prizes may include OP12 products (e.g.\, booster packs\, boxes\, double packs\, Tournament Packs).\nPrizing details are subject to change.\n\nPrize Pool Distribution\n\n75%: Reserved for the Top 25% finishers based on Event Points\n25%: Distributed among the top Achievement Point holders.\n\nThis prizing excludes those receiving top 25% Event Point finish rewards.\nPlayers who receive a top 25% Event Point prizing who are in the top Achievement Point holders leaderboard will have their prizing passed down.\nTiebreakers for Achievement points will be Total Points\, followed by most achievements\n\n\n\nLeaderboard:\nFor the current leaderboard status\, please check: https://gear5.gg/leaderboard\nor on Discord in the #Leaderboard channel under the One Piece category. (Discord bot updates every 12 hours.) \nNew League Point System:\nHow to Earn Points: \n\nWin a Match: 3 Points\nLose a Match: 1 Point\nWeekly Participation: 10 Points\nUndefeated Event (no round losses): 5 Points\nDefeat Last Event’s Winner: 3 Points\nBring a New Participant: 3 Points (once per new participant\, per week)\n\nPlayers will earn their win/loss/undefeated points like the previous season every week. But instead of getting participation points for each event\, you will just get 10 points for attending an event in a given week. \n\nPoint system is subject to minor changes because of the new format. If any changes are made\, they will be publicly announced.\n\nKey Rules:\nNon-Meta Leader Bonus: \nEarn 5 points for winning an event with a non-meta leader. This rule encourages players to experiment with creative and diverse gameplay. A list of meta leaders will be displayed on the league info page. Any leader not on this list qualifies for the bonus. \nAdditional Rules for Achievements:\nDynamic Status: Achievements can be both awarded and revoked during the season based on performance. Example: You will start with the Fleet Admiral achievement after your first event\, but if you bring the same leader to multiple events\, you will lose it. These changes will be recorded on your player page. \nCommunication and Feedback:\nTransparency: The point system\, non-meta leader list\, and seasonal challenges will be updated regularly on the league info page. \nFeedback: Player input is encouraged to improve the system and maintain fairness.
URL:https://afk.games/event/one-piece-op11-league-tournament/2025-07-26/
LOCATION:AFK Games\, 2495 Cedar Street STE 14-B\, Holt\, MI\, 48842\, United States
CATEGORIES:Bandai,Events,One Piece TCG
ORGANIZER;CN="AFK Games":MAILTO:support@afk-games.com
END:VEVENT
BEGIN:VEVENT
DTSTART;TZID=America/Detroit:20250726T130000
DTEND;TZID=America/Detroit:20250726T180000
DTSTAMP:20260421T105144
CREATED:20250709T211739Z
LAST-MODIFIED:20250709T211741Z
UID:10004042-1753534800-1753552800@afk.games
SUMMARY:MTG: Edge of Eternities Prerelease 2HG
DESCRIPTION:Event Schedule \nFriday\, June 6th\, 6:45 PM (Hard capped at 56 players) \nSaturday\, June 7th\, 1:00 PM (Two-Headed Giant) (Hard capped at 32 players (16 Teams)) \nSaturday\, June 7th\, 6:00 PM (Hard capped at 30 players) \nSunday\, June 8th\, 12:00 PM (Two-Headed Giant) (Hard capped at 16 players (8 Teams)) \n  \nFormat \nWith your prerelease kit\, build a minimum 40-card deck and compete in a Swiss tournament. \nPrizes \n– 0–1 wins: 1 Booster Pack of Edge of Eternities \n– 2 wins: 2 Booster Packs of Edge of Eternities \n– 3 wins: 3 Booster Packs of Edge of Eternities\n\nEntry: $35
URL:https://afk.games/event/mtg-edge-of-eternities-prerelease-2/
LOCATION:AFK Games\, 2495 Cedar Street STE 14-B\, Holt\, MI\, 48842\, United States
CATEGORIES:Events,Magic: The Gathering,Prerelease
ORGANIZER;CN="AFK Games":MAILTO:support@afk-games.com
END:VEVENT
BEGIN:VEVENT
DTSTART;TZID=America/Detroit:20250726T180000
DTEND;TZID=America/Detroit:20250726T220000
DTSTAMP:20260421T105144
CREATED:20250709T211712Z
LAST-MODIFIED:20250709T211712Z
UID:10004043-1753552800-1753567200@afk.games
SUMMARY:MTG: Edge of Eternities Prerelease
DESCRIPTION:Event Schedule \nFriday\, June 6th\, 6:45 PM (Hard capped at 56 players) \nSaturday\, June 7th\, 1:00 PM (Two-Headed Giant) (Hard capped at 32 players (16 Teams)) \nSaturday\, June 7th\, 6:00 PM (Hard capped at 30 players) \nSunday\, June 8th\, 12:00 PM (Two-Headed Giant) (Hard capped at 16 players (8 Teams)) \n  \nFormat \nWith your prerelease kit\, build a minimum 40-card deck and compete in a Swiss tournament. \nPrizes \n– 0–1 wins: 1 Booster Pack of Edge of Eternities \n– 2 wins: 2 Booster Packs of Edge of Eternities \n– 3 wins: 3 Booster Packs of Edge of Eternities\n\nEntry: $35
URL:https://afk.games/event/mtg-edge-of-eternities-prerelease/2025-07-26/
LOCATION:AFK Games\, 2495 Cedar Street STE 14-B\, Holt\, MI\, 48842\, United States
CATEGORIES:Events,Magic: The Gathering,Prerelease
ORGANIZER;CN="AFK Games":MAILTO:support@afk-games.com
END:VEVENT
BEGIN:VEVENT
DTSTART;TZID=America/Detroit:20250727T120000
DTEND;TZID=America/Detroit:20250727T170000
DTSTAMP:20260421T105144
CREATED:20250709T211801Z
LAST-MODIFIED:20250709T211803Z
UID:10004044-1753617600-1753635600@afk.games
SUMMARY:MTG: Edge of Eternities Prerelease 2HG
DESCRIPTION:Event Schedule \nFriday\, June 6th\, 6:45 PM (Hard capped at 56 players) \nSaturday\, June 7th\, 1:00 PM (Two-Headed Giant) (Hard capped at 32 players (16 Teams)) \nSaturday\, June 7th\, 6:00 PM (Hard capped at 30 players) \nSunday\, June 8th\, 12:00 PM (Two-Headed Giant) (Hard capped at 16 players (8 Teams)) \n  \nFormat \nWith your prerelease kit\, build a minimum 40-card deck and compete in a Swiss tournament. \nPrizes \n– 0–1 wins: 1 Booster Pack of Edge of Eternities \n– 2 wins: 2 Booster Packs of Edge of Eternities \n– 3 wins: 3 Booster Packs of Edge of Eternities\n\nEntry: $35
URL:https://afk.games/event/mtg-edge-of-eternities-prerelease-3/
LOCATION:AFK Games\, 2495 Cedar Street STE 14-B\, Holt\, MI\, 48842\, United States
CATEGORIES:Events,Magic: The Gathering,Prerelease
ORGANIZER;CN="AFK Games":MAILTO:support@afk-games.com
END:VEVENT
END:VCALENDAR