BEGIN:VCALENDAR
VERSION:2.0
PRODID:-//AFK Games - ECPv6.15.20//NONSGML v1.0//EN
CALSCALE:GREGORIAN
METHOD:PUBLISH
X-ORIGINAL-URL:https://afk.games
X-WR-CALDESC:Events for AFK Games
REFRESH-INTERVAL;VALUE=DURATION:PT1H
X-Robots-Tag:noindex
X-PUBLISHED-TTL:PT1H
BEGIN:VTIMEZONE
TZID:America/Detroit
BEGIN:DAYLIGHT
TZOFFSETFROM:-0500
TZOFFSETTO:-0400
TZNAME:EDT
DTSTART:20240310T070000
END:DAYLIGHT
BEGIN:STANDARD
TZOFFSETFROM:-0400
TZOFFSETTO:-0500
TZNAME:EST
DTSTART:20241103T060000
END:STANDARD
BEGIN:DAYLIGHT
TZOFFSETFROM:-0500
TZOFFSETTO:-0400
TZNAME:EDT
DTSTART:20250309T070000
END:DAYLIGHT
BEGIN:STANDARD
TZOFFSETFROM:-0400
TZOFFSETTO:-0500
TZNAME:EST
DTSTART:20251102T060000
END:STANDARD
BEGIN:DAYLIGHT
TZOFFSETFROM:-0500
TZOFFSETTO:-0400
TZNAME:EDT
DTSTART:20260308T070000
END:DAYLIGHT
BEGIN:STANDARD
TZOFFSETFROM:-0400
TZOFFSETTO:-0500
TZNAME:EST
DTSTART:20261101T060000
END:STANDARD
END:VTIMEZONE
BEGIN:VEVENT
DTSTART;TZID=America/Detroit:20250603T183000
DTEND;TZID=America/Detroit:20250603T213000
DTSTAMP:20260421T105154
CREATED:20250512T232025Z
LAST-MODIFIED:20250512T232028Z
UID:10004002-1748975400-1748986200@afk.games
SUMMARY:One Piece - OP 11 Release Event (A Fist of Divine Speed)
DESCRIPTION:One Piece Card Game – “A Fist of Divine Speed” Release Event Ticket \nEntry: $35 \nEvent Dates:\nSaturday\, May 31st\, 2025 @ 12:30 PM\nTuesday\, June 3rd\, 2025 @ 6:30 PM \nJoin us for the A Fist of Divine Speed Release Event and be among the first to experience the latest One Piece Card Game set in an exciting Sealed format tournament! Build your own leader you bring or use the provided 6 color Luffy Promo. \nEvent Format:\nSealed Deck using 6x OP-11 Booster Packs\nAll players receive the same participation prizing\, with an exclusive winner bonus \nParticipation Prizing (Included with Entry):\n6x A Fist of Divine Speed Booster Packs (used to build your deck)\n2x Extra Booster Packs (given after completing all rounds)\n1x P-081 Dracule Mihawk Promo Card\n1x OP-11 Leader Card\n1x OP-11 Release Event Pack \nWinner Bonus Prize:\n1x P-081 Dracule Mihawk (Silver Foil + Gold Stamp) \nSpots are limited—Maximum of 64 players per event. You can register in Bandai TCG+ starting on May 16th!
URL:https://afk.games/event/one-piece-op-11-release-event-a-fist-of-divine-speed/2025-06-03/
LOCATION:AFK Games\, 2495 Cedar Street STE 14-B\, Holt\, MI\, 48842\, United States
CATEGORIES:Bandai,Events,One Piece TCG
ORGANIZER;CN="AFK Games":MAILTO:support@afk-games.com
END:VEVENT
BEGIN:VEVENT
DTSTART;TZID=America/Detroit:20250606T183000
DTEND;TZID=America/Detroit:20250606T210000
DTSTAMP:20260421T105154
CREATED:20250405T230402Z
LAST-MODIFIED:20250405T231001Z
UID:10003921-1749234600-1749243600@afk.games
SUMMARY:Star Wars: Unlimited Casual Play
DESCRIPTION:Free entry\, play some games. Get a promo pack.
URL:https://afk.games/event/star-wars-unlimited-casual-play-2/2025-06-06/
LOCATION:AFK Games\, 2495 Cedar Street STE 14-B\, Holt\, MI\, 48842\, United States
CATEGORIES:Events,Star Wars: Unlimited
ORGANIZER;CN="AFK Games":MAILTO:support@afk-games.com
END:VEVENT
BEGIN:VEVENT
DTSTART;TZID=America/Detroit:20250606T184500
DTEND;TZID=America/Detroit:20250606T223000
DTSTAMP:20260421T105154
CREATED:20250501T215705Z
LAST-MODIFIED:20250501T215707Z
UID:10003993-1749235500-1749249000@afk.games
SUMMARY:Magic: The Gathering®—FINAL FANTASY Prerelease
DESCRIPTION:What’s in a Prerelease Kit? \nEach prerelease kit includes: \n\n6 Magic: The Gathering—FINAL FANTASY Play Boosters\n1 foil\, year-stamped Rare or Mythic Rare\n1 deck box\n1 Spindown die\nEach Play Booster contains:\n\n14 Magic: The Gathering cards\n1-4 cards of rarity Rare of higher\n3-6 Uncommon cards\n6-9 Common cards\n1 Land card (Traditional Foil Land replaces a Land in 20% of boosters)\n1 card of any rarity is Traditional Foil; Foil Borderless Mythic Rare in 1% of boosters\n\n\n\nYou can prepay for events and products in store starting 5/1/2025! \n \n \nEach Play Booster may contain these cards:  \n14 Magic: The Gathering cards \n\n1-4 cards of rarity Rare of higher\n3-6 Uncommon cards\n6-9 Common cards\n1 Land card (Traditional Foil Land replaces a Land in 20% of boosters)\n1 card of any rarity is Traditional Foil; Foil Borderless Mythic Rare in 1% of boosters\n\n  \nEvent Schedule \nFriday\, June 6th\, 6:45 PM (Hard capped at 58 players)\nSaturday\, June 7th\, 1:00 PM (Two-Headed Giant) (Hard capped at 16 players (8 Teams))\nSaturday\, June 7th\, 6:00 PM (Hard capped at 30 players)\nSunday\, June 8th\, 12:30 PM (Two-Headed Giant) (Hard capped at 16 players (8 Teams)) \n  \nFormat – Sealed \nWith your prerelease kit\, build a minimum 40-card deck and compete in a Swiss tournament. \nPrizes\n– 0–1 wins: 1 Booster Pack of FINAL FANTASY\n– 2 wins: 2 Booster Packs of FINAL FANTASY\n– 3 wins: 3 Booster Packs of FINAL FANTASY \n  \nDiscover FINAL FANTASY Universes Beyond! \nThe entire FINAL FANTASY saga is here! Your players will step into the worlds of the beloved FINAL FANTASY RPG series’ sixteen mainline games. They’ll cast powerful spells\, call upon classic summons\, and even visit their favorite locations on the back of a Chocobo. Countless elements from the games are here for players to weave together their own stories. \nSince the release of its first title in 1987\, the FINAL FANTASY series has become a global phenomenon due to its cutting edge graphics technology\, unique and distinctive world settings\, and rich storylines. It has since sold over 195\,000\,000 copies (package/downloads). \n 
URL:https://afk.games/event/magic-the-gathering-final-fantasy-prerelease/
LOCATION:AFK Games\, 2495 Cedar Street STE 14-B\, Holt\, MI\, 48842\, United States
CATEGORIES:Magic: The Gathering,Prerelease
ORGANIZER;CN="AFK Games":MAILTO:support@afk-games.com
END:VEVENT
BEGIN:VEVENT
DTSTART;TZID=America/Detroit:20250607T100000
DTEND;TZID=America/Detroit:20250607T180000
DTSTAMP:20260421T105154
CREATED:20250513T004647Z
LAST-MODIFIED:20250513T004647Z
UID:10004003-1749290400-1749319200@afk.games
SUMMARY:Grit City Cup - Summer '25
DESCRIPTION:Welcome to the first Grit City Cup!\nDraft your team and warm up those dice for this five round\, Blood Bowl 7’s event!\nFor the first Grit City Cup we’re bringing in some powerful weapons for those extra trashy individuals (like myself) looking to commit HEINOUS amounts of fouling and violence on other coaches and their players. Featuring additional foul-centric rules allowing bribes at 1/2 price for all teams! If you happen to choose a team with the “Bribery and Corruption” special rule\, you’ll receive one free bribe every match that must be used for that match. So use it or lose it coaches! \n\nEvent Starts\nJune 7\, 2025\n9:00 AM\n\n\nEvent End\nJune 7\, 2025\n6:00 PM\n\n\nThese rules\, the team creation and inducement list\, and more\, can be found at the link below!\nRules Packet! \nPlease bring three copies of your roster to the event. One for yourself\, one for the referees\, and one for your opponent! Also be sure to post your roster into BCP as soon as you’ve nailed down a team. \nRoster Builder Here! \n\nTournament Structure:\n9am – Check In \n10am – ROUND 1 \n11:10am – ROUND 2 \n12:20pm – ROUND 3 \n1:30pm – LUNCH \n2:15pm – ROUND 4 \n3:30pm – ROUND 5 \n4:45pm – AWARDS and PRIZES!!!
URL:https://afk.games/event/grit-city-cup-summer-25/
LOCATION:AFK Games\, 2495 Cedar Street STE 14-B\, Holt\, MI\, 48842\, United States
CATEGORIES:Blood Bowl,Events,Games Workshop
ORGANIZER;CN="AFK Games":MAILTO:support@afk-games.com
END:VEVENT
BEGIN:VEVENT
DTSTART;TZID=America/Detroit:20250607T123000
DTEND;TZID=America/Detroit:20250607T160000
DTSTAMP:20260421T105154
CREATED:20250405T231254Z
LAST-MODIFIED:20250512T231655Z
UID:10003931-1749299400-1749312000@afk.games
SUMMARY:One Piece League - Season 6
DESCRIPTION:Schedule:\nTuesdays @ 6:30 PM\nSaturdays @ 12:30 PM\nTournament Duration: The league runs until the release of Set 11 in June 2025. The final events for this League are: \nOP11 Prerelease: May 31\, 2025\nOP11 Prerelease: June 3\, 2025\nJune 7th\, 2025 locals \nEntry Details:\nEntry Fee: $10 \nIf we are out of participation packs\, entry will be $5. \nFormat: Bo1 Swiss\, 35-minute rounds \nParticipation Prizing: 1 OP10 Pack per entry \nWinner Prizing:\n1st Place: Winner Pack\n2nd Place: Winner Pack (if 16+ players)\n3rd Place: Winner Pack (if 24+ players) \nParticipation:\nOne Tournament Pack \nFor more information please visit https://gear5.gg
URL:https://afk.games/event/one-piece-league-season-6-2/2025-06-07/
LOCATION:AFK Games\, 2495 Cedar Street STE 14-B\, Holt\, MI\, 48842\, United States
CATEGORIES:Bandai,Events,One Piece TCG
ORGANIZER;CN="AFK Games":MAILTO:support@afk-games.com
END:VEVENT
BEGIN:VEVENT
DTSTART;TZID=America/Detroit:20250607T130000
DTEND;TZID=America/Detroit:20250607T180000
DTSTAMP:20260421T105154
CREATED:20250501T215739Z
LAST-MODIFIED:20250501T215739Z
UID:10003994-1749301200-1749319200@afk.games
SUMMARY:Magic: The Gathering®—FINAL FANTASY 2HG Prerelease
DESCRIPTION:What’s in a Prerelease Kit? \nEach prerelease kit includes: \n\n6 Magic: The Gathering—FINAL FANTASY Play Boosters\n1 foil\, year-stamped Rare or Mythic Rare\n1 deck box\n1 Spindown die\nEach Play Booster contains:\n\n14 Magic: The Gathering cards\n1-4 cards of rarity Rare of higher\n3-6 Uncommon cards\n6-9 Common cards\n1 Land card (Traditional Foil Land replaces a Land in 20% of boosters)\n1 card of any rarity is Traditional Foil; Foil Borderless Mythic Rare in 1% of boosters\n\n\n\nYou can prepay for events and products in store starting 5/1/2025! \n \n  \nEach Play Booster may contain these cards:  \n14 Magic: The Gathering cards \n\n1-4 cards of rarity Rare of higher\n3-6 Uncommon cards\n6-9 Common cards\n1 Land card (Traditional Foil Land replaces a Land in 20% of boosters)\n1 card of any rarity is Traditional Foil; Foil Borderless Mythic Rare in 1% of boosters\n\n  \nEvent Schedule \nFriday\, June 6th\, 6:45 PM (Hard capped at 58 players)\nSaturday\, June 7th\, 1:00 PM (Two-Headed Giant) (Hard capped at 16 players (8 Teams))\nSaturday\, June 7th\, 6:00 PM (Hard capped at 30 players)\nSunday\, June 8th\, 12:30 PM (Two-Headed Giant) (Hard capped at 16 players (8 Teams)) \n  \nFormat – Sealed \nWith your prerelease kit\, build a minimum 40-card deck and compete in a Swiss tournament. \nPrizes\n– 0–1 wins: 1 Booster Pack of FINAL FANTASY\n– 2 wins: 2 Booster Packs of FINAL FANTASY\n– 3 wins: 3 Booster Packs of FINAL FANTASY \n  \nDiscover FINAL FANTASY Universes Beyond! \nThe entire FINAL FANTASY saga is here! Your players will step into the worlds of the beloved FINAL FANTASY RPG series’ sixteen mainline games. They’ll cast powerful spells\, call upon classic summons\, and even visit their favorite locations on the back of a Chocobo. Countless elements from the games are here for players to weave together their own stories. \nSince the release of its first title in 1987\, the FINAL FANTASY series has become a global phenomenon due to its cutting edge graphics technology\, unique and distinctive world settings\, and rich storylines. It has since sold over 195\,000\,000 copies (package/downloads). \n 
URL:https://afk.games/event/magic-the-gathering-final-fantasy-prerelease-2hg-sat/
LOCATION:AFK Games\, 2495 Cedar Street STE 14-B\, Holt\, MI\, 48842\, United States
CATEGORIES:Magic: The Gathering,Prerelease
ORGANIZER;CN="AFK Games":MAILTO:support@afk-games.com
END:VEVENT
BEGIN:VEVENT
DTSTART;TZID=America/Detroit:20250607T180000
DTEND;TZID=America/Detroit:20250607T223000
DTSTAMP:20260421T105154
CREATED:20250501T215837Z
LAST-MODIFIED:20250501T215837Z
UID:10003996-1749319200-1749335400@afk.games
SUMMARY:Magic: The Gathering®—FINAL FANTASY Prerelease
DESCRIPTION:What’s in a Prerelease Kit? \nEach prerelease kit includes: \n\n6 Magic: The Gathering—FINAL FANTASY Play Boosters\n1 foil\, year-stamped Rare or Mythic Rare\n1 deck box\n1 Spindown die\nEach Play Booster contains:\n\n14 Magic: The Gathering cards\n1-4 cards of rarity Rare of higher\n3-6 Uncommon cards\n6-9 Common cards\n1 Land card (Traditional Foil Land replaces a Land in 20% of boosters)\n1 card of any rarity is Traditional Foil; Foil Borderless Mythic Rare in 1% of boosters\n\n\n\nYou can prepay for events and products in store starting 5/1/2025! \n \n  \nEach Play Booster may contain these cards:  \n14 Magic: The Gathering cards \n\n1-4 cards of rarity Rare of higher\n3-6 Uncommon cards\n6-9 Common cards\n1 Land card (Traditional Foil Land replaces a Land in 20% of boosters)\n1 card of any rarity is Traditional Foil; Foil Borderless Mythic Rare in 1% of boosters\n\n  \nEvent Schedule \nFriday\, June 6th\, 6:45 PM (Hard capped at 58 players)\nSaturday\, June 7th\, 1:00 PM (Two-Headed Giant) (Hard capped at 16 players (8 Teams))\nSaturday\, June 7th\, 6:00 PM (Hard capped at 30 players)\nSunday\, June 8th\, 12:30 PM (Two-Headed Giant) (Hard capped at 16 players (8 Teams)) \n  \nFormat – Sealed \nWith your prerelease kit\, build a minimum 40-card deck and compete in a Swiss tournament. \nPrizes\n– 0–1 wins: 1 Booster Pack of FINAL FANTASY\n– 2 wins: 2 Booster Packs of FINAL FANTASY\n– 3 wins: 3 Booster Packs of FINAL FANTASY \n  \nDiscover FINAL FANTASY Universes Beyond! \nThe entire FINAL FANTASY saga is here! Your players will step into the worlds of the beloved FINAL FANTASY RPG series’ sixteen mainline games. They’ll cast powerful spells\, call upon classic summons\, and even visit their favorite locations on the back of a Chocobo. Countless elements from the games are here for players to weave together their own stories. \nSince the release of its first title in 1987\, the FINAL FANTASY series has become a global phenomenon due to its cutting edge graphics technology\, unique and distinctive world settings\, and rich storylines. It has since sold over 195\,000\,000 copies (package/downloads). \n 
URL:https://afk.games/event/magic-the-gathering-final-fantasy-prerelease-sat/
LOCATION:AFK Games\, 2495 Cedar Street STE 14-B\, Holt\, MI\, 48842\, United States
CATEGORIES:Magic: The Gathering,Prerelease
ORGANIZER;CN="AFK Games":MAILTO:support@afk-games.com
END:VEVENT
BEGIN:VEVENT
DTSTART;TZID=America/Detroit:20250608T123000
DTEND;TZID=America/Detroit:20250608T173000
DTSTAMP:20260421T105154
CREATED:20250501T215811Z
LAST-MODIFIED:20250501T215811Z
UID:10003995-1749385800-1749403800@afk.games
SUMMARY:Magic: The Gathering®—FINAL FANTASY 2HG Prerelease
DESCRIPTION:What’s in a Prerelease Kit? \nEach prerelease kit includes: \n\n6 Magic: The Gathering—FINAL FANTASY Play Boosters\n1 foil\, year-stamped Rare or Mythic Rare\n1 deck box\n1 Spindown die\nEach Play Booster contains:\n\n14 Magic: The Gathering cards\n1-4 cards of rarity Rare of higher\n3-6 Uncommon cards\n6-9 Common cards\n1 Land card (Traditional Foil Land replaces a Land in 20% of boosters)\n1 card of any rarity is Traditional Foil; Foil Borderless Mythic Rare in 1% of boosters\n\n\n\nYou can prepay for events and products in store starting 5/1/2025! \n \n  \nEach Play Booster may contain these cards:  \n14 Magic: The Gathering cards \n\n1-4 cards of rarity Rare of higher\n3-6 Uncommon cards\n6-9 Common cards\n1 Land card (Traditional Foil Land replaces a Land in 20% of boosters)\n1 card of any rarity is Traditional Foil; Foil Borderless Mythic Rare in 1% of boosters\n\n  \nEvent Schedule \nFriday\, June 6th\, 6:45 PM (Hard capped at 58 players)\nSaturday\, June 7th\, 1:00 PM (Two-Headed Giant) (Hard capped at 16 players (8 Teams))\nSaturday\, June 7th\, 6:00 PM (Hard capped at 30 players)\nSunday\, June 8th\, 12:30 PM (Two-Headed Giant) (Hard capped at 16 players (8 Teams)) \n  \nFormat – Sealed \nWith your prerelease kit\, build a minimum 40-card deck and compete in a Swiss tournament. \nPrizes\n– 0–1 wins: 1 Booster Pack of FINAL FANTASY\n– 2 wins: 2 Booster Packs of FINAL FANTASY\n– 3 wins: 3 Booster Packs of FINAL FANTASY \n  \nDiscover FINAL FANTASY Universes Beyond! \nThe entire FINAL FANTASY saga is here! Your players will step into the worlds of the beloved FINAL FANTASY RPG series’ sixteen mainline games. They’ll cast powerful spells\, call upon classic summons\, and even visit their favorite locations on the back of a Chocobo. Countless elements from the games are here for players to weave together their own stories. \nSince the release of its first title in 1987\, the FINAL FANTASY series has become a global phenomenon due to its cutting edge graphics technology\, unique and distinctive world settings\, and rich storylines. It has since sold over 195\,000\,000 copies (package/downloads). \n 
URL:https://afk.games/event/magic-the-gathering-final-fantasy-2hg-prerelease-sun/
LOCATION:AFK Games\, 2495 Cedar Street STE 14-B\, Holt\, MI\, 48842\, United States
CATEGORIES:Magic: The Gathering,Prerelease
ORGANIZER;CN="AFK Games":MAILTO:support@afk-games.com
END:VEVENT
BEGIN:VEVENT
DTSTART;TZID=America/Detroit:20250613T183000
DTEND;TZID=America/Detroit:20250613T210000
DTSTAMP:20260421T105154
CREATED:20250405T230402Z
LAST-MODIFIED:20250405T231001Z
UID:10003922-1749839400-1749848400@afk.games
SUMMARY:Star Wars: Unlimited Casual Play
DESCRIPTION:Free entry\, play some games. Get a promo pack.
URL:https://afk.games/event/star-wars-unlimited-casual-play-2/2025-06-13/
LOCATION:AFK Games\, 2495 Cedar Street STE 14-B\, Holt\, MI\, 48842\, United States
CATEGORIES:Events,Star Wars: Unlimited
ORGANIZER;CN="AFK Games":MAILTO:support@afk-games.com
END:VEVENT
BEGIN:VEVENT
DTSTART;TZID=America/Detroit:20250620T183000
DTEND;TZID=America/Detroit:20250620T210000
DTSTAMP:20260421T105154
CREATED:20250405T230402Z
LAST-MODIFIED:20250405T231001Z
UID:10003923-1750444200-1750453200@afk.games
SUMMARY:Star Wars: Unlimited Casual Play
DESCRIPTION:Free entry\, play some games. Get a promo pack.
URL:https://afk.games/event/star-wars-unlimited-casual-play-2/2025-06-20/
LOCATION:AFK Games\, 2495 Cedar Street STE 14-B\, Holt\, MI\, 48842\, United States
CATEGORIES:Events,Star Wars: Unlimited
ORGANIZER;CN="AFK Games":MAILTO:support@afk-games.com
END:VEVENT
BEGIN:VEVENT
DTSTART;TZID=America/Detroit:20250621T123000
DTEND;TZID=America/Detroit:20250621T160000
DTSTAMP:20260421T105154
CREATED:20250526T183854Z
LAST-MODIFIED:20250526T183854Z
UID:10004007-1750509000-1750521600@afk.games
SUMMARY:One Piece - Store 2on2 Battle
DESCRIPTION:Participation\nP-082 Crocodile x1 \nWinner\nP-082 Crocodile x1 (Silver Foil + Gold Stamp) \nEntry: $10/Team \n2-on-2 Battle Rules\nA summary of the main differences from other tournament styles. \n・It’s a 2-player team battle.\n・Each team member will battle once against members of the opposing team. The team will earn points determined by the results of these battles.\n・The final ranking will be determined based on the points earned after all rounds have concluded. Teams will not be knocked out based on single battles.\n・You cannot use Leader cards that have all the same colors within the same team.\nTo help things run smoothly and enjoyably for everyone please be sure all team members read the detailed rules below before participating.
URL:https://afk.games/event/one-piece-store-2on2-battle/
LOCATION:AFK Games\, 2495 Cedar Street STE 14-B\, Holt\, MI\, 48842\, United States
CATEGORIES:Bandai,Events,One Piece TCG
ORGANIZER;CN="AFK Games":MAILTO:support@afk-games.com
END:VEVENT
BEGIN:VEVENT
DTSTART;TZID=America/Detroit:20250624T183000
DTEND;TZID=America/Detroit:20250624T213000
DTSTAMP:20260421T105154
CREATED:20250612T202802Z
LAST-MODIFIED:20250612T202802Z
UID:10004010-1750789800-1750800600@afk.games
SUMMARY:One Piece - Store 2on2 Battle
DESCRIPTION:Participation\nP-082 Crocodile x1 \nWinner\nP-082 Crocodile x1 (Silver Foil + Gold Stamp) \nEntry: $10/Team \n2-on-2 Battle Rules\nA summary of the main differences from other tournament styles. \n・It’s a 2-player team battle.\n・Each team member will battle once against members of the opposing team. The team will earn points determined by the results of these battles.\n・The final ranking will be determined based on the points earned after all rounds have concluded. Teams will not be knocked out based on single battles.\n・You cannot use Leader cards that have all the same colors within the same team.\nTo help things run smoothly and enjoyably for everyone please be sure all team members read the detailed rules below before participating.
URL:https://afk.games/event/one-piece-store-2on2-battle-2/
LOCATION:AFK Games\, 2495 Cedar Street STE 14-B\, Holt\, MI\, 48842\, United States
CATEGORIES:Bandai,Events,One Piece TCG
ORGANIZER;CN="AFK Games":MAILTO:support@afk-games.com
END:VEVENT
BEGIN:VEVENT
DTSTART;TZID=America/Detroit:20250627T183000
DTEND;TZID=America/Detroit:20250627T210000
DTSTAMP:20260421T105154
CREATED:20250405T230402Z
LAST-MODIFIED:20250405T231001Z
UID:10003924-1751049000-1751058000@afk.games
SUMMARY:Star Wars: Unlimited Casual Play
DESCRIPTION:Free entry\, play some games. Get a promo pack.
URL:https://afk.games/event/star-wars-unlimited-casual-play-2/2025-06-27/
LOCATION:AFK Games\, 2495 Cedar Street STE 14-B\, Holt\, MI\, 48842\, United States
CATEGORIES:Events,Star Wars: Unlimited
ORGANIZER;CN="AFK Games":MAILTO:support@afk-games.com
END:VEVENT
BEGIN:VEVENT
DTSTART;TZID=America/Detroit:20250628T090000
DTEND;TZID=America/Detroit:20250629T170000
DTSTAMP:20260421T105154
CREATED:20250517T203851Z
LAST-MODIFIED:20250517T203854Z
UID:10004004-1751101200-1751216400@afk.games
SUMMARY:Battle for the Capital GT 2025
DESCRIPTION:Welcome back to this year’s annual Battle for the Capital GT hosted by AFK Games in Holt\, Michigan. \nJoin our Discord for this event for rules updates\, missions updates\, questions\, model submissions\, any other important information that may come up. https://discord.gg/8vTrCBpA \nT.O. for the Event are Dylan Lake (Dlake on discord) \nTicket Cost for entry is $70 and includes lunch on both days of the event. \nWe are capped at 64 tickets total if the event fills up and you would like to join the wait list\, make sure you contact Dylan Lake (DLake on discord) to join the wait list. \nRefunds for the event ticket will be refunded if communicated on or before June 20th\, 2025. Again\, contact Dylan Lake (Dlake on discord) or the store directly Dan or Zach. \nSchedule and Missions \nDay 1:\nCheck-in – 8:00 AM – 8:45 AM\nPlayer Meeting – 8:45 AM – 9:00 AM\nRound 1 – 9:00 AM – 12:00 PM\nLunch – 12:00 PM – 1:00 PM\nRound 2 – 1:00 PM – 4:00 PM\nRound 3 – 4:15 PM – 7:15 PM \n  \nDay 2:\nCheck in – 8:30 AM – 9:00 AM\nRound 4 – 9:00 AM – 12:00 PM\nLunch – 12:00 PM – 12:45 PM\nRound 5 – 12:45 PM – 3:45 PM\nAwards – 4:00 PM \nMissions/Layouts \nDay 1 Layout 1\nRound 1 Mission A\nRound 2 Mission F\nRound 3 Mission K \nDay 2 Layout 4\nRound 4 Mission M\nRound 5 Mission J \nFull Tournament Packet:\nhttps://docs.google.com/document/d/1w8Y7IVGDTmoB0ZAl9VVdeLLazEgs4LRf
URL:https://afk.games/event/battle-for-the-capital-gt-2025/
LOCATION:AFK Games\, 2495 Cedar Street STE 14-B\, Holt\, MI\, 48842\, United States
CATEGORIES:Events,Games Workshop,Warhammer 40K
ORGANIZER;CN="AFK Games":MAILTO:support@afk-games.com
END:VEVENT
END:VCALENDAR