BEGIN:VCALENDAR
VERSION:2.0
PRODID:-//AFK Games - ECPv6.15.20//NONSGML v1.0//EN
CALSCALE:GREGORIAN
METHOD:PUBLISH
X-WR-CALNAME:AFK Games
X-ORIGINAL-URL:https://afk.games
X-WR-CALDESC:Events for AFK Games
REFRESH-INTERVAL;VALUE=DURATION:PT1H
X-Robots-Tag:noindex
X-PUBLISHED-TTL:PT1H
BEGIN:VTIMEZONE
TZID:America/Detroit
BEGIN:DAYLIGHT
TZOFFSETFROM:-0500
TZOFFSETTO:-0400
TZNAME:EDT
DTSTART:20240310T070000
END:DAYLIGHT
BEGIN:STANDARD
TZOFFSETFROM:-0400
TZOFFSETTO:-0500
TZNAME:EST
DTSTART:20241103T060000
END:STANDARD
BEGIN:DAYLIGHT
TZOFFSETFROM:-0500
TZOFFSETTO:-0400
TZNAME:EDT
DTSTART:20250309T070000
END:DAYLIGHT
BEGIN:STANDARD
TZOFFSETFROM:-0400
TZOFFSETTO:-0500
TZNAME:EST
DTSTART:20251102T060000
END:STANDARD
BEGIN:DAYLIGHT
TZOFFSETFROM:-0500
TZOFFSETTO:-0400
TZNAME:EDT
DTSTART:20260308T070000
END:DAYLIGHT
BEGIN:STANDARD
TZOFFSETFROM:-0400
TZOFFSETTO:-0500
TZNAME:EST
DTSTART:20261101T060000
END:STANDARD
END:VTIMEZONE
BEGIN:VEVENT
DTSTART;TZID=America/Detroit:20250502T183000
DTEND;TZID=America/Detroit:20250502T210000
DTSTAMP:20260421T181129
CREATED:20250405T230402Z
LAST-MODIFIED:20250405T231001Z
UID:10003916-1746210600-1746219600@afk.games
SUMMARY:Star Wars: Unlimited Casual Play
DESCRIPTION:Free entry\, play some games. Get a promo pack.
URL:https://afk.games/event/star-wars-unlimited-casual-play-2/2025-05-02/
LOCATION:AFK Games\, 2495 Cedar Street STE 14-B\, Holt\, MI\, 48842\, United States
CATEGORIES:Events,Star Wars: Unlimited
ORGANIZER;CN="AFK Games":MAILTO:support@afk-games.com
END:VEVENT
BEGIN:VEVENT
DTSTART;TZID=America/Detroit:20250503T090000
DTEND;TZID=America/Detroit:20250503T183000
DTSTAMP:20260421T181129
CREATED:20250405T234008Z
LAST-MODIFIED:20250422T212528Z
UID:10003955-1746262800-1746297000@afk.games
SUMMARY:May - Warhammer 40K RTT
DESCRIPTION:Event Info: \nEntry: $25 \nRounds: 3 \nRound time: 3 Hours \nPairing Method: Random pairings based on W/L record \nPlacings are determined by Win/Loss record\, then total battle points \nThis event will be run through BCP\, if you need help please ask for assistance prior to the list submission date. If you do not have BCP\, please download the app before the start of the event. \nThe event will be registered with ITC \nRules Packet: https://docs.google.com/document/d/1cWfpg5uKjHCuafIyGFyACmpu24gxxG5SDKTNqBZxVHE \nTickets/Registration: https://www.bestcoastpairings.com/event/9sdujKQf0R0u \nFormat: \nTables will be 44”x60”. \nITC rules and regulations. \nLists must be a maximum 2000-point strike force\, and be submitted before the list submission deadline posted above. Missions chosen from the Pariah Nexus Tournament Mission Pool. \nA ringer may be used if an odd number of players exist in any tournament round. The tournament participant will receive an automatic win for the round and however many battle points scored (minimum of 70) during that round\, will be added to their overall score. \nEvent Schedule: \n\nDoors open/Check In: 8:15 AM – 8:45 AM\nPlayer Meeting: 8:45 AM \nRound 1: 9:00 AM – 12:00 PM \nLunch: 12:00 PM – 12:45 PM \nRound 2: 12:45 PM – 3:45 PM \nRound 3: 3:50 PM – 6:50 PM\n\nEvent Deadlines: \nLists are due at 11:59 pm on the Friday before the event (May\, 2nd) \nNo new codices\, Indexes\, or points updates released after Saturday\, April\, 26th will be used. \nWith the exception of if there is a new mission pack other than Pariah Nexus \nThe latest FAQs\, as of the tournament day\, will be in effect. \nPrizes: \npay out varies based on attendance \nThe total amount of each prize will depend on the number of participants and will be awarded in-store credit. \nPrizes will be given for first\, second\, third place\, and best appearance (as voted by the players) \nPlayers can not win more than one prize. \nPainting and Models: \nThere is no painting requirement. All players will receive the 10 points for “paint” included in their score for each round. \nConverted and 3D printed models must receive approval from the TO before the list submission deadline posted above. Contact the TO at Hilla.anthony@gmail.com \nTerrain Rules & Missions \nAnnounced before the start of the round
URL:https://afk.games/event/may-warhammer-40k-rtt-2/
LOCATION:AFK Games\, 2495 Cedar Street STE 14-B\, Holt\, MI\, 48842\, United States
CATEGORIES:Events,Games Workshop,RTT,Warhammer 40K
ORGANIZER;CN="AFK Games":MAILTO:support@afk-games.com
END:VEVENT
BEGIN:VEVENT
DTSTART;TZID=America/Detroit:20250506T183000
DTEND;TZID=America/Detroit:20250506T213000
DTSTAMP:20260421T181129
CREATED:20250405T230820Z
LAST-MODIFIED:20250405T231544Z
UID:10003783-1746556200-1746567000@afk.games
SUMMARY:One Piece League - Season 6
DESCRIPTION:Schedule:\nTuesdays @ 6:30 PM\nSaturdays @ 12:30 PM\nTournament Duration: The league runs until the release of Set 10 in March 2025. The final events for this League are: \nOP11 Prerelease: May 31\, 2025\nOP11 Prerelease: June 3\, 2025\nJune 7th\, 2025 locals\nEntry Details:\nEntry Fee: $10 \nIf we are out of participation packs\, entry will be $5. \nFormat: Bo1 Swiss\, 35-minute rounds \nParticipation Prizing: 1 OP10 Pack per entry \nWinner Prizing:\n1st Place: Winner Pack\n2nd Place: Winner Pack (if 16+ players)\n3rd Place: Winner Pack (if 24+ players) \nParticipation:\nOne Tournament Pack \nFor more information please visit https://gear5.gg
URL:https://afk.games/event/one-piece-league-season-6/2025-05-06/
LOCATION:AFK Games\, 2495 Cedar Street STE 14-B\, Holt\, MI\, 48842\, United States
CATEGORIES:Bandai,Events,One Piece TCG
ORGANIZER;CN="AFK Games":MAILTO:support@afk-games.com
END:VEVENT
BEGIN:VEVENT
DTSTART;TZID=America/Detroit:20250509T183000
DTEND;TZID=America/Detroit:20250509T210000
DTSTAMP:20260421T181129
CREATED:20250405T230402Z
LAST-MODIFIED:20250405T231001Z
UID:10003917-1746815400-1746824400@afk.games
SUMMARY:Star Wars: Unlimited Casual Play
DESCRIPTION:Free entry\, play some games. Get a promo pack.
URL:https://afk.games/event/star-wars-unlimited-casual-play-2/2025-05-09/
LOCATION:AFK Games\, 2495 Cedar Street STE 14-B\, Holt\, MI\, 48842\, United States
CATEGORIES:Events,Star Wars: Unlimited
ORGANIZER;CN="AFK Games":MAILTO:support@afk-games.com
END:VEVENT
BEGIN:VEVENT
DTSTART;TZID=America/Detroit:20250510T123000
DTEND;TZID=America/Detroit:20250510T160000
DTSTAMP:20260421T181129
CREATED:20250405T231254Z
LAST-MODIFIED:20250512T231655Z
UID:10003927-1746880200-1746892800@afk.games
SUMMARY:One Piece League - Season 6
DESCRIPTION:Schedule:\nTuesdays @ 6:30 PM\nSaturdays @ 12:30 PM\nTournament Duration: The league runs until the release of Set 11 in June 2025. The final events for this League are: \nOP11 Prerelease: May 31\, 2025\nOP11 Prerelease: June 3\, 2025\nJune 7th\, 2025 locals \nEntry Details:\nEntry Fee: $10 \nIf we are out of participation packs\, entry will be $5. \nFormat: Bo1 Swiss\, 35-minute rounds \nParticipation Prizing: 1 OP10 Pack per entry \nWinner Prizing:\n1st Place: Winner Pack\n2nd Place: Winner Pack (if 16+ players)\n3rd Place: Winner Pack (if 24+ players) \nParticipation:\nOne Tournament Pack \nFor more information please visit https://gear5.gg
URL:https://afk.games/event/one-piece-league-season-6-2/2025-05-10/
LOCATION:AFK Games\, 2495 Cedar Street STE 14-B\, Holt\, MI\, 48842\, United States
CATEGORIES:Bandai,Events,One Piece TCG
ORGANIZER;CN="AFK Games":MAILTO:support@afk-games.com
END:VEVENT
BEGIN:VEVENT
DTSTART;TZID=America/Detroit:20250513T183000
DTEND;TZID=America/Detroit:20250513T213000
DTSTAMP:20260421T181129
CREATED:20250405T230820Z
LAST-MODIFIED:20250405T231544Z
UID:10003784-1747161000-1747171800@afk.games
SUMMARY:One Piece League - Season 6
DESCRIPTION:Schedule:\nTuesdays @ 6:30 PM\nSaturdays @ 12:30 PM\nTournament Duration: The league runs until the release of Set 10 in March 2025. The final events for this League are: \nOP11 Prerelease: May 31\, 2025\nOP11 Prerelease: June 3\, 2025\nJune 7th\, 2025 locals\nEntry Details:\nEntry Fee: $10 \nIf we are out of participation packs\, entry will be $5. \nFormat: Bo1 Swiss\, 35-minute rounds \nParticipation Prizing: 1 OP10 Pack per entry \nWinner Prizing:\n1st Place: Winner Pack\n2nd Place: Winner Pack (if 16+ players)\n3rd Place: Winner Pack (if 24+ players) \nParticipation:\nOne Tournament Pack \nFor more information please visit https://gear5.gg
URL:https://afk.games/event/one-piece-league-season-6/2025-05-13/
LOCATION:AFK Games\, 2495 Cedar Street STE 14-B\, Holt\, MI\, 48842\, United States
CATEGORIES:Bandai,Events,One Piece TCG
ORGANIZER;CN="AFK Games":MAILTO:support@afk-games.com
END:VEVENT
BEGIN:VEVENT
DTSTART;TZID=America/Detroit:20250516T183000
DTEND;TZID=America/Detroit:20250516T210000
DTSTAMP:20260421T181129
CREATED:20250405T230402Z
LAST-MODIFIED:20250405T231001Z
UID:10003918-1747420200-1747429200@afk.games
SUMMARY:Star Wars: Unlimited Casual Play
DESCRIPTION:Free entry\, play some games. Get a promo pack.
URL:https://afk.games/event/star-wars-unlimited-casual-play-2/2025-05-16/
LOCATION:AFK Games\, 2495 Cedar Street STE 14-B\, Holt\, MI\, 48842\, United States
CATEGORIES:Events,Star Wars: Unlimited
ORGANIZER;CN="AFK Games":MAILTO:support@afk-games.com
END:VEVENT
BEGIN:VEVENT
DTSTART;TZID=America/Detroit:20250517T103000
DTEND;TZID=America/Detroit:20250517T190000
DTSTAMP:20260421T181129
CREATED:20250405T225628Z
LAST-MODIFIED:20250405T225628Z
UID:10003776-1747477800-1747508400@afk.games
SUMMARY:May Modern RCQ - 2025-26 Round 1 (2-Slot)
DESCRIPTION:Tournament Format\nThis event will be a 2-slot RCQ for SCG CON TBA\, which means 1st and 2nd will receive an RCQ invite.  \nFormat: Modern \nWe will be playing rounds of Swiss as recommended by the tournament rules. Following the Swiss rounds\, the top 8 players overall will play in single-elimination rounds. \nTickets: https://shop.afk.games/products/may-modern-rcq-2025-26-round-1\nMelee: https://melee.gg/Tournament/View/284692\nRegistration: $30 \nTournament Schedule\nDoors will open at 9:30 am \nRegistration ends at 10:15 am.  \nThe player meeting will commence at 10:30 am with our head judge Jacob Butler \nPrizes: \n1st – 30% of Store Credit pool + Exclusive Promo + Top 8 promo + RCQ Invite \n2nd – 20% of Store Credit pool + Exclusive Promo + Top 8 promo + RCQ Invite \n3/4th – 10% of Store Credit pool + Top 8 promo \n5-8th – 7.5% of Store Credit pool + Top 8 promo \n \nThe first 64 players will receive an RCQ promo. \nStore credit prizes will be scaled with attendance. Finalized prizing amounts will be announced after the lunch break.
URL:https://afk.games/event/may-modern-rcq-2025-26-round-1-2-slot/
LOCATION:AFK Games\, 2495 Cedar Street STE 14-B\, Holt\, MI\, 48842\, United States
CATEGORIES:Events,Magic: The Gathering,Modern,RCQ
ORGANIZER;CN="AFK Games":MAILTO:support@afk-games.com
END:VEVENT
BEGIN:VEVENT
DTSTART;TZID=America/Detroit:20250517T123000
DTEND;TZID=America/Detroit:20250517T160000
DTSTAMP:20260421T181129
CREATED:20250428T185544Z
LAST-MODIFIED:20250428T185544Z
UID:10003991-1747485000-1747497600@afk.games
SUMMARY:One Piece - Store Treasure Cup 2025
DESCRIPTION:Prize List\n\nParticipation\n\nEven Pack Vol.6 x1\n\nTop 4\n\nEven Pack Vol.6 x1\n\nChampion\n\nOP08-067 Charlotte Pudding x1
URL:https://afk.games/event/one-piece-store-treasure-cup-2025/2025-05-17/
LOCATION:AFK Games\, 2495 Cedar Street STE 14-B\, Holt\, MI\, 48842\, United States
CATEGORIES:Bandai,One Piece TCG
ORGANIZER;CN="AFK Games":MAILTO:support@afk-games.com
END:VEVENT
BEGIN:VEVENT
DTSTART;TZID=America/Detroit:20250518T100000
DTEND;TZID=America/Detroit:20250518T180000
DTSTAMP:20260421T181129
CREATED:20250407T225942Z
LAST-MODIFIED:20250407T233001Z
UID:10003969-1747562400-1747591200@afk.games
SUMMARY:May the 18th be with you - Shatterpoint Tournament
DESCRIPTION:Tournament Format\n\nRounds – 3\nRound time – 120 minutes \nFormat – You CAN escape your Destiny Premiere format \n\n4 lists but you do not have to play all 4\n\n\nSoftware – Longshanks\nDoors – 9:30 am\nStart – 10:00 am\nEntry – $20\n\nLunch included with entry\n \nStandard events will use a 120-minute round timer with Mission Critical* starting at the 90-minute mark. To create a variable game length\, we will roll 5 Attack Dice\, and add one minute to the event round for each critical(B) and strike(A) result. \nIf a game has not concluded when the time for an event round runs out\, the players finish the current Turn and calculate their scores.  \n*Mission Critical rules can be found on page 4 of the (Showdown Rules) \n  \nTicket: https://shop.afk.games/products/may-the-18th-be-with-you-shatterpoint-tournament \nLongshanks: https://shatterpoint.longshanks.org/event/24844/ \nStrike Team Selection\n\nEach player will bring their Strike Team that is in line with the current rules\, errata\, and FAQ\n\nhttps://www.atomicmassgames.com/shatterpoint \nPainting and Basing\n\nAll models must be based on their current base size. Official Base Size pdf\nPainting is not required.\n\nPlayer Responsibilities\nWe will follow the player responsibilities listed in the Star Wars: Shatterpoint rules pdf (including the following: \n\nMiniatures \nCards\nDice\nMeasuring Tools\nTokens\nStrike Team\nSportsmanship\n\n  \nPlayers are also responsible for conducting themselves in an appropriate\, sportsmanlike manner at all times.
URL:https://afk.games/event/may-the-18th-be-with-you-shatterpoint-tournament/
LOCATION:AFK Games\, 2495 Cedar Street STE 14-B\, Holt\, MI\, 48842\, United States
CATEGORIES:Atomic Mass Games,Events,Star Wars: Shatterpoint
ORGANIZER;CN="AFK Games":MAILTO:support@afk-games.com
END:VEVENT
BEGIN:VEVENT
DTSTART;TZID=America/Detroit:20250518T120000
DTEND;TZID=America/Detroit:20250518T170000
DTSTAMP:20260421T181129
CREATED:20250506T170139Z
LAST-MODIFIED:20250506T170235Z
UID:10003998-1747569600-1747587600@afk.games
SUMMARY:Tarkir: Dragonstorm Commander Party
DESCRIPTION:Make sure to sign in and receive a promo! While supplies last.
URL:https://afk.games/event/tarkir-dragonstorm-commander-party/2025-05-18/
LOCATION:AFK Games\, 2495 Cedar Street STE 14-B\, Holt\, MI\, 48842\, United States
CATEGORIES:Commander,Events,Magic: The Gathering
ORGANIZER;CN="AFK Games":MAILTO:support@afk-games.com
END:VEVENT
BEGIN:VEVENT
DTSTART;TZID=America/Detroit:20250518T123000
DTEND;TZID=America/Detroit:20250518T170000
DTSTAMP:20260421T181129
CREATED:20250506T162740Z
LAST-MODIFIED:20250506T162740Z
UID:10003997-1747571400-1747587600@afk.games
SUMMARY:Grand Archive Store Championship
DESCRIPTION:Omnidex Link:\nhttps://omni.gatcg.com/events/22136 \nEntry: $10\nStart: 12:30 pm\nSwiss rounds\, No Top Cut\nDecklists required \n 
URL:https://afk.games/event/grand-archive-store-championship/
LOCATION:AFK Games\, 2495 Cedar Street STE 14-B\, Holt\, MI\, 48842\, United States
CATEGORIES:Events,Grand Archive
ORGANIZER;CN="AFK Games":MAILTO:support@afk-games.com
END:VEVENT
BEGIN:VEVENT
DTSTART;TZID=America/Detroit:20250519T170000
DTEND;TZID=America/Detroit:20250519T220000
DTSTAMP:20260421T181129
CREATED:20250506T170139Z
LAST-MODIFIED:20250506T170235Z
UID:10003999-1747674000-1747692000@afk.games
SUMMARY:Tarkir: Dragonstorm Commander Party
DESCRIPTION:Make sure to sign in and receive a promo! While supplies last.
URL:https://afk.games/event/tarkir-dragonstorm-commander-party/2025-05-19/
LOCATION:AFK Games\, 2495 Cedar Street STE 14-B\, Holt\, MI\, 48842\, United States
CATEGORIES:Commander,Events,Magic: The Gathering
ORGANIZER;CN="AFK Games":MAILTO:support@afk-games.com
END:VEVENT
BEGIN:VEVENT
DTSTART;TZID=America/Detroit:20250520T183000
DTEND;TZID=America/Detroit:20250520T213000
DTSTAMP:20260421T181129
CREATED:20250428T185544Z
LAST-MODIFIED:20250428T185544Z
UID:10003992-1747765800-1747776600@afk.games
SUMMARY:One Piece - Store Treasure Cup 2025
DESCRIPTION:Prize List\n\nParticipation\n\nEven Pack Vol.6 x1\n\nTop 4\n\nEven Pack Vol.6 x1\n\nChampion\n\nOP08-067 Charlotte Pudding x1
URL:https://afk.games/event/one-piece-store-treasure-cup-2025/2025-05-20/
LOCATION:AFK Games\, 2495 Cedar Street STE 14-B\, Holt\, MI\, 48842\, United States
CATEGORIES:Bandai,One Piece TCG
ORGANIZER;CN="AFK Games":MAILTO:support@afk-games.com
END:VEVENT
BEGIN:VEVENT
DTSTART;TZID=America/Detroit:20250523T183000
DTEND;TZID=America/Detroit:20250523T210000
DTSTAMP:20260421T181129
CREATED:20250405T230402Z
LAST-MODIFIED:20250405T231001Z
UID:10003919-1748025000-1748034000@afk.games
SUMMARY:Star Wars: Unlimited Casual Play
DESCRIPTION:Free entry\, play some games. Get a promo pack.
URL:https://afk.games/event/star-wars-unlimited-casual-play-2/2025-05-23/
LOCATION:AFK Games\, 2495 Cedar Street STE 14-B\, Holt\, MI\, 48842\, United States
CATEGORIES:Events,Star Wars: Unlimited
ORGANIZER;CN="AFK Games":MAILTO:support@afk-games.com
END:VEVENT
BEGIN:VEVENT
DTSTART;TZID=America/Detroit:20250524T100000
DTEND;TZID=America/Detroit:20250524T190000
DTSTAMP:20260421T181129
CREATED:20250314T000734Z
LAST-MODIFIED:20250405T224954Z
UID:10003772-1748080800-1748113200@afk.games
SUMMARY:Archazia's Island Set Championship
DESCRIPTION:TOURNAMENT DETAILS\n\nWe will be following the recommended number of rounds in the Archazia’s Island Championship instructions.  \n  \nFormat: Core (Constructed) \nStructure: Swiss Rounds and possible Top Cut\, depending on attendance \nSwiss Rounds: 55 minutes – best-of-three \n  \nTop Cut Rounds: \nBest-of-three format \n70 minutes\, Top 8 and Top 4 Rounds \nUntimed Final Round \n  \nYou can pre-register on melee.gg\nhttps://melee.gg/Tournament/View/267059\n \nor pay in-store and be added to the event manually. \nPrize Pool: \n100% of the entry into the championship goes into the prize pool. \n  \nPrize pool Breakdown: \n80% of the prize pool will be awarded as store credit to Top Cut players \n20% of the prize pool will be awarded as raffle doorprizes \n  \nTop Cut prizing\nIf cut is Top 4 \nChampion: \n30% of the prize pool \n1 Hiro Hamada – Armor Designer Champion playmat  \n1 Hiro Hamada – Armor Designer foil promo card \nRunner-Up:  \n20% of the prize pool \n1 Hiro Hamada – Armor Designer Champion playmat  \n1 Hiro Hamada – Armor Designer foil promo card \n3rd/4th place:  \n15% of prize pool each  \n1 Hiro Hamada – Armor Designer foil promo card \n5th-8th place  \n1 Hiro Hamada – Armor Designer foil promo card \n  \nIf cut is Top 8\nChampion: \n20% of the prize pool \n1 Hiro Hamada – Armor Designer Champion playmat  \n1 Hiro Hamada – Armor Designer foil promo card \nRunner-Up:  \n15% of the prize pool \n1 Hiro Hamada – Armor Designer Champion playmat  \n1 Hiro Hamada – Armor Designer foil promo card \n3rd/4th place:  \n10% of prize pool each  \n1 Hiro Hamada – Armor Designer foil promo card \n5th-8th place \n8.75% of the prize pool each \n1 Hiro Hamada – Armor Designer foil promo card
URL:https://afk.games/event/archazias-island-set-championship/
LOCATION:AFK Games\, 2495 Cedar Street STE 14-B\, Holt\, MI\, 48842\, United States
CATEGORIES:Events,Lorcana,Ravensburger
ORGANIZER;CN="AFK Games":MAILTO:support@afk-games.com
END:VEVENT
BEGIN:VEVENT
DTSTART;TZID=America/Detroit:20250524T113000
DTEND;TZID=America/Detroit:20250524T170000
DTSTAMP:20260421T181129
CREATED:20250428T185238Z
LAST-MODIFIED:20250428T185238Z
UID:10003990-1748086200-1748106000@afk.games
SUMMARY:Warhammer 40K - 1000 Point Tournament
DESCRIPTION:Event Info: \n\nEntry: $20\nRounds: 3\nRound time: 90 Minutes + 10 minutes for round setup \nPairing Method: Random pairings based on W/L record\nThis event will be run through BCP\, if you need help please ask for assistance. If you do not have BCP\, please download the app before the start of the event. \n\nTicket: \nhttps://www.bestcoastpairings.com/event/jQAGpoI84PYv \nFormat: \n\nTables will be 44”x60”. \nLists must be a maximum 1000-point list.\nMissions chosen from the Pariah Nexus Tournament Mission Pool.\n\nEvent Schedule: \n\nDoors open/Check In: 11:00 AM\nRound 1: 11:00 AM\n\nEvent Deadlines: \n\nThe latest FAQs\, as of the tournament day\, will be in effect.  \n\nPrizes:  \n\nEntry awards 1 raffle ticket for the 1000 point Aldari Army \n\nTickets for additional raffles determined by attendance\, players will be able to receive tickets the following ways: \n\nPlaying a game earns 1 ticket\nWinning a game earn 1 ticket\n\nPainting and Models: \n\nThere is no painting requirement.  All players will receive a raffle ticket for be fully painted though.\n\n  \nAeldari Army Prize: \n1 box baharroth\n1 box lhykhis\n1 box guardians defenders\n1 box fire dragons\n2 boxes swooping hawks\n1 box war walkers\n2 boxes warp spiders\n1 codex \n  \nRound 1 Mission: Hammer and Anvil / Take and Hold / Raise Banners \nRound 2 Mission: Crucible of Battle / Linchpin / Adapt or Die \nRound 3 Mission: Search and Destroy / Supply Drop / Fog of War \nTerrain Layouts: Pariah Nexus Terrain layouts 1\,2\,4
URL:https://afk.games/event/warhammer-40k-1000-point-tournament-3/
LOCATION:AFK Games\, 2495 Cedar Street STE 14-B\, Holt\, MI\, 48842\, United States
CATEGORIES:Events,Games Workshop,Warhammer 40K
ORGANIZER;CN="AFK Games":MAILTO:support@afk-games.com
END:VEVENT
BEGIN:VEVENT
DTSTART;TZID=America/Detroit:20250524T123000
DTEND;TZID=America/Detroit:20250524T160000
DTSTAMP:20260421T181129
CREATED:20250405T231254Z
LAST-MODIFIED:20250512T231655Z
UID:10003929-1748089800-1748102400@afk.games
SUMMARY:One Piece League - Season 6
DESCRIPTION:Schedule:\nTuesdays @ 6:30 PM\nSaturdays @ 12:30 PM\nTournament Duration: The league runs until the release of Set 11 in June 2025. The final events for this League are: \nOP11 Prerelease: May 31\, 2025\nOP11 Prerelease: June 3\, 2025\nJune 7th\, 2025 locals \nEntry Details:\nEntry Fee: $10 \nIf we are out of participation packs\, entry will be $5. \nFormat: Bo1 Swiss\, 35-minute rounds \nParticipation Prizing: 1 OP10 Pack per entry \nWinner Prizing:\n1st Place: Winner Pack\n2nd Place: Winner Pack (if 16+ players)\n3rd Place: Winner Pack (if 24+ players) \nParticipation:\nOne Tournament Pack \nFor more information please visit https://gear5.gg
URL:https://afk.games/event/one-piece-league-season-6-2/2025-05-24/
LOCATION:AFK Games\, 2495 Cedar Street STE 14-B\, Holt\, MI\, 48842\, United States
CATEGORIES:Bandai,Events,One Piece TCG
ORGANIZER;CN="AFK Games":MAILTO:support@afk-games.com
END:VEVENT
BEGIN:VEVENT
DTSTART;TZID=America/Detroit:20250527T183000
DTEND;TZID=America/Detroit:20250527T213000
DTSTAMP:20260421T181129
CREATED:20250405T230820Z
LAST-MODIFIED:20250405T231544Z
UID:10003786-1748370600-1748381400@afk.games
SUMMARY:One Piece League - Season 6
DESCRIPTION:Schedule:\nTuesdays @ 6:30 PM\nSaturdays @ 12:30 PM\nTournament Duration: The league runs until the release of Set 10 in March 2025. The final events for this League are: \nOP11 Prerelease: May 31\, 2025\nOP11 Prerelease: June 3\, 2025\nJune 7th\, 2025 locals\nEntry Details:\nEntry Fee: $10 \nIf we are out of participation packs\, entry will be $5. \nFormat: Bo1 Swiss\, 35-minute rounds \nParticipation Prizing: 1 OP10 Pack per entry \nWinner Prizing:\n1st Place: Winner Pack\n2nd Place: Winner Pack (if 16+ players)\n3rd Place: Winner Pack (if 24+ players) \nParticipation:\nOne Tournament Pack \nFor more information please visit https://gear5.gg
URL:https://afk.games/event/one-piece-league-season-6/2025-05-27/
LOCATION:AFK Games\, 2495 Cedar Street STE 14-B\, Holt\, MI\, 48842\, United States
CATEGORIES:Bandai,Events,One Piece TCG
ORGANIZER;CN="AFK Games":MAILTO:support@afk-games.com
END:VEVENT
BEGIN:VEVENT
DTSTART;TZID=America/Detroit:20250530T183000
DTEND;TZID=America/Detroit:20250530T210000
DTSTAMP:20260421T181129
CREATED:20250405T230402Z
LAST-MODIFIED:20250405T231001Z
UID:10003920-1748629800-1748638800@afk.games
SUMMARY:Star Wars: Unlimited Casual Play
DESCRIPTION:Free entry\, play some games. Get a promo pack.
URL:https://afk.games/event/star-wars-unlimited-casual-play-2/2025-05-30/
LOCATION:AFK Games\, 2495 Cedar Street STE 14-B\, Holt\, MI\, 48842\, United States
CATEGORIES:Events,Star Wars: Unlimited
ORGANIZER;CN="AFK Games":MAILTO:support@afk-games.com
END:VEVENT
BEGIN:VEVENT
DTSTART;TZID=America/Detroit:20250531T123000
DTEND;TZID=America/Detroit:20250531T160000
DTSTAMP:20260421T181129
CREATED:20250512T232025Z
LAST-MODIFIED:20250512T232028Z
UID:10004001-1748694600-1748707200@afk.games
SUMMARY:One Piece - OP 11 Release Event (A Fist of Divine Speed)
DESCRIPTION:One Piece Card Game – “A Fist of Divine Speed” Release Event Ticket \nEntry: $35 \nEvent Dates:\nSaturday\, May 31st\, 2025 @ 12:30 PM\nTuesday\, June 3rd\, 2025 @ 6:30 PM \nJoin us for the A Fist of Divine Speed Release Event and be among the first to experience the latest One Piece Card Game set in an exciting Sealed format tournament! Build your own leader you bring or use the provided 6 color Luffy Promo. \nEvent Format:\nSealed Deck using 6x OP-11 Booster Packs\nAll players receive the same participation prizing\, with an exclusive winner bonus \nParticipation Prizing (Included with Entry):\n6x A Fist of Divine Speed Booster Packs (used to build your deck)\n2x Extra Booster Packs (given after completing all rounds)\n1x P-081 Dracule Mihawk Promo Card\n1x OP-11 Leader Card\n1x OP-11 Release Event Pack \nWinner Bonus Prize:\n1x P-081 Dracule Mihawk (Silver Foil + Gold Stamp) \nSpots are limited—Maximum of 64 players per event. You can register in Bandai TCG+ starting on May 16th!
URL:https://afk.games/event/one-piece-op-11-release-event-a-fist-of-divine-speed/2025-05-31/
LOCATION:AFK Games\, 2495 Cedar Street STE 14-B\, Holt\, MI\, 48842\, United States
CATEGORIES:Bandai,Events,One Piece TCG
ORGANIZER;CN="AFK Games":MAILTO:support@afk-games.com
END:VEVENT
END:VCALENDAR