BEGIN:VCALENDAR
VERSION:2.0
PRODID:-//AFK Games - ECPv6.15.20//NONSGML v1.0//EN
CALSCALE:GREGORIAN
METHOD:PUBLISH
X-ORIGINAL-URL:https://afk.games
X-WR-CALDESC:Events for AFK Games
REFRESH-INTERVAL;VALUE=DURATION:PT1H
X-Robots-Tag:noindex
X-PUBLISHED-TTL:PT1H
BEGIN:VTIMEZONE
TZID:America/Detroit
BEGIN:DAYLIGHT
TZOFFSETFROM:-0500
TZOFFSETTO:-0400
TZNAME:EDT
DTSTART:20240310T070000
END:DAYLIGHT
BEGIN:STANDARD
TZOFFSETFROM:-0400
TZOFFSETTO:-0500
TZNAME:EST
DTSTART:20241103T060000
END:STANDARD
BEGIN:DAYLIGHT
TZOFFSETFROM:-0500
TZOFFSETTO:-0400
TZNAME:EDT
DTSTART:20250309T070000
END:DAYLIGHT
BEGIN:STANDARD
TZOFFSETFROM:-0400
TZOFFSETTO:-0500
TZNAME:EST
DTSTART:20251102T060000
END:STANDARD
BEGIN:DAYLIGHT
TZOFFSETFROM:-0500
TZOFFSETTO:-0400
TZNAME:EDT
DTSTART:20260308T070000
END:DAYLIGHT
BEGIN:STANDARD
TZOFFSETFROM:-0400
TZOFFSETTO:-0500
TZNAME:EST
DTSTART:20261101T060000
END:STANDARD
END:VTIMEZONE
BEGIN:VEVENT
DTSTART;TZID=America/Detroit:20250301T123000
DTEND;TZID=America/Detroit:20250301T160000
DTSTAMP:20260421T235732
CREATED:20241220T015105Z
LAST-MODIFIED:20250125T212110Z
UID:10003283-1740832200-1740844800@afk.games
SUMMARY:One Piece Card Game - OP-09 League
DESCRIPTION:League Information\nSchedule:\nTuesdays @ 6:30 pm\nSaturdays @ 12:30 pm \nTournament Duration: The league lasts until the release of set 10 (March 2025) the final events for this League are the two OP10 Prereleases on 3/15/25 and 3/18/25. \nEntry Fee: $10 \nIf we are out of participation packs\, entry will be $5 \nFormat: Bo1 Swiss 35 min rounds \nEntry: 1 OP09 Pack \nPrizing:\n1st – Winner pack\n2nd – Winner pack (at 16+ players)\nTop 16 – one tournament pack \n$6 Per head will be used to build the league pot – This pot will be distributed to the top 25% per ranking leaderboard at the end of the league season (OP10 + Other goodies in prize pool) \nPrizing subject to change \nFor current leaderboard status please check https://gear5.gg/leaderboard\nor\nDiscord: Discord in the #Leaderboard channel under the One Piece category (The discord bot only updates every 12 hours)
URL:https://afk.games/event/one-piece-card-game-op-09-league/2025-03-01/
LOCATION:AFK Games\, 2495 Cedar Street STE 14-B\, Holt\, MI\, 48842\, United States
CATEGORIES:Bandai,Events,One Piece TCG
ORGANIZER;CN="AFK Games":MAILTO:support@afk-games.com
END:VEVENT
BEGIN:VEVENT
DTSTART;TZID=America/Detroit:20250301T123000
DTEND;TZID=America/Detroit:20250301T200000
DTSTAMP:20260421T235732
CREATED:20250108T194543Z
LAST-MODIFIED:20250208T235621Z
UID:10003483-1740832200-1740859200@afk.games
SUMMARY:MTG CEDH Tournament - $1500+ in prizes
DESCRIPTION:Join us for our first-ever Competitive EDH (CEDH) Tournament with over $1\,500 in prizes up for grabs! \nEvent Prizing\nFormat: CEDH (follows Topdeck League rules)\nDate: March 1st \nNote: This is a 100% proxy friendly event. \nSchedule:\nDoors open: 12:00 PM\nSign-in closes: 12:30 PM\nRound 1 begins shortly after \nPrizing\n1st Place: Revised Volcanic Island – (Upgraded from a Tropical Island)\n2nd Place: Revised Badlands\n3rd Place: Revised Taiga\n4th Place: Double Masters Showcase Foil Chrome Mox \nPrizes increase with higher attendance—bring your friends and compete for even more rewards! \nDon’t miss your chance to test your skills and win incredible prizes. We can’t wait to see you there! \nFor questions or additional information\, feel free to contact us at the following places.\nEmail: support@afk-games.com\nPhone: 517-694-7328
URL:https://afk.games/event/mtg-cedh-tournament-1500-in-prizes/
LOCATION:AFK Games\, 2495 Cedar Street STE 14-B\, Holt\, MI\, 48842\, United States
CATEGORIES:Commander,Events,Magic: The Gathering
ORGANIZER;CN="AFK Games":MAILTO:support@afk-games.com
END:VEVENT
BEGIN:VEVENT
DTSTART;TZID=America/Detroit:20250304T183000
DTEND;TZID=America/Detroit:20250304T210000
DTSTAMP:20260421T235732
CREATED:20241220T015415Z
LAST-MODIFIED:20241220T015415Z
UID:10003293-1741113000-1741122000@afk.games
SUMMARY:One Piece Card Game - OP-09 League
DESCRIPTION:League Information\nSchedule:\nTuesdays @ 6:30 pm\nSaturdays @ 12:30 pm \nTournament Duration: The league lasts until the release of set 10 (March 2025) the final events for this League are the two OP10 Prereleases on 3/15/25 and 3/18/25. \nEntry Fee: $10 \nIf we are out of participation packs\, entry will be $5 \nFormat: Bo1 Swiss 35 min rounds \nEntry: 1 OP09 Pack \nPrizing:\n1st – Winner pack\n2nd – Winner pack (at 16+ players)\nTop 16 – one tournament pack \n$6 Per head will be used to build the league pot – This pot will be distributed to the top 25% per ranking leaderboard at the end of the league season (OP10 + Other goodies in prize pool) \nPrizing subject to change \nFor current leaderboard status please check https://gear5.gg/leaderboard\nor\nDiscord: Discord in the #Leaderboard channel under the One Piece category (The discord bot only updates every 12 hours
URL:https://afk.games/event/one-piece-card-game-op-09-league-2/2025-03-04/
LOCATION:AFK Games\, 2495 Cedar Street STE 14-B\, Holt\, MI\, 48842\, United States
CATEGORIES:Bandai,Events,One Piece TCG
ORGANIZER;CN="AFK Games":MAILTO:support@afk-games.com
END:VEVENT
BEGIN:VEVENT
DTSTART;TZID=America/Detroit:20250304T183000
DTEND;TZID=America/Detroit:20250304T210000
DTSTAMP:20260421T235732
CREATED:20250209T013946Z
LAST-MODIFIED:20250209T014215Z
UID:10003502-1741113000-1741122000@afk.games
SUMMARY:Star Wars: Unlimited Casual Play
DESCRIPTION:Free entry\, play some games. Get a promo pack.
URL:https://afk.games/event/star-wars-unlimited-casual-play/2025-03-04/
LOCATION:AFK Games\, 2495 Cedar Street STE 14-B\, Holt\, MI\, 48842\, United States
CATEGORIES:Events,Star Wars: Unlimited
ORGANIZER;CN="AFK Games":MAILTO:support@afk-games.com
END:VEVENT
BEGIN:VEVENT
DTSTART;TZID=America/Detroit:20250307T183000
DTEND;TZID=America/Detroit:20250307T223000
DTSTAMP:20260421T235732
CREATED:20250226T181139Z
LAST-MODIFIED:20250226T181139Z
UID:10003767-1741372200-1741386600@afk.games
SUMMARY:Star Wars Unlimited Jump to Lightspeed Prerelease
DESCRIPTION:Join us for our Prerelease event on March 7th at 6:30 pm!\nRounds: 3\nDeck Construction: 30 minutes\nRounds: 3\nRound time: 25 Minutes\nFormat: Best of One – Sealed Dec
URL:https://afk.games/event/star-wars-unlimited-jump-to-lightspeed-prerelease/
LOCATION:AFK Games\, 2495 Cedar Street STE 14-B\, Holt\, MI\, 48842\, United States
CATEGORIES:Events,Star Wars: Unlimited
ORGANIZER;CN="AFK Games":MAILTO:support@afk-games.com
END:VEVENT
BEGIN:VEVENT
DTSTART;TZID=America/Detroit:20250308T090000
DTEND;TZID=America/Detroit:20250308T200000
DTSTAMP:20260421T235732
CREATED:20250109T220031Z
LAST-MODIFIED:20250109T220325Z
UID:10003484-1741424400-1741464000@afk.games
SUMMARY:40K Team RTT
DESCRIPTION:EVENT INFORMATION \nEntry: $75 per team \nRounds: 3 \nRound time: 3 Hours \nTeam Pairing Method: Random pairings for Round 1. Swiss Pairings for Round 2 and 3. \nPlacings are determined by Win/Loss record\, then total game points \nTickets: \nThis event will be run through BCP\, if you need help please ask for assistance prior to the list submission date. If you do not have BCP\, please download the app before the start of the event. \nThe event will be registered with ITC. \nEVENT SCHEDULE \nCheck In: 8:25 AM – 8:45AM \nPlayer Meeting: 8:45 AM \nRound 1: 9:00 AM – 12:15 PM \nLunch: 12:15 PM – 1:15PM \nRound 2: 1:15 PM – 3:30 PM \nRound 3: 3:45 PM – 6:45 PM \nEVENT DEADLINES \nLists are due at 11:59 pm on the Tuesday before the event (March 4th) \nNo new codices\, Indexes\, or points updates released after Saturday\, March 1st will be used. \nThe latest FAQs\, as of the tournament day\, will be in effect. \nPRIZES \n90% of the entry fees go into the prize pool. \nThe total amount of each prize will depend on the number of participants and will be awarded in-store credit. \nPrizes will be given for first\, second\, third place\, and best appearance/theme/team spirit (as voted by the players) \nTeams can not win more than one prize.
URL:https://afk.games/event/40k-atc-team-rtt/
LOCATION:AFK Games\, 2495 Cedar Street STE 14-B\, Holt\, MI\, 48842\, United States
CATEGORIES:Events,Games Workshop,RTT,Warhammer 40K
ORGANIZER;CN="AFK Games":MAILTO:support@afk-games.com
END:VEVENT
BEGIN:VEVENT
DTSTART;TZID=America/Detroit:20250308T123000
DTEND;TZID=America/Detroit:20250308T160000
DTSTAMP:20260421T235732
CREATED:20241220T015105Z
LAST-MODIFIED:20250125T212110Z
UID:10003284-1741437000-1741449600@afk.games
SUMMARY:One Piece Card Game - OP-09 League
DESCRIPTION:League Information\nSchedule:\nTuesdays @ 6:30 pm\nSaturdays @ 12:30 pm \nTournament Duration: The league lasts until the release of set 10 (March 2025) the final events for this League are the two OP10 Prereleases on 3/15/25 and 3/18/25. \nEntry Fee: $10 \nIf we are out of participation packs\, entry will be $5 \nFormat: Bo1 Swiss 35 min rounds \nEntry: 1 OP09 Pack \nPrizing:\n1st – Winner pack\n2nd – Winner pack (at 16+ players)\nTop 16 – one tournament pack \n$6 Per head will be used to build the league pot – This pot will be distributed to the top 25% per ranking leaderboard at the end of the league season (OP10 + Other goodies in prize pool) \nPrizing subject to change \nFor current leaderboard status please check https://gear5.gg/leaderboard\nor\nDiscord: Discord in the #Leaderboard channel under the One Piece category (The discord bot only updates every 12 hours)
URL:https://afk.games/event/one-piece-card-game-op-09-league/2025-03-08/
LOCATION:AFK Games\, 2495 Cedar Street STE 14-B\, Holt\, MI\, 48842\, United States
CATEGORIES:Bandai,Events,One Piece TCG
ORGANIZER;CN="AFK Games":MAILTO:support@afk-games.com
END:VEVENT
BEGIN:VEVENT
DTSTART;TZID=America/Detroit:20250311T183000
DTEND;TZID=America/Detroit:20250311T210000
DTSTAMP:20260421T235732
CREATED:20241220T015415Z
LAST-MODIFIED:20241220T015415Z
UID:10003294-1741717800-1741726800@afk.games
SUMMARY:One Piece Card Game - OP-09 League
DESCRIPTION:League Information\nSchedule:\nTuesdays @ 6:30 pm\nSaturdays @ 12:30 pm \nTournament Duration: The league lasts until the release of set 10 (March 2025) the final events for this League are the two OP10 Prereleases on 3/15/25 and 3/18/25. \nEntry Fee: $10 \nIf we are out of participation packs\, entry will be $5 \nFormat: Bo1 Swiss 35 min rounds \nEntry: 1 OP09 Pack \nPrizing:\n1st – Winner pack\n2nd – Winner pack (at 16+ players)\nTop 16 – one tournament pack \n$6 Per head will be used to build the league pot – This pot will be distributed to the top 25% per ranking leaderboard at the end of the league season (OP10 + Other goodies in prize pool) \nPrizing subject to change \nFor current leaderboard status please check https://gear5.gg/leaderboard\nor\nDiscord: Discord in the #Leaderboard channel under the One Piece category (The discord bot only updates every 12 hours
URL:https://afk.games/event/one-piece-card-game-op-09-league-2/2025-03-11/
LOCATION:AFK Games\, 2495 Cedar Street STE 14-B\, Holt\, MI\, 48842\, United States
CATEGORIES:Bandai,Events,One Piece TCG
ORGANIZER;CN="AFK Games":MAILTO:support@afk-games.com
END:VEVENT
BEGIN:VEVENT
DTSTART;TZID=America/Detroit:20250311T183000
DTEND;TZID=America/Detroit:20250311T210000
DTSTAMP:20260421T235732
CREATED:20250209T013946Z
LAST-MODIFIED:20250209T014215Z
UID:10003503-1741717800-1741726800@afk.games
SUMMARY:Star Wars: Unlimited Casual Play
DESCRIPTION:Free entry\, play some games. Get a promo pack.
URL:https://afk.games/event/star-wars-unlimited-casual-play/2025-03-11/
LOCATION:AFK Games\, 2495 Cedar Street STE 14-B\, Holt\, MI\, 48842\, United States
CATEGORIES:Events,Star Wars: Unlimited
ORGANIZER;CN="AFK Games":MAILTO:support@afk-games.com
END:VEVENT
BEGIN:VEVENT
DTSTART;TZID=America/Detroit:20250315T110000
DTEND;TZID=America/Detroit:20250315T183000
DTSTAMP:20260421T235732
CREATED:20250207T015717Z
LAST-MODIFIED:20250207T015717Z
UID:10003499-1742036400-1742063400@afk.games
SUMMARY:Star Wars: Legion Team tournament
DESCRIPTION:EVENT INFORMATION \n\nEntry: Free\nRounds: 2\nRound time: 3.5 Hours \nTeam Pairing Method: Random pairings for Rounds\nTournament packet:\nhttps://docs.google.com/document/d/1xmKtAnSoQ5tcAxqmMVpbYV9IB3esyLfatJ9fOImd5GM
URL:https://afk.games/event/star-wars-legion-team-tournament/
LOCATION:AFK Games\, 2495 Cedar Street STE 14-B\, Holt\, MI\, 48842\, United States
CATEGORIES:Atomic Mass Games,Events,Star Wars: Legion
ORGANIZER;CN="AFK Games":MAILTO:support@afk-games.com
END:VEVENT
BEGIN:VEVENT
DTSTART;TZID=America/Detroit:20250315T123000
DTEND;TZID=America/Detroit:20250315T160000
DTSTAMP:20260421T235732
CREATED:20250122T215547Z
LAST-MODIFIED:20250226T191939Z
UID:10003486-1742041800-1742054400@afk.games
SUMMARY:One Piece - Royal Blood Release Event
DESCRIPTION:Entry is $35 \nPlayers will get 6 booster packs to construct a sealed deck and play in a swiss tournament. \n$6 of the entry will be added to the league prize pool \nEvent will be updated with more information regarding participation promos\, and winner promos closer to release when more information is given to us from Bandai. \n<Participation>\n-Two Booster Packs\n– P-084 Buggy\n– P-086 Trafalgar Law\n– OP-10 Release Event Pack \n<Winner>\n– P-084 Buggy (Silver Foil + Gold Stamp) \nThese events are the last events in the current season of the One Piece Card Game League!
URL:https://afk.games/event/one-piece-royal-blood-release-event/
LOCATION:AFK Games\, 2495 Cedar Street STE 14-B\, Holt\, MI\, 48842\, United States
CATEGORIES:Bandai,Events,One Piece TCG
ORGANIZER;CN="AFK Games":MAILTO:support@afk-games.com
END:VEVENT
BEGIN:VEVENT
DTSTART;TZID=America/Detroit:20250316T100000
DTEND;TZID=America/Detroit:20250316T170000
DTSTAMP:20260421T235732
CREATED:20250213T200625Z
LAST-MODIFIED:20250304T191847Z
UID:10003763-1742119200-1742144400@afk.games
SUMMARY:Marvel: Crisis Protocol Tourament
DESCRIPTION:Tournament Format\n\nRounds – 3\nRound time – 90 minutes + 15 minutes to finish the current round\nFormat – Standard Timeline (2025 Timeline)\nSoftware – Longshanks\nDoors – 9:30 AM\nStart – 10:00 AM\nEntry – $10\n\n\nOnce time is called\, players will have 15 minutes to finish the current round. After 15 minutes\, players will score VP and finish the match.\n \nPrizes\nRaffle prizes \n\nWin a Game – 1 Ticket \nPlay a Game – 1 Ticket \nFully painted roster – 1 Ticket  \nBe ready 15 minutes before the start of round 1 – 1 Ticket
URL:https://afk.games/event/marvel-crisis-protocol-tourament/
LOCATION:AFK Games\, 2495 Cedar Street STE 14-B\, Holt\, MI\, 48842\, United States
CATEGORIES:Atomic Mass Games,Events,Marvel: Crisis Protocol
ORGANIZER;CN="AFK Games":MAILTO:support@afk-games.com
END:VEVENT
BEGIN:VEVENT
DTSTART;TZID=America/Detroit:20250318T183000
DTEND;TZID=America/Detroit:20250318T210000
DTSTAMP:20260421T235732
CREATED:20250209T013946Z
LAST-MODIFIED:20250209T014215Z
UID:10003504-1742322600-1742331600@afk.games
SUMMARY:Star Wars: Unlimited Casual Play
DESCRIPTION:Free entry\, play some games. Get a promo pack.
URL:https://afk.games/event/star-wars-unlimited-casual-play/2025-03-18/
LOCATION:AFK Games\, 2495 Cedar Street STE 14-B\, Holt\, MI\, 48842\, United States
CATEGORIES:Events,Star Wars: Unlimited
ORGANIZER;CN="AFK Games":MAILTO:support@afk-games.com
END:VEVENT
BEGIN:VEVENT
DTSTART;TZID=America/Detroit:20250318T183000
DTEND;TZID=America/Detroit:20250318T213000
DTSTAMP:20260421T235732
CREATED:20250122T215730Z
LAST-MODIFIED:20250226T191955Z
UID:10003487-1742322600-1742333400@afk.games
SUMMARY:One Piece - Royal Blood Release Event
DESCRIPTION:Entry is $35 \nPlayers will get 6 booster packs to construct a sealed deck and play in a swiss tournament. \n$6 of the entry will be added to the league prize pool \nEvent will be updated with more information regarding participation promos\, and winner promos closer to release when more information is given to us from Bandai. \n<Participation>\n-Two Booster Packs\n– P-084 Buggy\n– P-086 Trafalgar Law\n– OP-10 Release Event Pack \n<Winner>\n– P-084 Buggy (Silver Foil + Gold Stamp) \nThese events are the last events in the current season of the One Piece Card Game League!
URL:https://afk.games/event/one-piece-royal-blood-release-event-2/
LOCATION:AFK Games\, 2495 Cedar Street STE 14-B\, Holt\, MI\, 48842\, United States
CATEGORIES:Bandai,Events,One Piece TCG
ORGANIZER;CN="AFK Games":MAILTO:support@afk-games.com
END:VEVENT
BEGIN:VEVENT
DTSTART;TZID=America/Detroit:20250322T120000
DTEND;TZID=America/Detroit:20250322T170000
DTSTAMP:20260421T235732
CREATED:20250218T174152Z
LAST-MODIFIED:20250218T174152Z
UID:10003764-1742644800-1742662800@afk.games
SUMMARY:Blazing Beyblade Blitz
DESCRIPTION:3/22/25 \n$10 Entry Fee paid to AFK Games \nVenue: AFK Games\, 2495 N Cedar St STE 14B\, Holt\, MI 48842 \nPrizing: Store Credit provided by AFK Games \nFormat: BBAX Competitive Ranked Format \nCheck in 11:30 AM \nStarts at Noon \nSoftware link:\nhttps://challonge.com/ccxfn4tq \nRaffle for CoroCoro Phoenix Wing 9-80DB \n3 Tix for $5\n6 for $10
URL:https://afk.games/event/blazing-beyblade-blitz/
LOCATION:AFK Games\, 2495 Cedar Street STE 14-B\, Holt\, MI\, 48842\, United States
CATEGORIES:Beyblade,Events
ORGANIZER;CN="AFK Games":MAILTO:support@afk-games.com
END:VEVENT
BEGIN:VEVENT
DTSTART;TZID=America/Detroit:20250325T183000
DTEND;TZID=America/Detroit:20250325T210000
DTSTAMP:20260421T235732
CREATED:20250209T013946Z
LAST-MODIFIED:20250209T014215Z
UID:10003505-1742927400-1742936400@afk.games
SUMMARY:Star Wars: Unlimited Casual Play
DESCRIPTION:Free entry\, play some games. Get a promo pack.
URL:https://afk.games/event/star-wars-unlimited-casual-play/2025-03-25/
LOCATION:AFK Games\, 2495 Cedar Street STE 14-B\, Holt\, MI\, 48842\, United States
CATEGORIES:Events,Star Wars: Unlimited
ORGANIZER;CN="AFK Games":MAILTO:support@afk-games.com
END:VEVENT
BEGIN:VEVENT
DTSTART;TZID=America/Detroit:20250329T110000
DTEND;TZID=America/Detroit:20250329T193000
DTSTAMP:20260421T235732
CREATED:20250223T003332Z
LAST-MODIFIED:20250223T003338Z
UID:10003766-1743246000-1743276600@afk.games
SUMMARY:Grand Archive - Michigan HVN Regional
DESCRIPTION:Tournament Info: \nSwiss Rounds based on attendance with NO top cut. \nWhen: March 29th 2025\nDoors Open: 10:00am EST.\nRegistration Time: 10:00am-10:45am EST.\nStart Time: 11:00am EST. \nEntry Prizing: 3x HVN Booster Packs\, 2x HVN Event packs\, 1 HVN Sapphire Pack\, 1 Binder\, and free entry into TONS of random giveaways. \n1st: Champion Playmat\, Regionals Invite Card\, HVN Sapphire Packs\, and HVN Event Packs. \n2nd-16th: Finalists Playmat\, Regionals Invite Card\, HVN Sapphire Packs and HVN Event Packs. \nWE WILL BE ADDING EXTRA PRIZING FOR TOP 16 SOON! \nOnline Decklist submitted through Omnidex required (Omni link will be posted here at the start of HVN season). No proxies legal excluding Proxia’s Vault Cards (must be printed in color) \nAs always we will be doing TONS of giveaways! We try to have the most giveaways out of all regionals!!! \nLive Stream: https://youtube.com/@truechampiongaming
URL:https://afk.games/event/grand-archive-michigan-hvn-regional/
LOCATION:AFK Games\, 2495 Cedar Street STE 14-B\, Holt\, MI\, 48842\, United States
CATEGORIES:Events,Grand Archive
ORGANIZER;CN="AFK Games":MAILTO:support@afk-games.com
END:VEVENT
END:VCALENDAR