BEGIN:VCALENDAR
VERSION:2.0
PRODID:-//AFK Games - ECPv6.15.20//NONSGML v1.0//EN
CALSCALE:GREGORIAN
METHOD:PUBLISH
X-WR-CALNAME:AFK Games
X-ORIGINAL-URL:https://afk.games
X-WR-CALDESC:Events for AFK Games
REFRESH-INTERVAL;VALUE=DURATION:PT1H
X-Robots-Tag:noindex
X-PUBLISHED-TTL:PT1H
BEGIN:VTIMEZONE
TZID:America/Detroit
BEGIN:DAYLIGHT
TZOFFSETFROM:-0500
TZOFFSETTO:-0400
TZNAME:EDT
DTSTART:20220313T070000
END:DAYLIGHT
BEGIN:STANDARD
TZOFFSETFROM:-0400
TZOFFSETTO:-0500
TZNAME:EST
DTSTART:20221106T060000
END:STANDARD
BEGIN:DAYLIGHT
TZOFFSETFROM:-0500
TZOFFSETTO:-0400
TZNAME:EDT
DTSTART:20230312T070000
END:DAYLIGHT
BEGIN:STANDARD
TZOFFSETFROM:-0400
TZOFFSETTO:-0500
TZNAME:EST
DTSTART:20231105T060000
END:STANDARD
BEGIN:DAYLIGHT
TZOFFSETFROM:-0500
TZOFFSETTO:-0400
TZNAME:EDT
DTSTART:20240310T070000
END:DAYLIGHT
BEGIN:STANDARD
TZOFFSETFROM:-0400
TZOFFSETTO:-0500
TZNAME:EST
DTSTART:20241103T060000
END:STANDARD
END:VTIMEZONE
BEGIN:VEVENT
DTSTART;TZID=America/Detroit:20231103T183000
DTEND;TZID=America/Detroit:20231103T220000
DTSTAMP:20260424T152420
CREATED:20230928T175025Z
LAST-MODIFIED:20230928T175143Z
UID:10001934-1699036200-1699048800@afk.games
SUMMARY:Battle Spirits Saga - Store Tournament
DESCRIPTION:Entry: $5\n120% of Store credit prized out to top players\, along with promo packs to top players! \nBest-of-three games with 60-minute matches and 5 minutes of extra time
URL:https://afk.games/event/battle-spirits-saga-store-tournament-3/2023-11-03/
LOCATION:AFK Games\, 2495 Cedar Street STE 14-B\, Holt\, MI\, 48842\, United States
CATEGORIES:Bandai,Battle Spirits Saga,Events
ORGANIZER;CN="AFK Games":MAILTO:support@afk-games.com
END:VEVENT
BEGIN:VEVENT
DTSTART;TZID=America/Detroit:20231104T123000
DTEND;TZID=America/Detroit:20231104T150000
DTSTAMP:20260424T152420
CREATED:20230804T183105Z
LAST-MODIFIED:20230804T183105Z
UID:10001519-1699101000-1699110000@afk.games
SUMMARY:One Piece TCG - Store Tournament vol.4
DESCRIPTION:Entry: $5\n120% of Store credit prized out to top players\, along with promo packs to top players! \nBest-of-one games with 35 minute matches and 5 minutes of extra time
URL:https://afk.games/event/one-piece-tcg-store-tournament-vol-4/2023-11-04/
LOCATION:AFK Games\, 2495 Cedar Street STE 14-B\, Holt\, MI\, 48842\, United States
CATEGORIES:Bandai,Events,One Piece TCG
ORGANIZER;CN="AFK Games":MAILTO:support@afk-games.com
END:VEVENT
BEGIN:VEVENT
DTSTART;TZID=America/Detroit:20231104T130000
DTEND;TZID=America/Detroit:20231104T210000
DTSTAMP:20260424T152420
CREATED:20231012T203038Z
LAST-MODIFIED:20231012T203038Z
UID:10001958-1699102800-1699131600@afk.games
SUMMARY:Tanksgiving 2023!
DESCRIPTION:Join us for a huge 40K apocalypse game benefiting the Holt Food Bank just before the holiday season!\nAll proceeds will benefit the Holt Food Bank.\n\nThere will be raffle prizes.\n\nMore details to come!
URL:https://afk.games/event/tanksgiving-2023/
LOCATION:AFK Games\, 2495 Cedar Street STE 14-B\, Holt\, MI\, 48842\, United States
CATEGORIES:Events,Games Workshop,Warhammer 40K
ORGANIZER;CN="AFK Games":MAILTO:support@afk-games.com
END:VEVENT
BEGIN:VEVENT
DTSTART;TZID=America/Detroit:20231105T130000
DTEND;TZID=America/Detroit:20231105T170000
DTSTAMP:20260424T152420
CREATED:20231002T203314Z
LAST-MODIFIED:20231002T203314Z
UID:10001949-1699189200-1699203600@afk.games
SUMMARY:One Piece TCG - Store Tournament
DESCRIPTION:Entry: $5\n120% of Store credit prized out to top players\, along with promo packs to top players! \nBest-of-one games with 35-minute matches and 5 minutes of extra time
URL:https://afk.games/event/one-piece-tcg-store-tournament-2/2023-11-05/
LOCATION:AFK Games\, 2495 Cedar Street STE 14-B\, Holt\, MI\, 48842\, United States
CATEGORIES:Bandai,Events,One Piece TCG
ORGANIZER;CN="AFK Games":MAILTO:support@afk-games.com
END:VEVENT
BEGIN:VEVENT
DTSTART;TZID=America/Detroit:20231110T183000
DTEND;TZID=America/Detroit:20231110T220000
DTSTAMP:20260424T152420
CREATED:20230928T175025Z
LAST-MODIFIED:20230928T175143Z
UID:10001935-1699641000-1699653600@afk.games
SUMMARY:Battle Spirits Saga - Store Tournament
DESCRIPTION:Entry: $5\n120% of Store credit prized out to top players\, along with promo packs to top players! \nBest-of-three games with 60-minute matches and 5 minutes of extra time
URL:https://afk.games/event/battle-spirits-saga-store-tournament-3/2023-11-10/
LOCATION:AFK Games\, 2495 Cedar Street STE 14-B\, Holt\, MI\, 48842\, United States
CATEGORIES:Bandai,Battle Spirits Saga,Events
ORGANIZER;CN="AFK Games":MAILTO:support@afk-games.com
END:VEVENT
BEGIN:VEVENT
DTSTART;TZID=America/Detroit:20231110T184500
DTEND;TZID=America/Detroit:20231110T233000
DTSTAMP:20260424T152420
CREATED:20230929T202631Z
LAST-MODIFIED:20230929T202631Z
UID:10001943-1699641900-1699659000@afk.games
SUMMARY:The Lost Caverns of Ixalan Prerelease
DESCRIPTION:$30 Entry: Includes your Prerelease kit and 2 Set Boosters per player added to the prize pool.\nScaling discount on 3+ entries when purchased at once!\n3 Entries = $84\n6 Entries = $160\n\nSunday 1 pm event is 2-Headed Giant\, rules for 2HG are as follows:\n2HG Rules:\n-Each team starts with 30 life.\n-Neither player on the team going first draws a card on the first turn.\n-Each player receives one free mulligan. You don’t put any cards back on the first mulligan\, and you put only 1 card back on the second mulligan\, etc.\nContents of Prerelease Kit:\n• 6 Wilds of Eldraine Draft Boosters; each Draft Booster contains 15 Magic cards\n• 1 foil\, year-stamped Rare or Mythic Rare\n• 1 Magic: The Gathering Arena code card (only available in select regions)\n• 2 token cards\n• 1 deck box\n• 1 Spindown die\nThe tournament structure will be as follows:\nLimited Format Swiss pairings\, Best-of-three 50-minute rounds\, capped at 4 rounds.\nWe’re also taking pre-orders for Draft\, Set\, and Collector Boxes and Kits (with prizing) for Prerelease at Home! Buy-a-Box promos will be given to Draft and Set box preorders\, while supplies last. Kits sold for Prerelease at Home come with 2x Set Boosters in prizing each.
URL:https://afk.games/event/the-lost-caverns-of-ixalan-prerelease/2023-11-10/
LOCATION:AFK Games\, 2495 Cedar Street STE 14-B\, Holt\, MI\, 48842\, United States
CATEGORIES:Events,Magic: The Gathering,Prerelease,Sealed
ORGANIZER;CN="AFK Games":MAILTO:support@afk-games.com
END:VEVENT
BEGIN:VEVENT
DTSTART;TZID=America/Detroit:20231111T123000
DTEND;TZID=America/Detroit:20231111T150000
DTSTAMP:20260424T152420
CREATED:20230804T183105Z
LAST-MODIFIED:20230804T183105Z
UID:10001520-1699705800-1699714800@afk.games
SUMMARY:One Piece TCG - Store Tournament vol.4
DESCRIPTION:Entry: $5\n120% of Store credit prized out to top players\, along with promo packs to top players! \nBest-of-one games with 35 minute matches and 5 minutes of extra time
URL:https://afk.games/event/one-piece-tcg-store-tournament-vol-4/2023-11-11/
LOCATION:AFK Games\, 2495 Cedar Street STE 14-B\, Holt\, MI\, 48842\, United States
CATEGORIES:Bandai,Events,One Piece TCG
ORGANIZER;CN="AFK Games":MAILTO:support@afk-games.com
END:VEVENT
BEGIN:VEVENT
DTSTART;TZID=America/Detroit:20231111T130000
DTEND;TZID=America/Detroit:20231111T180000
DTSTAMP:20260424T152420
CREATED:20230929T202631Z
LAST-MODIFIED:20230929T202631Z
UID:10001944-1699707600-1699725600@afk.games
SUMMARY:The Lost Caverns of Ixalan Prerelease
DESCRIPTION:$30 Entry: Includes your Prerelease kit and 2 Set Boosters per player added to the prize pool.\nScaling discount on 3+ entries when purchased at once!\n3 Entries = $84\n6 Entries = $160\n\nSunday 1 pm event is 2-Headed Giant\, rules for 2HG are as follows:\n2HG Rules:\n-Each team starts with 30 life.\n-Neither player on the team going first draws a card on the first turn.\n-Each player receives one free mulligan. You don’t put any cards back on the first mulligan\, and you put only 1 card back on the second mulligan\, etc.\nContents of Prerelease Kit:\n• 6 Wilds of Eldraine Draft Boosters; each Draft Booster contains 15 Magic cards\n• 1 foil\, year-stamped Rare or Mythic Rare\n• 1 Magic: The Gathering Arena code card (only available in select regions)\n• 2 token cards\n• 1 deck box\n• 1 Spindown die\nThe tournament structure will be as follows:\nLimited Format Swiss pairings\, Best-of-three 50-minute rounds\, capped at 4 rounds.\nWe’re also taking pre-orders for Draft\, Set\, and Collector Boxes and Kits (with prizing) for Prerelease at Home! Buy-a-Box promos will be given to Draft and Set box preorders\, while supplies last. Kits sold for Prerelease at Home come with 2x Set Boosters in prizing each.
URL:https://afk.games/event/the-lost-caverns-of-ixalan-prerelease/2023-11-11/1/
LOCATION:AFK Games\, 2495 Cedar Street STE 14-B\, Holt\, MI\, 48842\, United States
CATEGORIES:Events,Magic: The Gathering,Prerelease,Sealed
ORGANIZER;CN="AFK Games":MAILTO:support@afk-games.com
END:VEVENT
BEGIN:VEVENT
DTSTART;TZID=America/Detroit:20231111T180000
DTEND;TZID=America/Detroit:20231111T223000
DTSTAMP:20260424T152420
CREATED:20230929T202631Z
LAST-MODIFIED:20230929T202631Z
UID:10001945-1699725600-1699741800@afk.games
SUMMARY:The Lost Caverns of Ixalan Prerelease
DESCRIPTION:$30 Entry: Includes your Prerelease kit and 2 Set Boosters per player added to the prize pool.\nScaling discount on 3+ entries when purchased at once!\n3 Entries = $84\n6 Entries = $160\n\nSunday 1 pm event is 2-Headed Giant\, rules for 2HG are as follows:\n2HG Rules:\n-Each team starts with 30 life.\n-Neither player on the team going first draws a card on the first turn.\n-Each player receives one free mulligan. You don’t put any cards back on the first mulligan\, and you put only 1 card back on the second mulligan\, etc.\nContents of Prerelease Kit:\n• 6 Wilds of Eldraine Draft Boosters; each Draft Booster contains 15 Magic cards\n• 1 foil\, year-stamped Rare or Mythic Rare\n• 1 Magic: The Gathering Arena code card (only available in select regions)\n• 2 token cards\n• 1 deck box\n• 1 Spindown die\nThe tournament structure will be as follows:\nLimited Format Swiss pairings\, Best-of-three 50-minute rounds\, capped at 4 rounds.\nWe’re also taking pre-orders for Draft\, Set\, and Collector Boxes and Kits (with prizing) for Prerelease at Home! Buy-a-Box promos will be given to Draft and Set box preorders\, while supplies last. Kits sold for Prerelease at Home come with 2x Set Boosters in prizing each.
URL:https://afk.games/event/the-lost-caverns-of-ixalan-prerelease/2023-11-11/2/
LOCATION:AFK Games\, 2495 Cedar Street STE 14-B\, Holt\, MI\, 48842\, United States
CATEGORIES:Events,Magic: The Gathering,Prerelease,Sealed
ORGANIZER;CN="AFK Games":MAILTO:support@afk-games.com
END:VEVENT
BEGIN:VEVENT
DTSTART;TZID=America/Detroit:20231112T130000
DTEND;TZID=America/Detroit:20231112T170000
DTSTAMP:20260424T152420
CREATED:20230929T202631Z
LAST-MODIFIED:20230929T202631Z
UID:10001946-1699794000-1699808400@afk.games
SUMMARY:The Lost Caverns of Ixalan Prerelease
DESCRIPTION:$30 Entry: Includes your Prerelease kit and 2 Set Boosters per player added to the prize pool.\nScaling discount on 3+ entries when purchased at once!\n3 Entries = $84\n6 Entries = $160\n\nSunday 1 pm event is 2-Headed Giant\, rules for 2HG are as follows:\n2HG Rules:\n-Each team starts with 30 life.\n-Neither player on the team going first draws a card on the first turn.\n-Each player receives one free mulligan. You don’t put any cards back on the first mulligan\, and you put only 1 card back on the second mulligan\, etc.\nContents of Prerelease Kit:\n• 6 Wilds of Eldraine Draft Boosters; each Draft Booster contains 15 Magic cards\n• 1 foil\, year-stamped Rare or Mythic Rare\n• 1 Magic: The Gathering Arena code card (only available in select regions)\n• 2 token cards\n• 1 deck box\n• 1 Spindown die\nThe tournament structure will be as follows:\nLimited Format Swiss pairings\, Best-of-three 50-minute rounds\, capped at 4 rounds.\nWe’re also taking pre-orders for Draft\, Set\, and Collector Boxes and Kits (with prizing) for Prerelease at Home! Buy-a-Box promos will be given to Draft and Set box preorders\, while supplies last. Kits sold for Prerelease at Home come with 2x Set Boosters in prizing each.
URL:https://afk.games/event/the-lost-caverns-of-ixalan-prerelease/2023-11-12/
LOCATION:AFK Games\, 2495 Cedar Street STE 14-B\, Holt\, MI\, 48842\, United States
CATEGORIES:Events,Magic: The Gathering,Prerelease,Sealed
ORGANIZER;CN="AFK Games":MAILTO:support@afk-games.com
END:VEVENT
BEGIN:VEVENT
DTSTART;TZID=America/Detroit:20231112T130000
DTEND;TZID=America/Detroit:20231112T170000
DTSTAMP:20260424T152420
CREATED:20231002T203314Z
LAST-MODIFIED:20231002T203314Z
UID:10001950-1699794000-1699808400@afk.games
SUMMARY:One Piece TCG - Store Tournament
DESCRIPTION:Entry: $5\n120% of Store credit prized out to top players\, along with promo packs to top players! \nBest-of-one games with 35-minute matches and 5 minutes of extra time
URL:https://afk.games/event/one-piece-tcg-store-tournament-2/2023-11-12/
LOCATION:AFK Games\, 2495 Cedar Street STE 14-B\, Holt\, MI\, 48842\, United States
CATEGORIES:Bandai,Events,One Piece TCG
ORGANIZER;CN="AFK Games":MAILTO:support@afk-games.com
END:VEVENT
BEGIN:VEVENT
DTSTART;TZID=America/Detroit:20231117T183000
DTEND;TZID=America/Detroit:20231117T220000
DTSTAMP:20260424T152420
CREATED:20230928T175025Z
LAST-MODIFIED:20230928T175143Z
UID:10001936-1700245800-1700258400@afk.games
SUMMARY:Battle Spirits Saga - Store Tournament
DESCRIPTION:Entry: $5\n120% of Store credit prized out to top players\, along with promo packs to top players! \nBest-of-three games with 60-minute matches and 5 minutes of extra time
URL:https://afk.games/event/battle-spirits-saga-store-tournament-3/2023-11-17/
LOCATION:AFK Games\, 2495 Cedar Street STE 14-B\, Holt\, MI\, 48842\, United States
CATEGORIES:Bandai,Battle Spirits Saga,Events
ORGANIZER;CN="AFK Games":MAILTO:support@afk-games.com
END:VEVENT
BEGIN:VEVENT
DTSTART;TZID=America/Detroit:20231118T123000
DTEND;TZID=America/Detroit:20231118T150000
DTSTAMP:20260424T152420
CREATED:20230804T183105Z
LAST-MODIFIED:20230804T183105Z
UID:10001521-1700310600-1700319600@afk.games
SUMMARY:One Piece TCG - Store Tournament vol.4
DESCRIPTION:Entry: $5\n120% of Store credit prized out to top players\, along with promo packs to top players! \nBest-of-one games with 35 minute matches and 5 minutes of extra time
URL:https://afk.games/event/one-piece-tcg-store-tournament-vol-4/2023-11-18/
LOCATION:AFK Games\, 2495 Cedar Street STE 14-B\, Holt\, MI\, 48842\, United States
CATEGORIES:Bandai,Events,One Piece TCG
ORGANIZER;CN="AFK Games":MAILTO:support@afk-games.com
END:VEVENT
BEGIN:VEVENT
DTSTART;TZID=America/Detroit:20231118T123000
DTEND;TZID=America/Detroit:20231118T183000
DTSTAMP:20260424T152420
CREATED:20231013T000843Z
LAST-MODIFIED:20231013T000843Z
UID:10001959-1700310600-1700332200@afk.games
SUMMARY:Single Keyword Shatterpoint Tournament
DESCRIPTION:Tournament Format\n\nRounds – 3\nRound time – 120 minutes \nFormat – Showdown\nSoftware – Longshanks\nDoors – 12:00 pm\nStart – 12:30 pm\nEntry – $10\n\nStandard events will use a 120-minute round timer with Mission Critical starting at the 90-minute mark. To create a variable game length\, we will roll 5 Attack Dice\, and add one minute to the event round for each critical(B) and strike(A) result. \nIf a game has not concluded when the time for an event round runs out\, the players finish the current Turn and calculate their scores.  \nTicket: https://afk-games.square.site/product/november-shatterpoint-tournament/12479 \nLongshanks: https://www.longshanks.org/event/11375/ \nStrike Team Selection\n\n\n\nEach player will bring their Strike Team that is in line with the current rules\, errata\, and FAQ https://www.atomicmassgames.com/shatterpoint\nStrike teams can not have more than one of the following keywords among their units.\nGalactic Republic\nShadow Collective\nGalactic Empire\nSeparatist Alliance \nUnits that do not have one of these 4 keywords listed\, can be used in any list. For example\, Bo-Katan Kryze only has the following keywords “Clan Kryze\, Death Watch\, Mandalorian\, Nite Owls” so he can go in any list with the mentioned keywords.\n\n\n\nPainting and Basing\n\nAll models must be based on their current base size. Official Base Size pdf\nPainting is not required.\n\nTiebreakers\nIf two or more players have the same number of event points\, tiebreakers are used to determine each player’s standing within that group. Tiebreakers are used in the following order until all players within that group have been given a standing. \n\nStruggle Cards Claimed: The player with the higher number of cumulative Struggle Cards Claimed is ranked above all other players with the same number of event points. The player with the second-highest cumulative Struggle Cards claimed is ranked second among those players\, and so on.\nStrength of Schedule: A player’s Strength of Schedule is calculated by dividing each opponent’s total event points by the number of rounds that opponent has played\, adding the results of each opponent played\, and then dividing that total by the number of opponents the player has played. The player with the highest Strength of Schedule score is ranked above all other players in the group not yet ranked. The player with the second-highest Strength of Schedule is ranked second among all players in the group not yet ranked\, and so on.\nWounds Inflicted: The player with the higher number of Wounds Inflicted on enemy Units is ranked above all other players with the same number of event points.\nRandom: If any players are still tied after all other tiebreakers have been applied\, then those players are ranked in a random order below any players already ranked in the group.\n\nPlayer Responsibilities\nWe will follow the player responsibilities listed in the Star Wars: Shatterpoint Showdown rules pdf (Showdown Rules) including the following: \n\nMiniatures \nCards\nDice\nMeasuring Tools\nTokens\nStrike Team\nSportsmanship\n\nPlayers are also responsible for conducting themselves in an appropriate\, sportsmanlike manner at all times. \nPrizes\nParticipation:  \n3x Acrylic tokens – 2 extra tokens if you prepay for the event either in-store or online. \nStore Credit 
URL:https://afk.games/event/single-keyword-shatterpoint-tournament/
LOCATION:AFK Games\, 2495 Cedar Street STE 14-B\, Holt\, MI\, 48842\, United States
CATEGORIES:Atomic Mass Games,Events,Star Wars: Shatterpoint
ORGANIZER;CN="AFK Games":MAILTO:support@afk-games.com
END:VEVENT
BEGIN:VEVENT
DTSTART;TZID=America/Detroit:20231119T130000
DTEND;TZID=America/Detroit:20231119T170000
DTSTAMP:20260424T152420
CREATED:20231002T203314Z
LAST-MODIFIED:20231002T203314Z
UID:10001951-1700398800-1700413200@afk.games
SUMMARY:One Piece TCG - Store Tournament
DESCRIPTION:Entry: $5\n120% of Store credit prized out to top players\, along with promo packs to top players! \nBest-of-one games with 35-minute matches and 5 minutes of extra time
URL:https://afk.games/event/one-piece-tcg-store-tournament-2/2023-11-19/
LOCATION:AFK Games\, 2495 Cedar Street STE 14-B\, Holt\, MI\, 48842\, United States
CATEGORIES:Bandai,Events,One Piece TCG
ORGANIZER;CN="AFK Games":MAILTO:support@afk-games.com
END:VEVENT
BEGIN:VEVENT
DTSTART;TZID=America/Detroit:20231124T183000
DTEND;TZID=America/Detroit:20231124T220000
DTSTAMP:20260424T152420
CREATED:20230928T175025Z
LAST-MODIFIED:20230928T175143Z
UID:10001937-1700850600-1700863200@afk.games
SUMMARY:Battle Spirits Saga - Store Tournament
DESCRIPTION:Entry: $5\n120% of Store credit prized out to top players\, along with promo packs to top players! \nBest-of-three games with 60-minute matches and 5 minutes of extra time
URL:https://afk.games/event/battle-spirits-saga-store-tournament-3/2023-11-24/
LOCATION:AFK Games\, 2495 Cedar Street STE 14-B\, Holt\, MI\, 48842\, United States
CATEGORIES:Bandai,Battle Spirits Saga,Events
ORGANIZER;CN="AFK Games":MAILTO:support@afk-games.com
END:VEVENT
BEGIN:VEVENT
DTSTART;TZID=America/Detroit:20231125T123000
DTEND;TZID=America/Detroit:20231125T150000
DTSTAMP:20260424T152420
CREATED:20230804T183105Z
LAST-MODIFIED:20230804T183105Z
UID:10001522-1700915400-1700924400@afk.games
SUMMARY:One Piece TCG - Store Tournament vol.4
DESCRIPTION:Entry: $5\n120% of Store credit prized out to top players\, along with promo packs to top players! \nBest-of-one games with 35 minute matches and 5 minutes of extra time
URL:https://afk.games/event/one-piece-tcg-store-tournament-vol-4/2023-11-25/
LOCATION:AFK Games\, 2495 Cedar Street STE 14-B\, Holt\, MI\, 48842\, United States
CATEGORIES:Bandai,Events,One Piece TCG
ORGANIZER;CN="AFK Games":MAILTO:support@afk-games.com
END:VEVENT
BEGIN:VEVENT
DTSTART;TZID=America/Detroit:20231126T130000
DTEND;TZID=America/Detroit:20231126T170000
DTSTAMP:20260424T152420
CREATED:20230929T204419Z
LAST-MODIFIED:20230929T204420Z
UID:10001947-1701003600-1701018000@afk.games
SUMMARY:One Piece TCG Sealed Battle 2023 Vol.1
DESCRIPTION:In this sealed deck battle\, players purchase 6 booster packs at the store where the event is held and build their decks on the spot. As a souvenir for participating players will receive a 6-color leader card that can only be used at this event\, so they have a leader to use in the battle no matter which color is in the packs they open. \nParticipation\n– Leader Pack\n \n\n*2 cards per pack\n*Total of 2 types\n\n\n– Sealed Battle Kit Vol.1\n          \n\n*2 cards per pack\n*Total of 10 types\n\n  \nWinner\n– OP04-083 Sabo
URL:https://afk.games/event/one-piece-tcg-sealed-battle-2023-vol-1/2023-11-26/
LOCATION:AFK Games\, 2495 Cedar Street STE 14-B\, Holt\, MI\, 48842\, United States
CATEGORIES:Bandai,Events,One Piece TCG
ORGANIZER;CN="AFK Games":MAILTO:support@afk-games.com
END:VEVENT
BEGIN:VEVENT
DTSTART;TZID=America/Detroit:20231126T130000
DTEND;TZID=America/Detroit:20231126T170000
DTSTAMP:20260424T152420
CREATED:20231002T203314Z
LAST-MODIFIED:20231002T203314Z
UID:10001952-1701003600-1701018000@afk.games
SUMMARY:One Piece TCG - Store Tournament
DESCRIPTION:Entry: $5\n120% of Store credit prized out to top players\, along with promo packs to top players! \nBest-of-one games with 35-minute matches and 5 minutes of extra time
URL:https://afk.games/event/one-piece-tcg-store-tournament-2/2023-11-26/
LOCATION:AFK Games\, 2495 Cedar Street STE 14-B\, Holt\, MI\, 48842\, United States
CATEGORIES:Bandai,Events,One Piece TCG
ORGANIZER;CN="AFK Games":MAILTO:support@afk-games.com
END:VEVENT
END:VCALENDAR