BEGIN:VCALENDAR
VERSION:2.0
PRODID:-//AFK Games - ECPv6.15.20//NONSGML v1.0//EN
CALSCALE:GREGORIAN
METHOD:PUBLISH
X-ORIGINAL-URL:https://afk.games
X-WR-CALDESC:Events for AFK Games
REFRESH-INTERVAL;VALUE=DURATION:PT1H
X-Robots-Tag:noindex
X-PUBLISHED-TTL:PT1H
BEGIN:VTIMEZONE
TZID:America/Detroit
BEGIN:DAYLIGHT
TZOFFSETFROM:-0500
TZOFFSETTO:-0400
TZNAME:EDT
DTSTART:20240310T070000
END:DAYLIGHT
BEGIN:STANDARD
TZOFFSETFROM:-0400
TZOFFSETTO:-0500
TZNAME:EST
DTSTART:20241103T060000
END:STANDARD
BEGIN:DAYLIGHT
TZOFFSETFROM:-0500
TZOFFSETTO:-0400
TZNAME:EDT
DTSTART:20250309T070000
END:DAYLIGHT
BEGIN:STANDARD
TZOFFSETFROM:-0400
TZOFFSETTO:-0500
TZNAME:EST
DTSTART:20251102T060000
END:STANDARD
BEGIN:DAYLIGHT
TZOFFSETFROM:-0500
TZOFFSETTO:-0400
TZNAME:EDT
DTSTART:20260308T070000
END:DAYLIGHT
BEGIN:STANDARD
TZOFFSETFROM:-0400
TZOFFSETTO:-0500
TZNAME:EST
DTSTART:20261101T060000
END:STANDARD
END:VTIMEZONE
BEGIN:VEVENT
DTSTART;TZID=America/Detroit:20250510T120000
DTEND;TZID=America/Detroit:20250510T170000
DTSTAMP:20260422T183657
CREATED:20250421T175443Z
LAST-MODIFIED:20250421T175443Z
UID:10003970-1746878400-1746896400@afk.games
SUMMARY:Tarkir: Dragonstorm Store Championship
DESCRIPTION:We will be playing rounds of Swiss as recommended by the tournament rules.  \nTickets: https://shop.afk.games/products/tarkir-dragonstorm-store-championship \nRegistration: $10 \nTournament Schedule\nDoors will open at 11:00 am\nRound 1 will start at 12:00 pm  \nPrizes:\nStore name and Non stamped promos will be given out \n \n1st – Top 8 promo + Winner Promo\n2nd – Top 8 promo\n3/4th – Top 8 promo\n5-8th – Top 8 promo\n \nStore credit prizes will be scaled with attendance. Finalized prizing amounts will be announced after round 1. 
URL:https://afk.games/event/tarkir-dragonstorm-store-championship/
LOCATION:AFK Games\, 2495 Cedar Street STE 14-B\, Holt\, MI\, 48842\, United States
CATEGORIES:Events,Magic: The Gathering,Standard
ORGANIZER;CN="AFK Games":MAILTO:support@afk-games.com
END:VEVENT
END:VCALENDAR