BEGIN:VCALENDAR
VERSION:2.0
PRODID:-//AFK Games - ECPv6.15.20//NONSGML v1.0//EN
CALSCALE:GREGORIAN
METHOD:PUBLISH
X-ORIGINAL-URL:https://afk.games
X-WR-CALDESC:Events for AFK Games
REFRESH-INTERVAL;VALUE=DURATION:PT1H
X-Robots-Tag:noindex
X-PUBLISHED-TTL:PT1H
BEGIN:VTIMEZONE
TZID:America/Detroit
BEGIN:DAYLIGHT
TZOFFSETFROM:-0500
TZOFFSETTO:-0400
TZNAME:EDT
DTSTART:20240310T070000
END:DAYLIGHT
BEGIN:STANDARD
TZOFFSETFROM:-0400
TZOFFSETTO:-0500
TZNAME:EST
DTSTART:20241103T060000
END:STANDARD
BEGIN:DAYLIGHT
TZOFFSETFROM:-0500
TZOFFSETTO:-0400
TZNAME:EDT
DTSTART:20250309T070000
END:DAYLIGHT
BEGIN:STANDARD
TZOFFSETFROM:-0400
TZOFFSETTO:-0500
TZNAME:EST
DTSTART:20251102T060000
END:STANDARD
BEGIN:DAYLIGHT
TZOFFSETFROM:-0500
TZOFFSETTO:-0400
TZNAME:EDT
DTSTART:20260308T070000
END:DAYLIGHT
BEGIN:STANDARD
TZOFFSETFROM:-0400
TZOFFSETTO:-0500
TZNAME:EST
DTSTART:20261101T060000
END:STANDARD
END:VTIMEZONE
BEGIN:VEVENT
DTSTART;TZID=America/Detroit:20251101T123000
DTEND;TZID=America/Detroit:20251101T160000
DTSTAMP:20260421T125550
CREATED:20251020T191745Z
LAST-MODIFIED:20251020T191745Z
UID:10004186-1762000200-1762012800@afk.games
SUMMARY:One Piece - OP13 Release Event
DESCRIPTION:One Piece Card Game – “Carrying on His Will” Release Event Ticket\n\nEntry: $35\n\nEvent Dates:Saturday\, November 1st\, 2025 @ 12:30 PMTuesday\, November 4th\, 2025 @ 6:30 PM\n\nJoin us for the Legacy of the Master Release Event and be among the first to experience the latest One Piece Card Game set in an exciting Sealed format tournament! Bring your own leader or use the provided 6 color Luffy Promo.\n\nEvent Format:Sealed Deck using 6x OP-13 Booster Packs\nAll players receive the same participation prizing\, with an exclusive winner bonus\nParticipation Prizing (Included with Entry):6x Carrying on His Will Booster Packs (used to build your deck)2x Extra Booster Packs (given after completing all rounds)1x 3rd Anniversary Tournament 3 Brothers Pack1x Rainbow Luffy Leader Card1x 3rd Anniversary Tournament Pack\n\nWinner Bonus Prize:1x ST01-012 Monkey.D.Luffy (Silver foil + Gold stamp)\n1x OP07-053 Portgas.D.Ace (Silver foil + Gold stamp)\n1x OP09-027 Sabo (Silver foil + Gold stamp)\n\nSpots are limited—Maximum of 64 players per event. You can register in Bandai TCG+ starting on May 16th!
URL:https://afk.games/event/one-piece-op13-release-event/2025-11-01/
LOCATION:AFK Games\, 2495 Cedar Street STE 14-B\, Holt\, MI\, 48842\, United States
ORGANIZER;CN="AFK Games":MAILTO:support@afk-games.com
END:VEVENT
BEGIN:VEVENT
DTSTART;TZID=America/Detroit:20251101T183000
DTEND;TZID=America/Detroit:20251101T220000
DTSTAMP:20260421T125550
CREATED:20251020T193836Z
LAST-MODIFIED:20251020T193836Z
UID:10004188-1762021800-1762034400@afk.games
SUMMARY:Pokemon - Mega Evolution-Phantasmal Flames Prerelease
DESCRIPTION:Get a first look at the upcoming Pokémon TCG set\, Mega Evolution – Phantasmal Flame\, at our Prerelease events! \nEach player will receive a Build & Battle Box\, which includes a 40-card preconstructed deck and 4 booster packs. You’ll have time to modify your deck using your new cards and basic Energy provided by the store before playing three rounds of Swiss in a fun\, casual environment. \nEntry: $30Tickets: Available soon \nPrize Support:• 3 booster packs are added to the prize pool per participant.• All players receive 2 additional booster packs at the end of the event\, regardless of performance.• The third booster pack from each entry will be awarded to top players based on record. \nCome enjoy the excitement of the new set before its official release!
URL:https://afk.games/event/pokemon-mega-evolution-phantasmal-flames-prerelease/
LOCATION:AFK Games\, 2495 Cedar Street STE 14-B\, Holt\, MI\, 48842\, United States
ORGANIZER;CN="AFK Games":MAILTO:support@afk-games.com
END:VEVENT
BEGIN:VEVENT
DTSTART;TZID=America/Detroit:20251104T183000
DTEND;TZID=America/Detroit:20251104T220000
DTSTAMP:20260421T125550
CREATED:20251020T191745Z
LAST-MODIFIED:20251020T191745Z
UID:10004187-1762281000-1762293600@afk.games
SUMMARY:One Piece - OP13 Release Event
DESCRIPTION:One Piece Card Game – “Carrying on His Will” Release Event Ticket\n\nEntry: $35\n\nEvent Dates:Saturday\, November 1st\, 2025 @ 12:30 PMTuesday\, November 4th\, 2025 @ 6:30 PM\n\nJoin us for the Legacy of the Master Release Event and be among the first to experience the latest One Piece Card Game set in an exciting Sealed format tournament! Bring your own leader or use the provided 6 color Luffy Promo.\n\nEvent Format:Sealed Deck using 6x OP-13 Booster Packs\nAll players receive the same participation prizing\, with an exclusive winner bonus\nParticipation Prizing (Included with Entry):6x Carrying on His Will Booster Packs (used to build your deck)2x Extra Booster Packs (given after completing all rounds)1x 3rd Anniversary Tournament 3 Brothers Pack1x Rainbow Luffy Leader Card1x 3rd Anniversary Tournament Pack\n\nWinner Bonus Prize:1x ST01-012 Monkey.D.Luffy (Silver foil + Gold stamp)\n1x OP07-053 Portgas.D.Ace (Silver foil + Gold stamp)\n1x OP09-027 Sabo (Silver foil + Gold stamp)\n\nSpots are limited—Maximum of 64 players per event. You can register in Bandai TCG+ starting on May 16th!
URL:https://afk.games/event/one-piece-op13-release-event/2025-11-04/
LOCATION:AFK Games\, 2495 Cedar Street STE 14-B\, Holt\, MI\, 48842\, United States
ORGANIZER;CN="AFK Games":MAILTO:support@afk-games.com
END:VEVENT
BEGIN:VEVENT
DTSTART;TZID=America/Detroit:20251114T184500
DTEND;TZID=America/Detroit:20251114T220000
DTSTAMP:20260421T125550
CREATED:20251020T201821Z
LAST-MODIFIED:20251020T201821Z
UID:10004189-1763145900-1763157600@afk.games
SUMMARY:MTG: Avatar: The Last Airbender Prerelease
DESCRIPTION:Team Avatar Prerelease Event\nTeam Avatar is back! The action\, adventure\, and spirit of Avatar: The Last Airbender awaken in Magic: The Gathering. Master new mechanics Earthbending\, Airbending\, Waterbending\, and Firebending to tell your version of the story and discover your Magic playstyle. Bend the elements. Master the game. \nWhat’s in a Prerelease Kit?\nEach prerelease kit includes: \n\n5 Play Boosters\n1 13-card character-aligned booster\nAang Booster (White) – Depending on your choice of Prerelease Kit\nKatara Booster (Blue) – Depending on your choice of Prerelease Kit\nAzula Booster (Black) – Depending on your choice of Prerelease Kit\nZuko Booster (Red) – Depending on your choice of Prerelease Kit\nToph Booster (Green) – Depending on your choice of Prerelease Kit\n1 traditional foil rare or mythic rare with a year stamp\n2 double-faced tokens\nA Spindown™ life counter matching the color of the Prerelease Pack\n\nTickets\n\nFriday: https://shop.afk.games/products/mtg-avatar-the-last-airbender™-prerelease-friday-6-45-pm\nSaturday 1pm: https://shop.afk.games/products/mtg-avatar-the-last-airbender™-prerelease-saturday-1-00-pm-2hg\nSaturday 6pm: https://shop.afk.games/products/mtg-avatar-the-last-airbender™-prerelease-saturday-6-00-pm\nSunday 12pm: https://shop.afk.games/products/mtg-avatar-the-last-airbender™-prerelease-sunday-12-00-pm\n\nPlay Booster Contents\nEach Play Booster may contain these cards: \n\n14 Magic: The Gathering cards\nPlay Boosters may contain cards: TLA 1–358; TLE 1–61\n1–4 cards of rarity rare or higher (2: 27%; 3: 2%; 4: <1%)\n3–5 uncommon cards\n6–9 common cards\n1 land card (replaced by traditional foil land in 20% of boosters)\n1 card of any rarity is traditional foil\nFoil borderless mythic rare in <1% of boosters\n\nEvent Schedule\n\nFriday\, November 14th\, 6:45 PM (Capped at 58 players)\nSaturday\, November 15th\, 1:00 PM (Two-Headed Giant) (Capped at 16 players / 8 Teams)\nSaturday\, November 15th\, 6:00 PM (Capped at 30 players)\nSunday\, November 16th\, 12:00 PM (Two-Headed Giant) (Capped at 16 players / 8 Teams)\n\nFormat\nWith your prerelease kit\, build a minimum 40-card deck and compete in a Swiss tournament. \nPrizes\n\n0–1 wins: 1 Avatar: The Last Airbender Play Booster\n2 wins: 2 Avatar: The Last Airbender Play Booster\n3 wins: 3 Avatar: The Last Airbender Play Booster
URL:https://afk.games/event/mtg-avatar-the-last-airbender-prerelease/2025-11-14/
LOCATION:AFK Games\, 2495 Cedar Street STE 14-B\, Holt\, MI\, 48842\, United States
CATEGORIES:Events,Magic: The Gathering,Prerelease
ORGANIZER;CN="AFK Games":MAILTO:support@afk-games.com
END:VEVENT
BEGIN:VEVENT
DTSTART;TZID=America/Detroit:20251115T130000
DTEND;TZID=America/Detroit:20251115T180000
DTSTAMP:20260421T125550
CREATED:20251020T201821Z
LAST-MODIFIED:20251020T201821Z
UID:10004190-1763211600-1763229600@afk.games
SUMMARY:MTG: Avatar: The Last Airbender Prerelease
DESCRIPTION:Team Avatar Prerelease Event\nTeam Avatar is back! The action\, adventure\, and spirit of Avatar: The Last Airbender awaken in Magic: The Gathering. Master new mechanics Earthbending\, Airbending\, Waterbending\, and Firebending to tell your version of the story and discover your Magic playstyle. Bend the elements. Master the game. \nWhat’s in a Prerelease Kit?\nEach prerelease kit includes: \n\n5 Play Boosters\n1 13-card character-aligned booster\nAang Booster (White) – Depending on your choice of Prerelease Kit\nKatara Booster (Blue) – Depending on your choice of Prerelease Kit\nAzula Booster (Black) – Depending on your choice of Prerelease Kit\nZuko Booster (Red) – Depending on your choice of Prerelease Kit\nToph Booster (Green) – Depending on your choice of Prerelease Kit\n1 traditional foil rare or mythic rare with a year stamp\n2 double-faced tokens\nA Spindown™ life counter matching the color of the Prerelease Pack\n\nTickets\n\nFriday: https://shop.afk.games/products/mtg-avatar-the-last-airbender™-prerelease-friday-6-45-pm\nSaturday 1pm: https://shop.afk.games/products/mtg-avatar-the-last-airbender™-prerelease-saturday-1-00-pm-2hg\nSaturday 6pm: https://shop.afk.games/products/mtg-avatar-the-last-airbender™-prerelease-saturday-6-00-pm\nSunday 12pm: https://shop.afk.games/products/mtg-avatar-the-last-airbender™-prerelease-sunday-12-00-pm\n\nPlay Booster Contents\nEach Play Booster may contain these cards: \n\n14 Magic: The Gathering cards\nPlay Boosters may contain cards: TLA 1–358; TLE 1–61\n1–4 cards of rarity rare or higher (2: 27%; 3: 2%; 4: <1%)\n3–5 uncommon cards\n6–9 common cards\n1 land card (replaced by traditional foil land in 20% of boosters)\n1 card of any rarity is traditional foil\nFoil borderless mythic rare in <1% of boosters\n\nEvent Schedule\n\nFriday\, November 14th\, 6:45 PM (Capped at 58 players)\nSaturday\, November 15th\, 1:00 PM (Two-Headed Giant) (Capped at 16 players / 8 Teams)\nSaturday\, November 15th\, 6:00 PM (Capped at 30 players)\nSunday\, November 16th\, 12:00 PM (Two-Headed Giant) (Capped at 16 players / 8 Teams)\n\nFormat\nWith your prerelease kit\, build a minimum 40-card deck and compete in a Swiss tournament. \nPrizes\n\n0–1 wins: 1 Avatar: The Last Airbender Play Booster\n2 wins: 2 Avatar: The Last Airbender Play Booster\n3 wins: 3 Avatar: The Last Airbender Play Booster
URL:https://afk.games/event/mtg-avatar-the-last-airbender-prerelease/2025-11-15/1/
LOCATION:AFK Games\, 2495 Cedar Street STE 14-B\, Holt\, MI\, 48842\, United States
CATEGORIES:Events,Magic: The Gathering,Prerelease
ORGANIZER;CN="AFK Games":MAILTO:support@afk-games.com
END:VEVENT
BEGIN:VEVENT
DTSTART;TZID=America/Detroit:20251115T180000
DTEND;TZID=America/Detroit:20251115T220000
DTSTAMP:20260421T125550
CREATED:20251020T201821Z
LAST-MODIFIED:20251020T201821Z
UID:10004191-1763229600-1763244000@afk.games
SUMMARY:MTG: Avatar: The Last Airbender Prerelease
DESCRIPTION:Team Avatar Prerelease Event\nTeam Avatar is back! The action\, adventure\, and spirit of Avatar: The Last Airbender awaken in Magic: The Gathering. Master new mechanics Earthbending\, Airbending\, Waterbending\, and Firebending to tell your version of the story and discover your Magic playstyle. Bend the elements. Master the game. \nWhat’s in a Prerelease Kit?\nEach prerelease kit includes: \n\n5 Play Boosters\n1 13-card character-aligned booster\nAang Booster (White) – Depending on your choice of Prerelease Kit\nKatara Booster (Blue) – Depending on your choice of Prerelease Kit\nAzula Booster (Black) – Depending on your choice of Prerelease Kit\nZuko Booster (Red) – Depending on your choice of Prerelease Kit\nToph Booster (Green) – Depending on your choice of Prerelease Kit\n1 traditional foil rare or mythic rare with a year stamp\n2 double-faced tokens\nA Spindown™ life counter matching the color of the Prerelease Pack\n\nTickets\n\nFriday: https://shop.afk.games/products/mtg-avatar-the-last-airbender™-prerelease-friday-6-45-pm\nSaturday 1pm: https://shop.afk.games/products/mtg-avatar-the-last-airbender™-prerelease-saturday-1-00-pm-2hg\nSaturday 6pm: https://shop.afk.games/products/mtg-avatar-the-last-airbender™-prerelease-saturday-6-00-pm\nSunday 12pm: https://shop.afk.games/products/mtg-avatar-the-last-airbender™-prerelease-sunday-12-00-pm\n\nPlay Booster Contents\nEach Play Booster may contain these cards: \n\n14 Magic: The Gathering cards\nPlay Boosters may contain cards: TLA 1–358; TLE 1–61\n1–4 cards of rarity rare or higher (2: 27%; 3: 2%; 4: <1%)\n3–5 uncommon cards\n6–9 common cards\n1 land card (replaced by traditional foil land in 20% of boosters)\n1 card of any rarity is traditional foil\nFoil borderless mythic rare in <1% of boosters\n\nEvent Schedule\n\nFriday\, November 14th\, 6:45 PM (Capped at 58 players)\nSaturday\, November 15th\, 1:00 PM (Two-Headed Giant) (Capped at 16 players / 8 Teams)\nSaturday\, November 15th\, 6:00 PM (Capped at 30 players)\nSunday\, November 16th\, 12:00 PM (Two-Headed Giant) (Capped at 16 players / 8 Teams)\n\nFormat\nWith your prerelease kit\, build a minimum 40-card deck and compete in a Swiss tournament. \nPrizes\n\n0–1 wins: 1 Avatar: The Last Airbender Play Booster\n2 wins: 2 Avatar: The Last Airbender Play Booster\n3 wins: 3 Avatar: The Last Airbender Play Booster
URL:https://afk.games/event/mtg-avatar-the-last-airbender-prerelease/2025-11-15/2/
LOCATION:AFK Games\, 2495 Cedar Street STE 14-B\, Holt\, MI\, 48842\, United States
CATEGORIES:Events,Magic: The Gathering,Prerelease
ORGANIZER;CN="AFK Games":MAILTO:support@afk-games.com
END:VEVENT
BEGIN:VEVENT
DTSTART;TZID=America/Detroit:20251116T120000
DTEND;TZID=America/Detroit:20251116T180000
DTSTAMP:20260421T125550
CREATED:20251020T201821Z
LAST-MODIFIED:20251020T201821Z
UID:10004192-1763294400-1763316000@afk.games
SUMMARY:MTG: Avatar: The Last Airbender Prerelease
DESCRIPTION:Team Avatar Prerelease Event\nTeam Avatar is back! The action\, adventure\, and spirit of Avatar: The Last Airbender awaken in Magic: The Gathering. Master new mechanics Earthbending\, Airbending\, Waterbending\, and Firebending to tell your version of the story and discover your Magic playstyle. Bend the elements. Master the game. \nWhat’s in a Prerelease Kit?\nEach prerelease kit includes: \n\n5 Play Boosters\n1 13-card character-aligned booster\nAang Booster (White) – Depending on your choice of Prerelease Kit\nKatara Booster (Blue) – Depending on your choice of Prerelease Kit\nAzula Booster (Black) – Depending on your choice of Prerelease Kit\nZuko Booster (Red) – Depending on your choice of Prerelease Kit\nToph Booster (Green) – Depending on your choice of Prerelease Kit\n1 traditional foil rare or mythic rare with a year stamp\n2 double-faced tokens\nA Spindown™ life counter matching the color of the Prerelease Pack\n\nTickets\n\nFriday: https://shop.afk.games/products/mtg-avatar-the-last-airbender™-prerelease-friday-6-45-pm\nSaturday 1pm: https://shop.afk.games/products/mtg-avatar-the-last-airbender™-prerelease-saturday-1-00-pm-2hg\nSaturday 6pm: https://shop.afk.games/products/mtg-avatar-the-last-airbender™-prerelease-saturday-6-00-pm\nSunday 12pm: https://shop.afk.games/products/mtg-avatar-the-last-airbender™-prerelease-sunday-12-00-pm\n\nPlay Booster Contents\nEach Play Booster may contain these cards: \n\n14 Magic: The Gathering cards\nPlay Boosters may contain cards: TLA 1–358; TLE 1–61\n1–4 cards of rarity rare or higher (2: 27%; 3: 2%; 4: <1%)\n3–5 uncommon cards\n6–9 common cards\n1 land card (replaced by traditional foil land in 20% of boosters)\n1 card of any rarity is traditional foil\nFoil borderless mythic rare in <1% of boosters\n\nEvent Schedule\n\nFriday\, November 14th\, 6:45 PM (Capped at 58 players)\nSaturday\, November 15th\, 1:00 PM (Two-Headed Giant) (Capped at 16 players / 8 Teams)\nSaturday\, November 15th\, 6:00 PM (Capped at 30 players)\nSunday\, November 16th\, 12:00 PM (Two-Headed Giant) (Capped at 16 players / 8 Teams)\n\nFormat\nWith your prerelease kit\, build a minimum 40-card deck and compete in a Swiss tournament. \nPrizes\n\n0–1 wins: 1 Avatar: The Last Airbender Play Booster\n2 wins: 2 Avatar: The Last Airbender Play Booster\n3 wins: 3 Avatar: The Last Airbender Play Booster
URL:https://afk.games/event/mtg-avatar-the-last-airbender-prerelease/2025-11-16/
LOCATION:AFK Games\, 2495 Cedar Street STE 14-B\, Holt\, MI\, 48842\, United States
CATEGORIES:Events,Magic: The Gathering,Prerelease
ORGANIZER;CN="AFK Games":MAILTO:support@afk-games.com
END:VEVENT
END:VCALENDAR