BEGIN:VCALENDAR
VERSION:2.0
PRODID:-//AFK Games - ECPv6.15.20//NONSGML v1.0//EN
CALSCALE:GREGORIAN
METHOD:PUBLISH
X-ORIGINAL-URL:https://afk.games
X-WR-CALDESC:Events for AFK Games
REFRESH-INTERVAL;VALUE=DURATION:PT1H
X-Robots-Tag:noindex
X-PUBLISHED-TTL:PT1H
BEGIN:VTIMEZONE
TZID:America/Detroit
BEGIN:DAYLIGHT
TZOFFSETFROM:-0500
TZOFFSETTO:-0400
TZNAME:EDT
DTSTART:20240310T070000
END:DAYLIGHT
BEGIN:STANDARD
TZOFFSETFROM:-0400
TZOFFSETTO:-0500
TZNAME:EST
DTSTART:20241103T060000
END:STANDARD
BEGIN:DAYLIGHT
TZOFFSETFROM:-0500
TZOFFSETTO:-0400
TZNAME:EDT
DTSTART:20250309T070000
END:DAYLIGHT
BEGIN:STANDARD
TZOFFSETFROM:-0400
TZOFFSETTO:-0500
TZNAME:EST
DTSTART:20251102T060000
END:STANDARD
BEGIN:DAYLIGHT
TZOFFSETFROM:-0500
TZOFFSETTO:-0400
TZNAME:EDT
DTSTART:20260308T070000
END:DAYLIGHT
BEGIN:STANDARD
TZOFFSETFROM:-0400
TZOFFSETTO:-0500
TZNAME:EST
DTSTART:20261101T060000
END:STANDARD
END:VTIMEZONE
BEGIN:VEVENT
DTSTART;TZID=America/Detroit:20250728T163000
DTEND;TZID=America/Detroit:20250728T220000
DTSTAMP:20260422T070335
CREATED:20250714T192954Z
LAST-MODIFIED:20250714T192954Z
UID:10004045-1753720200-1753740000@afk.games
SUMMARY:MTG: Edge of Eternities Box League
DESCRIPTION: Each participant will purchase one sealed Play Booster Box of the brand-new set\, Edge of Eternities\, to build a Commander Deck \n\n Players may use any legal commander opened from their Box.\n\n\n Decks may include multiple copies of cards opened from your Play Booster Box or Prize Packs\n\n\n Color identity rules in deck building are ignored; players may build decks with any colors they want (regardless of their commander’s color identity. Note: commander color identity still applies when cards refer to color identity (for example: Arcane Signet)\n\n\n\nParticipation will earn each player 2 promo cards \n\n Palladium Myr (Retro Frame \n Singularity Rupture (Extended Art)\n\nOnce you have built your deck\, play in a pod of 4 players and get prizing based on your placement.\n\n1st\n4 Booster Packs of EoE*\n2 Promo Packs \n2nd\n3 Booster Packs of EoE*\n1 Promo Packs \n3rd\n2 Booster Packs of EoE* \n4th\n1 Booster Pack of EoE* \n \n*After your first game with prizes\, you are free to play more games for fun with fellow Box League participants
URL:https://afk.games/event/mtg-edge-of-eternities-box-league/
LOCATION:AFK Games\, 2495 Cedar Street STE 14-B\, Holt\, MI\, 48842\, United States
CATEGORIES:Commander,Events,Magic: The Gathering,Sealed
ORGANIZER;CN="AFK Games":MAILTO:support@afk-games.com
END:VEVENT
BEGIN:VEVENT
DTSTART;TZID=America/Detroit:20250801T183000
DTEND;TZID=America/Detroit:20250801T213000
DTSTAMP:20260422T070335
CREATED:20250702T212851Z
LAST-MODIFIED:20250702T213144Z
UID:10004028-1754073000-1754083800@afk.games
SUMMARY:GUNDAM CARD GAME Booster Pack Launch Event
DESCRIPTION:Entry: $20\nFormat: Constructed \nEach participant will add 3 booster packs into the prize pool. \nParticipation\n– GD01-005 Unicorn Gundam (Unicorn-Mode) Promo x1\n– GD01-088 Banagher Links Promo x1\n– Card Storage Box x1\n– Booster Pack of GD01 x1 \nWinner\n– Winner of the event will get additional promo cards. \nThe pool of booster packs will be distributed to the top players in the event. \nThis is an official tournament — you must have a Bandai TCG+ account to participate.\nCreate an account here:\nhttps://www.bandainamcoid.com/\nNeed help? Step-by-step guide here:\nhttps://lp.bandai-tcg-plus.com/en/use01.html \nSign up on Bandai TCG+\nJuly 25th – https://www.bandai-tcg-plus.com/event/3323435\nAugust 1st – https://www.bandai-tcg-plus.com/event/3323436
URL:https://afk.games/event/gundam-card-game-booster-pack-launch-event/2025-08-01/
LOCATION:AFK Games\, 2495 Cedar Street STE 14-B\, Holt\, MI\, 48842\, United States
CATEGORIES:Bandai,Events,Gundam Card Game
ORGANIZER;CN="AFK Games":MAILTO:support@afk-games.com
END:VEVENT
END:VCALENDAR