BEGIN:VCALENDAR
VERSION:2.0
PRODID:-//AFK Games - ECPv6.15.20//NONSGML v1.0//EN
CALSCALE:GREGORIAN
METHOD:PUBLISH
X-WR-CALNAME:AFK Games
X-ORIGINAL-URL:https://afk.games
X-WR-CALDESC:Events for AFK Games
REFRESH-INTERVAL;VALUE=DURATION:PT1H
X-Robots-Tag:noindex
X-PUBLISHED-TTL:PT1H
BEGIN:VTIMEZONE
TZID:America/Detroit
BEGIN:DAYLIGHT
TZOFFSETFROM:-0500
TZOFFSETTO:-0400
TZNAME:EDT
DTSTART:20240310T070000
END:DAYLIGHT
BEGIN:STANDARD
TZOFFSETFROM:-0400
TZOFFSETTO:-0500
TZNAME:EST
DTSTART:20241103T060000
END:STANDARD
BEGIN:DAYLIGHT
TZOFFSETFROM:-0500
TZOFFSETTO:-0400
TZNAME:EDT
DTSTART:20250309T070000
END:DAYLIGHT
BEGIN:STANDARD
TZOFFSETFROM:-0400
TZOFFSETTO:-0500
TZNAME:EST
DTSTART:20251102T060000
END:STANDARD
BEGIN:DAYLIGHT
TZOFFSETFROM:-0500
TZOFFSETTO:-0400
TZNAME:EDT
DTSTART:20260308T070000
END:DAYLIGHT
BEGIN:STANDARD
TZOFFSETFROM:-0400
TZOFFSETTO:-0500
TZNAME:EST
DTSTART:20261101T060000
END:STANDARD
END:VTIMEZONE
BEGIN:VEVENT
DTSTART;TZID=America/Detroit:20251101T183000
DTEND;TZID=America/Detroit:20251101T220000
DTSTAMP:20260423T074631
CREATED:20251020T193836Z
LAST-MODIFIED:20251020T193836Z
UID:10004188-1762021800-1762034400@afk.games
SUMMARY:Pokemon - Mega Evolution-Phantasmal Flames Prerelease
DESCRIPTION:Get a first look at the upcoming Pokémon TCG set\, Mega Evolution – Phantasmal Flame\, at our Prerelease events! \nEach player will receive a Build & Battle Box\, which includes a 40-card preconstructed deck and 4 booster packs. You’ll have time to modify your deck using your new cards and basic Energy provided by the store before playing three rounds of Swiss in a fun\, casual environment. \nEntry: $30Tickets: Available soon \nPrize Support:• 3 booster packs are added to the prize pool per participant.• All players receive 2 additional booster packs at the end of the event\, regardless of performance.• The third booster pack from each entry will be awarded to top players based on record. \nCome enjoy the excitement of the new set before its official release!
URL:https://afk.games/event/pokemon-mega-evolution-phantasmal-flames-prerelease/
LOCATION:AFK Games\, 2495 Cedar Street STE 14-B\, Holt\, MI\, 48842\, United States
ORGANIZER;CN="AFK Games":MAILTO:support@afk-games.com
END:VEVENT
END:VCALENDAR