BEGIN:VCALENDAR
VERSION:2.0
PRODID:-//AFK Games - ECPv6.15.20//NONSGML v1.0//EN
CALSCALE:GREGORIAN
METHOD:PUBLISH
X-ORIGINAL-URL:https://afk.games
X-WR-CALDESC:Events for AFK Games
REFRESH-INTERVAL;VALUE=DURATION:PT1H
X-Robots-Tag:noindex
X-PUBLISHED-TTL:PT1H
BEGIN:VTIMEZONE
TZID:America/Detroit
BEGIN:DAYLIGHT
TZOFFSETFROM:-0500
TZOFFSETTO:-0400
TZNAME:EDT
DTSTART:20240310T070000
END:DAYLIGHT
BEGIN:STANDARD
TZOFFSETFROM:-0400
TZOFFSETTO:-0500
TZNAME:EST
DTSTART:20241103T060000
END:STANDARD
BEGIN:DAYLIGHT
TZOFFSETFROM:-0500
TZOFFSETTO:-0400
TZNAME:EDT
DTSTART:20250309T070000
END:DAYLIGHT
BEGIN:STANDARD
TZOFFSETFROM:-0400
TZOFFSETTO:-0500
TZNAME:EST
DTSTART:20251102T060000
END:STANDARD
BEGIN:DAYLIGHT
TZOFFSETFROM:-0500
TZOFFSETTO:-0400
TZNAME:EDT
DTSTART:20260308T070000
END:DAYLIGHT
BEGIN:STANDARD
TZOFFSETFROM:-0400
TZOFFSETTO:-0500
TZNAME:EST
DTSTART:20261101T060000
END:STANDARD
END:VTIMEZONE
BEGIN:VEVENT
DTSTART;TZID=America/Detroit:20250211T183000
DTEND;TZID=America/Detroit:20250211T210000
DTSTAMP:20260422T181642
CREATED:20241220T015415Z
LAST-MODIFIED:20241220T015415Z
UID:10003290-1739298600-1739307600@afk.games
SUMMARY:One Piece Card Game - OP-09 League
DESCRIPTION:League Information\nSchedule:\nTuesdays @ 6:30 pm\nSaturdays @ 12:30 pm \nTournament Duration: The league lasts until the release of set 10 (March 2025) the final events for this League are the two OP10 Prereleases on 3/15/25 and 3/18/25. \nEntry Fee: $10 \nIf we are out of participation packs\, entry will be $5 \nFormat: Bo1 Swiss 35 min rounds \nEntry: 1 OP09 Pack \nPrizing:\n1st – Winner pack\n2nd – Winner pack (at 16+ players)\nTop 16 – one tournament pack \n$6 Per head will be used to build the league pot – This pot will be distributed to the top 25% per ranking leaderboard at the end of the league season (OP10 + Other goodies in prize pool) \nPrizing subject to change \nFor current leaderboard status please check https://gear5.gg/leaderboard\nor\nDiscord: Discord in the #Leaderboard channel under the One Piece category (The discord bot only updates every 12 hours
URL:https://afk.games/event/one-piece-card-game-op-09-league-2/2025-02-11/
LOCATION:AFK Games\, 2495 Cedar Street STE 14-B\, Holt\, MI\, 48842\, United States
CATEGORIES:Bandai,Events,One Piece TCG
ORGANIZER;CN="AFK Games":MAILTO:support@afk-games.com
END:VEVENT
BEGIN:VEVENT
DTSTART;TZID=America/Detroit:20250215T123000
DTEND;TZID=America/Detroit:20250215T200000
DTSTAMP:20260422T181642
CREATED:20250104T235101Z
LAST-MODIFIED:20250105T001033Z
UID:10003482-1739622600-1739649600@afk.games
SUMMARY:One Piece - Great Lakes Voyage 3v3 Tournament
DESCRIPTION:Welcome to the Great Voyage Gauntlet 3v3 Tournament hosted by AFK Games! Gather your crew\, prepare your decks\, and set sail for an exciting competition. Below you’ll find all the necessary details to ensure a smooth and enjoyable event. \nEvent Details\n\nDate: February\, 15th 2025\nTime:\n\n11:00 AM: Open & Registration\n12:00 PM: Player’s Meeting\n12:30 PM: Event Begins\n\n\n\nDecklist Submission form: \nhttps://forms.gle/XMFVxX11yUysMw8AA\n\nTicket Purchase:\nhttps://shop.afk.games/products/one-piece-great-lakes-voyage-3v3-tournament \nEntry Information\n\n\n\nEntry Fee:\n\n$90 per team ($30 per player)\n\n\nRegistration:\n\nTeams must register by February 15th\, at 11:45 AM.\nEnsure all team members submit their decklists prior to February 15th\, at 11:50 AM.\n\n\n\n\n\n\nParticipation:\n\n\n\n\nEach player will receive 3 tournament packs for entering the event\, these will be a mix of current\, and older tournament packs we have in inventory.\nWe will have a few raffles for non-marked versions of the event playmat.\n\n\n\nPrizes\n– Prize boxes will be OP10 product! Prizes will be eligible for shipping or picked up once the product is available!  \n\nPlayers will also be able to take their split as store credit as another option. \nIIf selecting OP10 product as a prize\, winners must provide their name and shipping address before leaving the event.\n\nTournament Format\n\nFormat: OP-09\n\nOffline Play\nThree-Player Teams\nConstructed Decks\nDeck Lists Required: Submit via Google Form\n\n\nMatch Structure:\n\nQualifying Matches: Best-of-One\n\nMatch Duration: 35 minutes\nOvertime: 5 minutes\n\n\nTop Cut: Best-of-Three\n\nMatch Duration: 60 Minutes\nOvertime: 5 minutes\nTop Cut based on attendance\n\n\n\n\nVictory Points System:\n\nTeam Victory Points:\n\n1 Victory Point:\n\n3 Wins\, 0 Losses\nOR\n2 Wins\, 1 Loss\n\n\n0 Victory Points:\n\n1 Win\, 2 Losses\nOR\n0 Wins\, 3 Losses\n\n\n\n\n\n\nMatch Victory Determination:\n\nIf 2 or more team members win their individual matches\, the team earns 1 Victory Point.
URL:https://afk.games/event/one-piece-great-lakes-voyage-3v3-tournament/
LOCATION:AFK Games\, 2495 Cedar Street STE 14-B\, Holt\, MI\, 48842\, United States
CATEGORIES:Bandai,Events,One Piece TCG
ORGANIZER;CN="AFK Games":MAILTO:support@afk-games.com
END:VEVENT
END:VCALENDAR