BEGIN:VCALENDAR
VERSION:2.0
PRODID:-//AFK Games - ECPv6.15.20//NONSGML v1.0//EN
CALSCALE:GREGORIAN
METHOD:PUBLISH
X-WR-CALNAME:AFK Games
X-ORIGINAL-URL:https://afk.games
X-WR-CALDESC:Events for AFK Games
REFRESH-INTERVAL;VALUE=DURATION:PT1H
X-Robots-Tag:noindex
X-PUBLISHED-TTL:PT1H
BEGIN:VTIMEZONE
TZID:America/Detroit
BEGIN:DAYLIGHT
TZOFFSETFROM:-0500
TZOFFSETTO:-0400
TZNAME:EDT
DTSTART:20230312T070000
END:DAYLIGHT
BEGIN:STANDARD
TZOFFSETFROM:-0400
TZOFFSETTO:-0500
TZNAME:EST
DTSTART:20231105T060000
END:STANDARD
BEGIN:DAYLIGHT
TZOFFSETFROM:-0500
TZOFFSETTO:-0400
TZNAME:EDT
DTSTART:20240310T070000
END:DAYLIGHT
BEGIN:STANDARD
TZOFFSETFROM:-0400
TZOFFSETTO:-0500
TZNAME:EST
DTSTART:20241103T060000
END:STANDARD
BEGIN:DAYLIGHT
TZOFFSETFROM:-0500
TZOFFSETTO:-0400
TZNAME:EDT
DTSTART:20250309T070000
END:DAYLIGHT
BEGIN:STANDARD
TZOFFSETFROM:-0400
TZOFFSETTO:-0500
TZNAME:EST
DTSTART:20251102T060000
END:STANDARD
END:VTIMEZONE
BEGIN:VEVENT
DTSTART;TZID=America/Detroit:20241027T120000
DTEND;TZID=America/Detroit:20241027T170000
DTSTAMP:20260420T221409
CREATED:20240905T193344Z
LAST-MODIFIED:20240905T193344Z
UID:10003040-1730030400-1730048400@afk.games
SUMMARY:Marvel: Crisis Protocol Fight Club
DESCRIPTION:Join us every Sunday for Marvel: Crisis Protocol at AFK! Whether you’re looking to practice your strategies\, learn new tactics\, or just enjoy casual games\, we’ve got you covered. Drop in anytime between open and close to play\, meet fellow players\, and sharpen your skills in a fun\, relaxed environment. All experience levels are welcome!
URL:https://afk.games/event/marvel-crisis-protocol-fight-club/2024-10-27/
LOCATION:AFK Games\, 2495 Cedar Street STE 14-B\, Holt\, MI\, 48842\, United States
CATEGORIES:Atomic Mass Games,Events,Marvel: Crisis Protocol
ORGANIZER;CN="AFK Games":MAILTO:support@afk-games.com
END:VEVENT
BEGIN:VEVENT
DTSTART;TZID=America/Detroit:20241031T173000
DTEND;TZID=America/Detroit:20241031T210000
DTSTAMP:20260420T221409
CREATED:20240321T195556Z
LAST-MODIFIED:20240321T195556Z
UID:10002444-1730395800-1730408400@afk.games
SUMMARY:Weekly Board Game Night
DESCRIPTION:Hey everyone! Are you ready for a fun night of board games? Join us for an open board game night at AFK Games! \nThe event starts at 5:30 pm and goes until 9:00 pm. \nBring your favorite board games and challenge your friends! We have plenty of tables set up! \nDon’t have a board game to bring? No worries\, there will be plenty of games to choose from. Come out\, meet some new people\, and have a great time playing your favorite games. We can’t wait to see you there!
URL:https://afk.games/event/weekly-board-game-night/2024-10-31/
LOCATION:AFK Games\, 2495 Cedar Street STE 14-B\, Holt\, MI\, 48842\, United States
CATEGORIES:Events
ORGANIZER;CN="AFK Games":MAILTO:support@afk-games.com
END:VEVENT
END:VCALENDAR