BEGIN:VCALENDAR
VERSION:2.0
PRODID:-//AFK Games - ECPv6.15.20//NONSGML v1.0//EN
CALSCALE:GREGORIAN
METHOD:PUBLISH
X-WR-CALNAME:AFK Games
X-ORIGINAL-URL:https://afk.games
X-WR-CALDESC:Events for AFK Games
REFRESH-INTERVAL;VALUE=DURATION:PT1H
X-Robots-Tag:noindex
X-PUBLISHED-TTL:PT1H
BEGIN:VTIMEZONE
TZID:America/Detroit
BEGIN:DAYLIGHT
TZOFFSETFROM:-0500
TZOFFSETTO:-0400
TZNAME:EDT
DTSTART:20250309T070000
END:DAYLIGHT
BEGIN:STANDARD
TZOFFSETFROM:-0400
TZOFFSETTO:-0500
TZNAME:EST
DTSTART:20251102T060000
END:STANDARD
BEGIN:DAYLIGHT
TZOFFSETFROM:-0500
TZOFFSETTO:-0400
TZNAME:EDT
DTSTART:20260308T070000
END:DAYLIGHT
BEGIN:STANDARD
TZOFFSETFROM:-0400
TZOFFSETTO:-0500
TZNAME:EST
DTSTART:20261101T060000
END:STANDARD
BEGIN:DAYLIGHT
TZOFFSETFROM:-0500
TZOFFSETTO:-0400
TZNAME:EDT
DTSTART:20270314T070000
END:DAYLIGHT
BEGIN:STANDARD
TZOFFSETFROM:-0400
TZOFFSETTO:-0500
TZNAME:EST
DTSTART:20271107T060000
END:STANDARD
END:VTIMEZONE
BEGIN:VEVENT
DTSTART;TZID=America/Detroit:20260307T080000
DTEND;TZID=America/Detroit:20260307T170000
DTSTAMP:20260421T181905
CREATED:20260222T194248Z
LAST-MODIFIED:20260222T194248Z
UID:10006038-1772870400-1772902800@afk.games
SUMMARY:Middle-Earth Strategy Battle Game Doubles Tournament
DESCRIPTION:Tournament Format\n\nRounds – 3\nRound time – 3 Hours\nFormat – Doubles\nSoftware – Longshanks\nDoors – 10:00 AM\nStart – 10:30 AM\nEntry – $30/Team\n\n\nOnce time is called\, dice must be down \n \nTicket: https://shop.afk.games/products/side-by-side-with-a-friend \n  \nLongshanks: https://mesbg.longshanks.org/event/30713/ \n  \nRoster Selection\n\nBoth members of the team must make a 800 point list with both players looking to have lists around 400. If desired\, players may share 50 points between them\, so one player could have 450 points and the other player would have 350.\n\nPlayers must sign up and submit their list on Longshanks in order to be allowed to play\n\n\nWe will follow list-building restrictions in the Middle Earth Strategy Battle Game Rules Manuel (2024)\, Armies of the Lord of the Rings (2024)\, the Armies of the Hobbit (2024)\, Armies of Middle-Earth (2025)\, the Matched Play Guide (2025)\, and the Good and Evil Legacies PDFs (2025).\n\n  \nPrizes\n1) Best Tactician: 1st\, 2nd\, and 3rd (This award goes on to the GLHL rankings) [Player that scores the highest with gaming points] \n2) Best Artisan: 1st\, 2nd\, and 3rd (This award goes on to the GLHL rankings) [Player that scores the highest with the Hobby Scoring] \n3) Door Prizes! Raffle Prizes!
URL:https://afk.games/event/middle-earth-strategy-battle-game-doubles-tournament/
LOCATION:AFK Games\, 2495 Cedar Street STE 14-B\, Holt\, MI\, 48842\, United States
CATEGORIES:Events,Games Workshop,MESBG,Miniature Games
ORGANIZER;CN="AFK Games":MAILTO:support@afk-games.com
END:VEVENT
BEGIN:VEVENT
DTSTART;TZID=America/Detroit:20260307T110000
DTEND;TZID=America/Detroit:20260307T173000
DTSTAMP:20260421T181905
CREATED:20260222T195411Z
LAST-MODIFIED:20260222T200811Z
UID:10006039-1772881200-1772904600@afk.games
SUMMARY:March Marvel: Crisis Protocol Tournament
DESCRIPTION:Tournament Format\n\nRounds – 3\nRound time – 90 minutes + 15 minutes to finish the current round\nFormat – Standard Timeline (2025 Timeline)\nSoftware – Longshanks\nDoors – 10:30 AM\nStart – 11:00 AM\nEntry – $10\n\n\nOnce time is called\, players will have 15 minutes to finish the current round. After 15 minutes\, players will score VP and finish the match. \n \nTicket: https://shop.afk.games/products/mcp-tournament-march-7th \n  \nLongshanks: https://mcp.longshanks.org/event/32728/ \n  \nRoster Selection\n\nEach player will bring their roster that is in line with the current rules\, errata\, FAQ\, and Banned and Restricted List. We are using the new Challenger format which can be found here: Challenger Document\n\n  \nVictory Conditions\nVictory conditions will follow normal MCP conditions with Standing being calculated with tie breakers of Average Opponent TP and Victory Points Scored.\n  \nPainting and Basing\n\nAll models must be based on their current base size.\nPainting is not required.\n\nPlayer Responsibilities\n\nBring your roster\nBring your tactics cards\nCrisis Cards\nAll materials needed to play a game/report the results – including:\n\nDice\nMeasuring devices\n\n\n\nPlayers are also responsible for conducting themselves in an appropriate\, sportsmanlike manner at all times. \n  \nPrizes\nStore credit to top 3 players + Best Painted \n 
URL:https://afk.games/event/5466/
LOCATION:AFK Games\, 2495 Cedar Street STE 14-B\, Holt\, MI\, 48842\, United States
CATEGORIES:Atomic Mass Games,Events,Marvel: Crisis Protocol
ORGANIZER;CN="AFK Games":MAILTO:support@afk-games.com
END:VEVENT
END:VCALENDAR