BEGIN:VCALENDAR
VERSION:2.0
PRODID:-//AFK Games - ECPv6.15.20//NONSGML v1.0//EN
CALSCALE:GREGORIAN
METHOD:PUBLISH
X-WR-CALNAME:AFK Games
X-ORIGINAL-URL:https://afk.games
X-WR-CALDESC:Events for AFK Games
REFRESH-INTERVAL;VALUE=DURATION:PT1H
X-Robots-Tag:noindex
X-PUBLISHED-TTL:PT1H
BEGIN:VTIMEZONE
TZID:America/Detroit
BEGIN:DAYLIGHT
TZOFFSETFROM:-0500
TZOFFSETTO:-0400
TZNAME:EDT
DTSTART:20240310T070000
END:DAYLIGHT
BEGIN:STANDARD
TZOFFSETFROM:-0400
TZOFFSETTO:-0500
TZNAME:EST
DTSTART:20241103T060000
END:STANDARD
BEGIN:DAYLIGHT
TZOFFSETFROM:-0500
TZOFFSETTO:-0400
TZNAME:EDT
DTSTART:20250309T070000
END:DAYLIGHT
BEGIN:STANDARD
TZOFFSETFROM:-0400
TZOFFSETTO:-0500
TZNAME:EST
DTSTART:20251102T060000
END:STANDARD
BEGIN:DAYLIGHT
TZOFFSETFROM:-0500
TZOFFSETTO:-0400
TZNAME:EDT
DTSTART:20260308T070000
END:DAYLIGHT
BEGIN:STANDARD
TZOFFSETFROM:-0400
TZOFFSETTO:-0500
TZNAME:EST
DTSTART:20261101T060000
END:STANDARD
END:VTIMEZONE
BEGIN:VEVENT
DTSTART;TZID=America/Detroit:20250518T100000
DTEND;TZID=America/Detroit:20250518T180000
DTSTAMP:20260423T171242
CREATED:20250407T225942Z
LAST-MODIFIED:20250407T233001Z
UID:10003969-1747562400-1747591200@afk.games
SUMMARY:May the 18th be with you - Shatterpoint Tournament
DESCRIPTION:Tournament Format\n\nRounds – 3\nRound time – 120 minutes \nFormat – You CAN escape your Destiny Premiere format \n\n4 lists but you do not have to play all 4\n\n\nSoftware – Longshanks\nDoors – 9:30 am\nStart – 10:00 am\nEntry – $20\n\nLunch included with entry\n \nStandard events will use a 120-minute round timer with Mission Critical* starting at the 90-minute mark. To create a variable game length\, we will roll 5 Attack Dice\, and add one minute to the event round for each critical(B) and strike(A) result. \nIf a game has not concluded when the time for an event round runs out\, the players finish the current Turn and calculate their scores.  \n*Mission Critical rules can be found on page 4 of the (Showdown Rules) \n  \nTicket: https://shop.afk.games/products/may-the-18th-be-with-you-shatterpoint-tournament \nLongshanks: https://shatterpoint.longshanks.org/event/24844/ \nStrike Team Selection\n\nEach player will bring their Strike Team that is in line with the current rules\, errata\, and FAQ\n\nhttps://www.atomicmassgames.com/shatterpoint \nPainting and Basing\n\nAll models must be based on their current base size. Official Base Size pdf\nPainting is not required.\n\nPlayer Responsibilities\nWe will follow the player responsibilities listed in the Star Wars: Shatterpoint rules pdf (including the following: \n\nMiniatures \nCards\nDice\nMeasuring Tools\nTokens\nStrike Team\nSportsmanship\n\n  \nPlayers are also responsible for conducting themselves in an appropriate\, sportsmanlike manner at all times.
URL:https://afk.games/event/may-the-18th-be-with-you-shatterpoint-tournament/
LOCATION:AFK Games\, 2495 Cedar Street STE 14-B\, Holt\, MI\, 48842\, United States
CATEGORIES:Atomic Mass Games,Events,Star Wars: Shatterpoint
ORGANIZER;CN="AFK Games":MAILTO:support@afk-games.com
END:VEVENT
BEGIN:VEVENT
DTSTART;TZID=America/Detroit:20250524T113000
DTEND;TZID=America/Detroit:20250524T170000
DTSTAMP:20260423T171242
CREATED:20250428T185238Z
LAST-MODIFIED:20250428T185238Z
UID:10003990-1748086200-1748106000@afk.games
SUMMARY:Warhammer 40K - 1000 Point Tournament
DESCRIPTION:Event Info: \n\nEntry: $20\nRounds: 3\nRound time: 90 Minutes + 10 minutes for round setup \nPairing Method: Random pairings based on W/L record\nThis event will be run through BCP\, if you need help please ask for assistance. If you do not have BCP\, please download the app before the start of the event. \n\nTicket: \nhttps://www.bestcoastpairings.com/event/jQAGpoI84PYv \nFormat: \n\nTables will be 44”x60”. \nLists must be a maximum 1000-point list.\nMissions chosen from the Pariah Nexus Tournament Mission Pool.\n\nEvent Schedule: \n\nDoors open/Check In: 11:00 AM\nRound 1: 11:00 AM\n\nEvent Deadlines: \n\nThe latest FAQs\, as of the tournament day\, will be in effect.  \n\nPrizes:  \n\nEntry awards 1 raffle ticket for the 1000 point Aldari Army \n\nTickets for additional raffles determined by attendance\, players will be able to receive tickets the following ways: \n\nPlaying a game earns 1 ticket\nWinning a game earn 1 ticket\n\nPainting and Models: \n\nThere is no painting requirement.  All players will receive a raffle ticket for be fully painted though.\n\n  \nAeldari Army Prize: \n1 box baharroth\n1 box lhykhis\n1 box guardians defenders\n1 box fire dragons\n2 boxes swooping hawks\n1 box war walkers\n2 boxes warp spiders\n1 codex \n  \nRound 1 Mission: Hammer and Anvil / Take and Hold / Raise Banners \nRound 2 Mission: Crucible of Battle / Linchpin / Adapt or Die \nRound 3 Mission: Search and Destroy / Supply Drop / Fog of War \nTerrain Layouts: Pariah Nexus Terrain layouts 1\,2\,4
URL:https://afk.games/event/warhammer-40k-1000-point-tournament-3/
LOCATION:AFK Games\, 2495 Cedar Street STE 14-B\, Holt\, MI\, 48842\, United States
CATEGORIES:Events,Games Workshop,Warhammer 40K
ORGANIZER;CN="AFK Games":MAILTO:support@afk-games.com
END:VEVENT
END:VCALENDAR