BEGIN:VCALENDAR
VERSION:2.0
PRODID:-//AFK Games - ECPv6.15.20//NONSGML v1.0//EN
CALSCALE:GREGORIAN
METHOD:PUBLISH
X-ORIGINAL-URL:https://afk.games
X-WR-CALDESC:Events for AFK Games
REFRESH-INTERVAL;VALUE=DURATION:PT1H
X-Robots-Tag:noindex
X-PUBLISHED-TTL:PT1H
BEGIN:VTIMEZONE
TZID:America/Detroit
BEGIN:DAYLIGHT
TZOFFSETFROM:-0500
TZOFFSETTO:-0400
TZNAME:EDT
DTSTART:20240310T070000
END:DAYLIGHT
BEGIN:STANDARD
TZOFFSETFROM:-0400
TZOFFSETTO:-0500
TZNAME:EST
DTSTART:20241103T060000
END:STANDARD
BEGIN:DAYLIGHT
TZOFFSETFROM:-0500
TZOFFSETTO:-0400
TZNAME:EDT
DTSTART:20250309T070000
END:DAYLIGHT
BEGIN:STANDARD
TZOFFSETFROM:-0400
TZOFFSETTO:-0500
TZNAME:EST
DTSTART:20251102T060000
END:STANDARD
BEGIN:DAYLIGHT
TZOFFSETFROM:-0500
TZOFFSETTO:-0400
TZNAME:EDT
DTSTART:20260308T070000
END:DAYLIGHT
BEGIN:STANDARD
TZOFFSETFROM:-0400
TZOFFSETTO:-0500
TZNAME:EST
DTSTART:20261101T060000
END:STANDARD
END:VTIMEZONE
BEGIN:VEVENT
DTSTART;TZID=America/Detroit:20251101T090000
DTEND;TZID=America/Detroit:20251101T193000
DTSTAMP:20260422T063739
CREATED:20251007T191229Z
LAST-MODIFIED:20251007T191232Z
UID:10004183-1761987600-1762025400@afk.games
SUMMARY:Blood for the Cause - 40K Tournament
DESCRIPTION:Event Information\nEntry: $25\nRounds: 3\nRound Time: 3 Hours\nPairing Method: Random pairings based on W/L record\nPlacings: Determined by Win/Loss record\, then total battle points \nTickets: \nThis event will be run through Best Coast Pairings (BCP). \nIf you need help\, please ask for assistance prior to the list submission date. \nIf you do not have BCP\, please download the app before the start of the event. \nThe event will be registered with ITC. \n100% of entries will be donated to the Hemophilia Foundation of Michigan \n\nFormat\n\nTables will be 44” x 60”.\nUses ITC rules and regulations.\nLists must be a maximum 2000-point Strike Force and be submitted before the list submission deadline.\nA ringer may be used if an odd number of players exist in any round. The ringer participant will receive an automatic win and however many battle points scored (minimum of 70) during that round will be added to their overall score.\n\n\nEvent Schedule\n\n\n\nTime\nActivity\n\n\n\n\n8:00 AM – 8:45 AM\nCheck-In\n\n\n8:45 AM\nPlayer Meeting\n\n\n9:00 AM – 12:00 PM\nRound 1\n\n\n12:00 PM – 1:00 PM\nLunch\n\n\n1:00 PM – 4:00 PM\nRound 2\n\n\n4:00 PM – 4:15 PM\nBreak\n\n\n4:15 PM – 7:15 PM\nRound 3\n\n\n7:15 PM – 7:30 PM\nAwards & Prizes\n\n\n\n\nEvent Deadlines\n\nList Submission: Wednesday\, October 29th at 11:59 PM\nNew Content Cutoff: No new codices\, indexes\, or points updates released after Friday\, October 25th will be used.\nThe latest FAQs\, as of tournament day\, will be in effect.\n\n\nPrizes\nAwards for 1st\, 2nd\, and 3rd place \n\nPainting and Models\n\nThere is no painting requirement.\nAll players will receive the 10 points for “paint” included in their score for each round.\nConverted and 3D printed models must receive approval from the TO before the list submission deadline.\nContact the TO at christophergrover123@yahoo.com\n\n\nTerrain Rules & Missions\nTerrain Layout 1 \n\n\n\nRound\nDeployment\nPrimary Mission\nMission Rule\n\n\n\n\n1\nK\nScorched Earth\nSearch and Destroy\n\n\n2\nC\nLinchpin\nTipping Point\n\n\n3\nG\nPurge the Foe\nHammer and Anvil
URL:https://afk.games/event/blood-for-the-cause-40k-tournament/
LOCATION:AFK Games\, 2495 Cedar Street STE 14-B\, Holt\, MI\, 48842\, United States
CATEGORIES:Events,Games Workshop,Warhammer 40K
ORGANIZER;CN="AFK Games":MAILTO:support@afk-games.com
END:VEVENT
BEGIN:VEVENT
DTSTART;TZID=America/Detroit:20251102T100000
DTEND;TZID=America/Detroit:20251102T180000
DTSTAMP:20260422T063739
CREATED:20251023T195717Z
LAST-MODIFIED:20251023T195717Z
UID:10004193-1762077600-1762106400@afk.games
SUMMARY:Star Wars: Shatterpoint Tournament
DESCRIPTION:$20 entry includes lunch \n9:30 registration\, 10:00 dice \nAll participants will get custom updated stance cards for two factions of their choice. \nPrizes for all. \nPremiere format but you CAN escape your destiny
URL:https://afk.games/event/star-wars-shatterpoint-tournament-2/
LOCATION:AFK Games\, 2495 Cedar Street STE 14-B\, Holt\, MI\, 48842\, United States
CATEGORIES:Atomic Mass Games,Events,Star Wars: Shatterpoint
ORGANIZER;CN="AFK Games":MAILTO:support@afk-games.com
END:VEVENT
BEGIN:VEVENT
DTSTART;TZID=America/Detroit:20251108T090000
DTEND;TZID=America/Detroit:20251108T190000
DTSTAMP:20260422T063739
CREATED:20251029T193302Z
LAST-MODIFIED:20251029T193302Z
UID:10004195-1762592400-1762628400@afk.games
SUMMARY:Warhammer 40K RTT
DESCRIPTION:Event Info — 2000pt Strike Force (ITC / Pariah Nexus)\nEntry: $25  |\nRounds: 3  |\nRound Time: 3 Hours  |\nPairing Method: Random pairings based on W/L record \n\nPlacings are determined by Win/Loss record\, then total battle points. \nThis event will be run through BCP — if you need help\, please ask for assistance prior to the list submission date.\nIf you do not have BCP\, please download the app before the start of the event. \nThe event will be registered with ITC. \nBuy Ticket / Register on BCP \n\n\n\nFormat\n\nTables will be 44” x 60”\nITC rules and regulations apply\nLists must be a maximum 2000-point strike force and submitted before the list submission deadline (see below)\nMissions chosen from the Pariah Nexus Tournament Mission Pool\nA ringer may be used if an odd number of players exist in any round:\n\nThe ringer will receive an automatic win for that round\nTheir battle points scored (minimum of 70) will be added to their overall score\n\n\n\n\n\n\nEvent Schedule\n\n\n\nTime\nActivity\n\n\n\n\n8:15 AM – 8:45 AM\nDoors Open / Check-In\n\n\n8:45 AM\nPlayer Meeting\n\n\n9:00 AM – 12:00 PM\nRound 1\n\n\n12:00 PM – 12:45 PM\nLunch\n\n\n12:45 PM – 3:45 PM\nRound 2\n\n\n3:50 PM – 6:50 PM\nRound 3\n\n\n\n\n\n\nEvent Deadlines\n\nList Submission: Due Friday\, November 7th at 11:59 PM\nNew Releases: No new codices\, indexes\, or points updates released after Saturday\, November 1st will be used\nThe latest FAQs\, as of tournament day\, will be in effect\n\n\n\n\nPrizes\nPayout varies based on attendance. Prizes will be awarded as in-store credit. \nAwards: \n\nFirst Place\nSecond Place\nThird Place\nBest Appearance (voted by players)\n\nPlayers cannot win more than one prize. \n\n\n\nPainting & Models\n\nNo painting requirement — all players will automatically receive 10 paint points each round\nConverted or 3D printed models must receive approval from the TO before the list submission deadline\n\nContact TO: Hilla.anthony@gmail.com \n\n\n\nTerrain Rules & Missions
URL:https://afk.games/event/warhammer-40k-rtt-4/
LOCATION:AFK Games\, 2495 Cedar Street STE 14-B\, Holt\, MI\, 48842\, United States
CATEGORIES:Events,Games Workshop,RTT,Warhammer 40K
ORGANIZER;CN="AFK Games":MAILTO:support@afk-games.com
END:VEVENT
BEGIN:VEVENT
DTSTART;TZID=America/Detroit:20251115T120000
DTEND;TZID=America/Detroit:20251115T170000
DTSTAMP:20260422T063739
CREATED:20251103T200722Z
LAST-MODIFIED:20251103T200722Z
UID:10004197-1763208000-1763226000@afk.games
SUMMARY:Bolt Action Tanks Giving 2025
DESCRIPTION:Do you want to get all that heavy armor out to play that never sees the table because it’s “not optimal” or costs too many points? Do you want to help charity at the same time? Now’s your chance! \n  \nAFK Games will be hosting an armor-centric game of Bolt Action in support of the Holt Food Bank. All food and money taken in will be donated to the Holt Community Food Bank. \n  \nEntry will be $5 or three non-perishable food items per player. It’s worth noting that the food bank can do more with money as their buying power is greater and they have better knowledge of the specifics of their needs. \n \n \nThis will be an Axis vs Allies armor only game of Bolt Action with some adjustments for playability and balance. This game will be played by pushing AFK’s 8×4 tables together for one long table\, which will be played lengthwise – let those big cats stretch their legs!  \n  \n\nPlayers will bring an Axis or Allied tank force consisting of 3 tanks / AFVs.\n\n  \n\nThere are no era restrictions in play.\n\n  \n\nNo infantry is allowed\, so don’t worry about sneaky panzerfausts!
URL:https://afk.games/event/bolt-action-tanks-giving-2025/
LOCATION:AFK Games\, 2495 Cedar Street STE 14-B\, Holt\, MI\, 48842\, United States
CATEGORIES:Bolt Action,Events,Miniature Games
ORGANIZER;CN="AFK Games":MAILTO:support@afk-games.com
END:VEVENT
END:VCALENDAR