BEGIN:VCALENDAR
VERSION:2.0
PRODID:-//AFK Games - ECPv6.15.20//NONSGML v1.0//EN
CALSCALE:GREGORIAN
METHOD:PUBLISH
X-ORIGINAL-URL:https://afk.games
X-WR-CALDESC:Events for AFK Games
REFRESH-INTERVAL;VALUE=DURATION:PT1H
X-Robots-Tag:noindex
X-PUBLISHED-TTL:PT1H
BEGIN:VTIMEZONE
TZID:America/Detroit
BEGIN:DAYLIGHT
TZOFFSETFROM:-0500
TZOFFSETTO:-0400
TZNAME:EDT
DTSTART:20230312T070000
END:DAYLIGHT
BEGIN:STANDARD
TZOFFSETFROM:-0400
TZOFFSETTO:-0500
TZNAME:EST
DTSTART:20231105T060000
END:STANDARD
BEGIN:DAYLIGHT
TZOFFSETFROM:-0500
TZOFFSETTO:-0400
TZNAME:EDT
DTSTART:20240310T070000
END:DAYLIGHT
BEGIN:STANDARD
TZOFFSETFROM:-0400
TZOFFSETTO:-0500
TZNAME:EST
DTSTART:20241103T060000
END:STANDARD
BEGIN:DAYLIGHT
TZOFFSETFROM:-0500
TZOFFSETTO:-0400
TZNAME:EDT
DTSTART:20250309T070000
END:DAYLIGHT
BEGIN:STANDARD
TZOFFSETFROM:-0400
TZOFFSETTO:-0500
TZNAME:EST
DTSTART:20251102T060000
END:STANDARD
END:VTIMEZONE
BEGIN:VEVENT
DTSTART;TZID=America/Detroit:20240406T120000
DTEND;TZID=America/Detroit:20240406T180000
DTSTAMP:20260425T001447
CREATED:20240225T020435Z
LAST-MODIFIED:20240225T020435Z
UID:10002391-1712404800-1712426400@afk.games
SUMMARY:Malifaux Tournament
DESCRIPTION:Tournament Format\n\nRounds – 2\nRound time – 3 hours + 15 minutes for setup\nTable Size – 3×3\nFormat – Swiss\nSoftware – Longshanks\nDoors – 11:30 AM\nStart – 12:00 PM\nEntry – $10\n\nThis tournament will follow the rules presented in: \n\nMalifaux 3E Rulebook\nMalifaux Burns\nMadness of Malifaux\nAshes of Malifaux\nGaining Grounds\nMost recent Eratta & FAQ\n\nCrew Selection\n\nFixed Master – declared at registration (Edited\nSingles (When hiring\, Masters not sharing a Keyword with the Crew’s Leader cannot be hired)\nDead Man’s Hand models will not be allowed\n50SS Crew\nGaining Grounds 4\n\nFull rules packet: \nhttps://docs.google.com/document/d/1CGSOYByMiM7XRKpXTrnCtHkpsM1FWfNvsvEQyhYLRUI
URL:https://afk.games/event/malifaux-tournament/
LOCATION:AFK Games\, 2495 Cedar Street STE 14-B\, Holt\, MI\, 48842\, United States
CATEGORIES:Events,Malifaux,Miniature Games
ORGANIZER;CN="AFK Games":MAILTO:support@afk-games.com
END:VEVENT
END:VCALENDAR