BEGIN:VCALENDAR
VERSION:2.0
PRODID:-//AFK Games - ECPv6.15.20//NONSGML v1.0//EN
CALSCALE:GREGORIAN
METHOD:PUBLISH
X-ORIGINAL-URL:https://afk.games
X-WR-CALDESC:Events for AFK Games
REFRESH-INTERVAL;VALUE=DURATION:PT1H
X-Robots-Tag:noindex
X-PUBLISHED-TTL:PT1H
BEGIN:VTIMEZONE
TZID:America/Detroit
BEGIN:DAYLIGHT
TZOFFSETFROM:-0500
TZOFFSETTO:-0400
TZNAME:EDT
DTSTART:20250309T070000
END:DAYLIGHT
BEGIN:STANDARD
TZOFFSETFROM:-0400
TZOFFSETTO:-0500
TZNAME:EST
DTSTART:20251102T060000
END:STANDARD
BEGIN:DAYLIGHT
TZOFFSETFROM:-0500
TZOFFSETTO:-0400
TZNAME:EDT
DTSTART:20260308T070000
END:DAYLIGHT
BEGIN:STANDARD
TZOFFSETFROM:-0400
TZOFFSETTO:-0500
TZNAME:EST
DTSTART:20261101T060000
END:STANDARD
BEGIN:DAYLIGHT
TZOFFSETFROM:-0500
TZOFFSETTO:-0400
TZNAME:EDT
DTSTART:20270314T070000
END:DAYLIGHT
BEGIN:STANDARD
TZOFFSETFROM:-0400
TZOFFSETTO:-0500
TZNAME:EST
DTSTART:20271107T060000
END:STANDARD
END:VTIMEZONE
BEGIN:VEVENT
DTSTART;TZID=America/Detroit:20260503T120000
DTEND;TZID=America/Detroit:20260503T180000
DTSTAMP:20260422T182857
CREATED:20251119T225615Z
LAST-MODIFIED:20251119T225615Z
UID:10004295-1777809600-1777831200@afk.games
SUMMARY:MTG Commander
DESCRIPTION:Join us every Sunday for open Commander play! No entry fee\, just relaxed games\, good company\, and big plays. Bring a deck (or a few!)\, grab a pod\, and enjoy a fun\, welcoming environment for all skill levels.
URL:https://afk.games/event/mtg-commander/2026-05-03/
LOCATION:AFK Games\, 2495 Cedar Street STE 14-B\, Holt\, MI\, 48842\, United States
CATEGORIES:Commander,Events,Magic: The Gathering
ORGANIZER;CN="AFK Games":MAILTO:support@afk-games.com
END:VEVENT
BEGIN:VEVENT
DTSTART;TZID=America/Detroit:20260503T130000
DTEND;TZID=America/Detroit:20260503T170000
DTSTAMP:20260422T182857
CREATED:20260101T205413Z
LAST-MODIFIED:20260101T205413Z
UID:10005483-1777813200-1777827600@afk.games
SUMMARY:Lorcana League
DESCRIPTION:Join us for our Lorcana League every Sunday at 1:00 pm!
URL:https://afk.games/event/lorcana-league/2026-05-03/
LOCATION:AFK Games\, 2495 Cedar Street STE 14-B\, Holt\, MI\, 48842\, United States
CATEGORIES:Events,Lorcana,Ravensburger
ORGANIZER;CN="AFK Games":MAILTO:support@afk-games.com
END:VEVENT
BEGIN:VEVENT
DTSTART;TZID=America/Detroit:20260508T180000
DTEND;TZID=America/Detroit:20260508T220000
DTSTAMP:20260422T182857
CREATED:20251111T193552Z
LAST-MODIFIED:20251111T193552Z
UID:10004229-1778263200-1778277600@afk.games
SUMMARY:Riftbound - Nexus Night
DESCRIPTION:Event Prizing\nParticipation: 1 Booster Pack of Origins (while supplies last\, see prizing charts below)\nEntry Contribution: $6 per player goes into the prize pool \nNexus Night Promo Packs\n\nTop 2: 1× Nexus Night Promo Pack\nTop 8: 1× Nexus Night Promo Pack\n\n(Top 2 also counts toward Top 8 — packs stack.) \n\nStore Credit by Record (4-Round Example\, 8+ Players)\n\n\n\nRecord\nCash-Only Store Credit\nPack-Included Store Credit\n\n\n\n\n4-0-0\n$60\n$36\n\n\n3-0-1\n$40\n$24\n\n\n3-1-0\n$20\n$12\n\n\n2-1-1\n$10\n$6\n\n\n\n(8 or fewer players)\n\n\n\nRecord\nCash-Only Store Credit\nPack-Included Store Credit\n\n\n\n\n3-0\n$40\n$24\n\n\n2-0-1\n$30\n$18\n\n\n2-1\n$20\n$12
URL:https://afk.games/event/riftbound-nexus-night/2026-05-08/
LOCATION:AFK Games\, 2495 Cedar Street STE 14-B\, Holt\, MI\, 48842\, United States
CATEGORIES:Events,Riftbound
ORGANIZER;CN="AFK Games":MAILTO:support@afk-games.com
END:VEVENT
BEGIN:VEVENT
DTSTART;TZID=America/Detroit:20260509T120000
DTEND;TZID=America/Detroit:20260509T170000
DTSTAMP:20260422T182857
CREATED:20260415T051737Z
LAST-MODIFIED:20260415T051737Z
UID:10006072-1778328000-1778346000@afk.games
SUMMARY:Arkham Horror: The Card Game - Learn to Play
DESCRIPTION:Join us May 9th at noon for an Arkham Horror: The Card Game learn to play session! Blurring the traditional lines between role-playing and card game experiences\, Arkham Horror: The Card Game is a Living Card Game of Lovecraftian mystery\, monsters\, and madness! With the new core set and new investigator decks\, now is a great time to get started with the game! \nOur local Investigator extraordinaire\, Phil\, will be leading a group through the game\, and will have everything needed to play\, you just need to bring a desire to play! Groups can be of up to 4 at a time\, and sessions should last 2 hours or less.  \nPlease register ahead of time to get a spot! If there is enough interest we may get a second session starting around 2:30 pm. \n 
URL:https://afk.games/event/arkham-horror-the-card-game-learn-to-play/
LOCATION:AFK Games\, 2495 Cedar Street STE 14-B\, Holt\, MI\, 48842\, United States
CATEGORIES:Events
ORGANIZER;CN="AFK Games":MAILTO:support@afk-games.com
END:VEVENT
BEGIN:VEVENT
DTSTART;TZID=America/Detroit:20260509T123000
DTEND;TZID=America/Detroit:20260509T160000
DTSTAMP:20260422T182857
CREATED:20251125T222230Z
LAST-MODIFIED:20251125T222326Z
UID:10004556-1778329800-1778342400@afk.games
SUMMARY:One Piece League Tournament - Saturday
DESCRIPTION:Schedule:\n\nTuesdays @ 6:30 PM\nSaturdays @ 12:30 PM\n\nTournament Duration: The league runs until the release of Set 14\nThe final events for this League are: \n\nOP14 Prereleases\n\nEntry Details:\nEntry Fee: $10 \nIf we are out of participation packs\, entry will be $5. \nFormat: Bo1 Swiss\, 30-minute rounds \nParticipation Prizing: 1 OP13 Pack per entry \nWinner Prizing:\n\n1st Place: Winner Pack\n2nd Place: Winner Pack (if 16+ players)\nTop 16: One Tournament Pack\n\nLeague Prize Pool\n\n$5 per entry contributes to the league prize pool.\n\n 
URL:https://afk.games/event/one-piece-league-tournament-saturday-2/2026-05-09/
LOCATION:AFK Games\, 2495 Cedar Street STE 14-B\, Holt\, MI\, 48842\, United States
CATEGORIES:Bandai,Events,One Piece TCG
ORGANIZER;CN="AFK Games":MAILTO:support@afk-games.com
END:VEVENT
BEGIN:VEVENT
DTSTART;TZID=America/Detroit:20260509T130000
DTEND;TZID=America/Detroit:20260509T190000
DTSTAMP:20260422T182857
CREATED:20260416T051300Z
LAST-MODIFIED:20260416T051300Z
UID:10006075-1778331600-1778353200@afk.games
SUMMARY:Malifaux Community Day
DESCRIPTION:Saturday May 9th\n1pm-7pm\nEntry $10 \nCome join us for an open play casual Malifaux event. Every participant will receive a doorprize from our box of swag\, as well as a BOGO (Buy one get one product free of equal or lesser value) deal on all 3rd edition product for the duration of the event. This event is very beginner friendly\, and the TO will have some teams available for demo use and will help new players interested in the game.
URL:https://afk.games/event/malifaux-community-day/
LOCATION:AFK Games\, 2495 Cedar Street STE 14-B\, Holt\, MI\, 48842\, United States
CATEGORIES:Events,Malifaux,Miniature Games
ORGANIZER;CN="AFK Games":MAILTO:support@afk-games.com
END:VEVENT
END:VCALENDAR