BEGIN:VCALENDAR
VERSION:2.0
PRODID:-//AFK Games - ECPv6.15.20//NONSGML v1.0//EN
CALSCALE:GREGORIAN
METHOD:PUBLISH
X-WR-CALNAME:AFK Games
X-ORIGINAL-URL:https://afk.games
X-WR-CALDESC:Events for AFK Games
REFRESH-INTERVAL;VALUE=DURATION:PT1H
X-Robots-Tag:noindex
X-PUBLISHED-TTL:PT1H
BEGIN:VTIMEZONE
TZID:America/Detroit
BEGIN:DAYLIGHT
TZOFFSETFROM:-0500
TZOFFSETTO:-0400
TZNAME:EDT
DTSTART:20250309T070000
END:DAYLIGHT
BEGIN:STANDARD
TZOFFSETFROM:-0400
TZOFFSETTO:-0500
TZNAME:EST
DTSTART:20251102T060000
END:STANDARD
BEGIN:DAYLIGHT
TZOFFSETFROM:-0500
TZOFFSETTO:-0400
TZNAME:EDT
DTSTART:20260308T070000
END:DAYLIGHT
BEGIN:STANDARD
TZOFFSETFROM:-0400
TZOFFSETTO:-0500
TZNAME:EST
DTSTART:20261101T060000
END:STANDARD
BEGIN:DAYLIGHT
TZOFFSETFROM:-0500
TZOFFSETTO:-0400
TZNAME:EDT
DTSTART:20270314T070000
END:DAYLIGHT
BEGIN:STANDARD
TZOFFSETFROM:-0400
TZOFFSETTO:-0500
TZNAME:EST
DTSTART:20271107T060000
END:STANDARD
END:VTIMEZONE
BEGIN:VEVENT
DTSTART;TZID=America/Detroit:20260426T120000
DTEND;TZID=America/Detroit:20260426T180000
DTSTAMP:20260423T041201
CREATED:20251119T225615Z
LAST-MODIFIED:20251119T225615Z
UID:10004294-1777204800-1777226400@afk.games
SUMMARY:MTG Commander
DESCRIPTION:Join us every Sunday for open Commander play! No entry fee\, just relaxed games\, good company\, and big plays. Bring a deck (or a few!)\, grab a pod\, and enjoy a fun\, welcoming environment for all skill levels.
URL:https://afk.games/event/mtg-commander/2026-04-26/
LOCATION:AFK Games\, 2495 Cedar Street STE 14-B\, Holt\, MI\, 48842\, United States
CATEGORIES:Commander,Events,Magic: The Gathering
ORGANIZER;CN="AFK Games":MAILTO:support@afk-games.com
END:VEVENT
BEGIN:VEVENT
DTSTART;TZID=America/Detroit:20260426T130000
DTEND;TZID=America/Detroit:20260426T170000
DTSTAMP:20260423T041201
CREATED:20260101T205413Z
LAST-MODIFIED:20260101T205413Z
UID:10005482-1777208400-1777222800@afk.games
SUMMARY:Lorcana League
DESCRIPTION:Join us for our Lorcana League every Sunday at 1:00 pm!
URL:https://afk.games/event/lorcana-league/2026-04-26/
LOCATION:AFK Games\, 2495 Cedar Street STE 14-B\, Holt\, MI\, 48842\, United States
CATEGORIES:Events,Lorcana,Ravensburger
ORGANIZER;CN="AFK Games":MAILTO:support@afk-games.com
END:VEVENT
BEGIN:VEVENT
DTSTART;TZID=America/Detroit:20260501T180000
DTEND;TZID=America/Detroit:20260501T220000
DTSTAMP:20260423T041201
CREATED:20251111T193552Z
LAST-MODIFIED:20251111T193552Z
UID:10004228-1777658400-1777672800@afk.games
SUMMARY:Riftbound - Nexus Night
DESCRIPTION:Event Prizing\nParticipation: 1 Booster Pack of Origins (while supplies last\, see prizing charts below)\nEntry Contribution: $6 per player goes into the prize pool \nNexus Night Promo Packs\n\nTop 2: 1× Nexus Night Promo Pack\nTop 8: 1× Nexus Night Promo Pack\n\n(Top 2 also counts toward Top 8 — packs stack.) \n\nStore Credit by Record (4-Round Example\, 8+ Players)\n\n\n\nRecord\nCash-Only Store Credit\nPack-Included Store Credit\n\n\n\n\n4-0-0\n$60\n$36\n\n\n3-0-1\n$40\n$24\n\n\n3-1-0\n$20\n$12\n\n\n2-1-1\n$10\n$6\n\n\n\n(8 or fewer players)\n\n\n\nRecord\nCash-Only Store Credit\nPack-Included Store Credit\n\n\n\n\n3-0\n$40\n$24\n\n\n2-0-1\n$30\n$18\n\n\n2-1\n$20\n$12
URL:https://afk.games/event/riftbound-nexus-night/2026-05-01/
LOCATION:AFK Games\, 2495 Cedar Street STE 14-B\, Holt\, MI\, 48842\, United States
CATEGORIES:Events,Riftbound
ORGANIZER;CN="AFK Games":MAILTO:support@afk-games.com
END:VEVENT
BEGIN:VEVENT
DTSTART;TZID=America/Detroit:20260501T180000
DTEND;TZID=America/Detroit:20260501T220000
DTSTAMP:20260423T041201
CREATED:20260413T190725Z
LAST-MODIFIED:20260413T190824Z
UID:10006069-1777658400-1777672800@afk.games
SUMMARY:Unleashed - Pre-Rift
DESCRIPTION:Tickets\nRegistration: $35 \nTournament Schedule\nThe tournament starts at 6:30 pm.\nDeckbuilding will begin at 6:00 pm.\n30 Minutes for deckbuilding\n3 50-Minute swiss rounds \nEach Player will receive a Prerift Kit which will contain the following:\n1 Mini-precon (15 cards including Champion Legend\, Champion Unit) (1 of 6 varieties at random)\n5 Unleashed Booster Packs\n1 Pre-Rift Promo Card \nPrizes:\nParticipation: 1 Booster pack\nRound win: 1 Booster Packs of Riftbound will be given out per Round Win.\nIf a player has no Match Wins\, they will still receive 1 additional Booster Pack of Riftbound. \nAdditional booster packs from the pre-rift kits will be used for prize support for the top players of the events.
URL:https://afk.games/event/unleashed-pre-rift/
LOCATION:AFK Games\, 2495 Cedar Street STE 14-B\, Holt\, MI\, 48842\, United States
CATEGORIES:Events,Riftbound
ORGANIZER;CN="AFK Games":MAILTO:support@afk-games.com
END:VEVENT
BEGIN:VEVENT
DTSTART;TZID=America/Detroit:20260502T110000
DTEND;TZID=America/Detroit:20260502T180000
DTSTAMP:20260423T041201
CREATED:20260408T205538Z
LAST-MODIFIED:20260408T205538Z
UID:10006067-1777719600-1777744800@afk.games
SUMMARY:Guild Ball - Spring Kick-Off
DESCRIPTION:Guild Ball Spring Kick Off tournament on May 2nd\, 2026. \nTournament Format\n\nRounds – 3\nRound time – 2 Hours\nFormat – Most recent errata to be used. 4.8.\nSoftware – Longshanks\nDoors – 10:30 AM\nStart – 11:00 AM\nEntry – $30\n\nTicket: https://shop.afk.games/products/guild-ball-spring-kick-off \nLongshanks: https://www.longshanks.org/event/32528/ \nLunch will be provided. Gravity Barbeque will be ordered in their party platters to accommodate all. \nwww.gravitysmokehouse.com/ \nPrizes\nPitch Perfect trophy for 1st place \nBloody Cleaver trophy for most take-outs \nFootball Legend trophy for most goals \nGolden Brush trophy for best painted\, voted for over lunch\, store staff may vote as well
URL:https://afk.games/event/guild-ball-spring-kick-off/
LOCATION:AFK Games\, 2495 Cedar Street STE 14-B\, Holt\, MI\, 48842\, United States
CATEGORIES:Events,Miniature Games
ORGANIZER;CN="AFK Games":MAILTO:support@afk-games.com
END:VEVENT
BEGIN:VEVENT
DTSTART;TZID=America/Detroit:20260502T123000
DTEND;TZID=America/Detroit:20260502T160000
DTSTAMP:20260423T041201
CREATED:20251125T222230Z
LAST-MODIFIED:20251125T222326Z
UID:10004555-1777725000-1777737600@afk.games
SUMMARY:One Piece League Tournament - Saturday
DESCRIPTION:Schedule:\n\nTuesdays @ 6:30 PM\nSaturdays @ 12:30 PM\n\nTournament Duration: The league runs until the release of Set 14\nThe final events for this League are: \n\nOP14 Prereleases\n\nEntry Details:\nEntry Fee: $10 \nIf we are out of participation packs\, entry will be $5. \nFormat: Bo1 Swiss\, 30-minute rounds \nParticipation Prizing: 1 OP13 Pack per entry \nWinner Prizing:\n\n1st Place: Winner Pack\n2nd Place: Winner Pack (if 16+ players)\nTop 16: One Tournament Pack\n\nLeague Prize Pool\n\n$5 per entry contributes to the league prize pool.\n\n 
URL:https://afk.games/event/one-piece-league-tournament-saturday-2/2026-05-02/
LOCATION:AFK Games\, 2495 Cedar Street STE 14-B\, Holt\, MI\, 48842\, United States
CATEGORIES:Bandai,Events,One Piece TCG
ORGANIZER;CN="AFK Games":MAILTO:support@afk-games.com
END:VEVENT
END:VCALENDAR