BEGIN:VCALENDAR
VERSION:2.0
PRODID:-//AFK Games - ECPv6.15.20//NONSGML v1.0//EN
CALSCALE:GREGORIAN
METHOD:PUBLISH
X-ORIGINAL-URL:https://afk.games
X-WR-CALDESC:Events for AFK Games
REFRESH-INTERVAL;VALUE=DURATION:PT1H
X-Robots-Tag:noindex
X-PUBLISHED-TTL:PT1H
BEGIN:VTIMEZONE
TZID:America/Detroit
BEGIN:DAYLIGHT
TZOFFSETFROM:-0500
TZOFFSETTO:-0400
TZNAME:EDT
DTSTART:20240310T070000
END:DAYLIGHT
BEGIN:STANDARD
TZOFFSETFROM:-0400
TZOFFSETTO:-0500
TZNAME:EST
DTSTART:20241103T060000
END:STANDARD
BEGIN:DAYLIGHT
TZOFFSETFROM:-0500
TZOFFSETTO:-0400
TZNAME:EDT
DTSTART:20250309T070000
END:DAYLIGHT
BEGIN:STANDARD
TZOFFSETFROM:-0400
TZOFFSETTO:-0500
TZNAME:EST
DTSTART:20251102T060000
END:STANDARD
BEGIN:DAYLIGHT
TZOFFSETFROM:-0500
TZOFFSETTO:-0400
TZNAME:EDT
DTSTART:20260308T070000
END:DAYLIGHT
BEGIN:STANDARD
TZOFFSETFROM:-0400
TZOFFSETTO:-0500
TZNAME:EST
DTSTART:20261101T060000
END:STANDARD
END:VTIMEZONE
BEGIN:VEVENT
DTSTART;TZID=America/Detroit:20250720T120000
DTEND;TZID=America/Detroit:20250720T170000
DTSTAMP:20260424T112034
CREATED:20250709T205411Z
LAST-MODIFIED:20250709T205432Z
UID:10004039-1753012800-1753030800@afk.games
SUMMARY:2025 Michigan Beyblade Championship
DESCRIPTION:Sunday\, July 20th is going to be the MBL’s 2025 Michigan Beyblade Championship! The tournament is going to take place at AFK Games in Holt\, with possibly the largest prize pool to date. \n Prizing \n1st Place: BX-00 Limited Knight Shield | G3 Tournament Prize Gold Edition\n2nd place: BX-00 Limited Cobalt Drake 4-60F | Blue Edition\n3rd place: BX-00 Limited Leon Claw 5-60P | Gold Edition\n4th place: BX-00 Limited Dran Sword | Corocoro Exclusive Blue Edition \nAs usual\, if our player count reaches the max\, more items will be added to raffles/prizing. \nSet to be included if we exceed X amount of players:\n1. A Personalized Michigan 2025 Champion Jersey for 1st place\,\n2. A GOLD Perseus Dark. added to prizing\,\n3. Custom painted launcher grips for top 3\,\n4. Additional beys for raffles\, prizing etc.\, \nRegistration \nPREPAYMENT WILL BE REQUIRED for registration! – you will have 24 hours upon signing up on challonge to complete prepayment\, otherwise your name will be removed.\nPrepay: Cashapp/Paypal – @spandy32 \nEvent Info\n\nEntry Fee: 20\nLocation: AFK Games\, Holt MI.\nDate: July 20th\, 2025\nTime: 12:00\nCheck-in\, 1:00PM – 6:00PM\nTournament. Structure: 6 rounds swiss to 4 points. Final round: Top 16 to 7 points.\nParticipant cap: 64 \nSpecific Rulings:\n\n1. Burst priority: If a burst finish happens at the same time as a KO or Xtreme finish\, the beyblade that Burst will be the loser.\n2. Full Punish: Beys bursting or pocketing without contacting the opponent will be treated like a normal over\, burst\, or xtreme finish. Bladers will move onto the next bey.\n3. Faulty launches: bladers will recieve a warning for the first faulty launch (beyblade falls off the launcher\, beyblade misses the stadium\, blader launches early/late). A reshoot of the same beys will occur. Subsequent warnings will grant the opponent 1 point and a reshoot of the same beys will occur.\n3. Bladers may call for a “relaunch” within 1 second of a round starting. This can only be done once per match and only if a launcher malfunctions or some other reasonable disturbance.\n4. If two Beyblades contact in midair before landing\, a reshoot of the same beys will occur with no penalty.\n5. Painted Beyblades and Ratchet Swaps are permitted given no paint adds more than 0.2g of Weight\n6. Tournament attendees under 18 years of age MUST be accompanied by a chaperone 18 years of age or older.\n7. There is a zero-tolerance policy for abuse. Any participants deemed to be acting harmfully to staff\, organizers\, or other participants will may be disqualified from the event and banned from future events.
URL:https://afk.games/event/2025-michigan-beyblade-championship/
LOCATION:AFK Games\, 2495 Cedar Street STE 14-B\, Holt\, MI\, 48842\, United States
CATEGORIES:Beyblade,Events
ORGANIZER;CN="AFK Games":MAILTO:support@afk-games.com
END:VEVENT
BEGIN:VEVENT
DTSTART;TZID=America/Detroit:20250720T130000
DTEND;TZID=America/Detroit:20250720T170000
DTSTAMP:20260424T112034
CREATED:20230906T214824Z
LAST-MODIFIED:20241212T203942Z
UID:10003112-1753016400-1753030800@afk.games
SUMMARY:Lorcana League
DESCRIPTION:Join us for our Lorcana League every Sunday at 1:00 pm!
URL:https://afk.games/event/lorcana-open-play/2025-07-20/
LOCATION:AFK Games\, 2495 Cedar Street STE 14-B\, Holt\, MI\, 48842\, United States
CATEGORIES:Events,Lorcana,Ravensburger
ORGANIZER;CN="AFK Games":MAILTO:support@afk-games.com
END:VEVENT
BEGIN:VEVENT
DTSTART;TZID=America/Detroit:20250720T130000
DTEND;TZID=America/Detroit:20250720T170000
DTSTAMP:20260424T112034
CREATED:20260101T205413Z
LAST-MODIFIED:20260101T205413Z
UID:10005442-1753016400-1753030800@afk.games
SUMMARY:Lorcana League
DESCRIPTION:Join us for our Lorcana League every Sunday at 1:00 pm!
URL:https://afk.games/event/lorcana-league/2025-07-20/
LOCATION:AFK Games\, 2495 Cedar Street STE 14-B\, Holt\, MI\, 48842\, United States
CATEGORIES:Events,Lorcana,Ravensburger
ORGANIZER;CN="AFK Games":MAILTO:support@afk-games.com
END:VEVENT
BEGIN:VEVENT
DTSTART;TZID=America/Detroit:20250725T184500
DTEND;TZID=America/Detroit:20250725T220000
DTSTAMP:20260424T112034
CREATED:20250709T211712Z
LAST-MODIFIED:20250709T211712Z
UID:10004041-1753469100-1753480800@afk.games
SUMMARY:MTG: Edge of Eternities Prerelease
DESCRIPTION:Event Schedule \nFriday\, June 6th\, 6:45 PM (Hard capped at 56 players) \nSaturday\, June 7th\, 1:00 PM (Two-Headed Giant) (Hard capped at 32 players (16 Teams)) \nSaturday\, June 7th\, 6:00 PM (Hard capped at 30 players) \nSunday\, June 8th\, 12:00 PM (Two-Headed Giant) (Hard capped at 16 players (8 Teams)) \n  \nFormat \nWith your prerelease kit\, build a minimum 40-card deck and compete in a Swiss tournament. \nPrizes \n– 0–1 wins: 1 Booster Pack of Edge of Eternities \n– 2 wins: 2 Booster Packs of Edge of Eternities \n– 3 wins: 3 Booster Packs of Edge of Eternities\n\nEntry: $35
URL:https://afk.games/event/mtg-edge-of-eternities-prerelease/2025-07-25/
LOCATION:AFK Games\, 2495 Cedar Street STE 14-B\, Holt\, MI\, 48842\, United States
CATEGORIES:Events,Magic: The Gathering,Prerelease
ORGANIZER;CN="AFK Games":MAILTO:support@afk-games.com
END:VEVENT
BEGIN:VEVENT
DTSTART;TZID=America/Detroit:20250726T130000
DTEND;TZID=America/Detroit:20250726T180000
DTSTAMP:20260424T112034
CREATED:20250709T211739Z
LAST-MODIFIED:20250709T211741Z
UID:10004042-1753534800-1753552800@afk.games
SUMMARY:MTG: Edge of Eternities Prerelease 2HG
DESCRIPTION:Event Schedule \nFriday\, June 6th\, 6:45 PM (Hard capped at 56 players) \nSaturday\, June 7th\, 1:00 PM (Two-Headed Giant) (Hard capped at 32 players (16 Teams)) \nSaturday\, June 7th\, 6:00 PM (Hard capped at 30 players) \nSunday\, June 8th\, 12:00 PM (Two-Headed Giant) (Hard capped at 16 players (8 Teams)) \n  \nFormat \nWith your prerelease kit\, build a minimum 40-card deck and compete in a Swiss tournament. \nPrizes \n– 0–1 wins: 1 Booster Pack of Edge of Eternities \n– 2 wins: 2 Booster Packs of Edge of Eternities \n– 3 wins: 3 Booster Packs of Edge of Eternities\n\nEntry: $35
URL:https://afk.games/event/mtg-edge-of-eternities-prerelease-2/
LOCATION:AFK Games\, 2495 Cedar Street STE 14-B\, Holt\, MI\, 48842\, United States
CATEGORIES:Events,Magic: The Gathering,Prerelease
ORGANIZER;CN="AFK Games":MAILTO:support@afk-games.com
END:VEVENT
BEGIN:VEVENT
DTSTART;TZID=America/Detroit:20250726T180000
DTEND;TZID=America/Detroit:20250726T220000
DTSTAMP:20260424T112034
CREATED:20250709T211712Z
LAST-MODIFIED:20250709T211712Z
UID:10004043-1753552800-1753567200@afk.games
SUMMARY:MTG: Edge of Eternities Prerelease
DESCRIPTION:Event Schedule \nFriday\, June 6th\, 6:45 PM (Hard capped at 56 players) \nSaturday\, June 7th\, 1:00 PM (Two-Headed Giant) (Hard capped at 32 players (16 Teams)) \nSaturday\, June 7th\, 6:00 PM (Hard capped at 30 players) \nSunday\, June 8th\, 12:00 PM (Two-Headed Giant) (Hard capped at 16 players (8 Teams)) \n  \nFormat \nWith your prerelease kit\, build a minimum 40-card deck and compete in a Swiss tournament. \nPrizes \n– 0–1 wins: 1 Booster Pack of Edge of Eternities \n– 2 wins: 2 Booster Packs of Edge of Eternities \n– 3 wins: 3 Booster Packs of Edge of Eternities\n\nEntry: $35
URL:https://afk.games/event/mtg-edge-of-eternities-prerelease/2025-07-26/
LOCATION:AFK Games\, 2495 Cedar Street STE 14-B\, Holt\, MI\, 48842\, United States
CATEGORIES:Events,Magic: The Gathering,Prerelease
ORGANIZER;CN="AFK Games":MAILTO:support@afk-games.com
END:VEVENT
END:VCALENDAR